BEGIN:VCALENDAR
VERSION:2.0
PRODID:-//SZLOMASPORT - ECPv6.5.1.5//NONSGML v1.0//EN
CALSCALE:GREGORIAN
METHOD:PUBLISH
X-ORIGINAL-URL:https://szlomasport.sk
X-WR-CALDESC:Events for SZLOMASPORT
REFRESH-INTERVAL;VALUE=DURATION:PT1H
X-Robots-Tag:noindex
X-PUBLISHED-TTL:PT1H
BEGIN:VTIMEZONE
TZID:Europe/Bratislava
BEGIN:DAYLIGHT
TZOFFSETFROM:+0100
TZOFFSETTO:+0200
TZNAME:CEST
DTSTART:20190331T010000
END:DAYLIGHT
BEGIN:STANDARD
TZOFFSETFROM:+0200
TZOFFSETTO:+0100
TZNAME:CET
DTSTART:20191027T010000
END:STANDARD
END:VTIMEZONE
BEGIN:VEVENT
DTSTART;VALUE=DATE:20191115
DTEND;VALUE=DATE:20191118
DTSTAMP:20260423T040606
CREATED:20190302T204747Z
LAST-MODIFIED:20191115T140938Z
UID:16914-1573776000-1574035199@szlomasport.sk
SUMMARY:Díjugratás Dunatőkésen
DESCRIPTION:Hall Showjumping Tour 2019--2020\, 2. forduló \nHelyszín: Dunatőkés (Czajlik-rancs\, fedett lovarda) \nKezdés: 8.00 (naponta) \nNaponta négy versenyszám
URL:https://szlomasport.sk/esemeny/dijugratas-dunatokesen-10/
ATTACH;FMTTYPE=image/jpeg:https://szlomasport.sk/wp-content/uploads/2019/03/czajliktelisorozat.jpg
END:VEVENT
BEGIN:VEVENT
DTSTART;VALUE=DATE:20191116
DTEND;VALUE=DATE:20191117
DTSTAMP:20260423T040606
CREATED:20190106T143021Z
LAST-MODIFIED:20191115T141957Z
UID:16739-1573862400-1573948799@szlomasport.sk
SUMMARY:Asztalitenisz Pozsonyeperjesen
DESCRIPTION:II. Viszkocs Zoltán-emlékverseny \nHelyszín: Pozsonyeperjes (tornaterem) \nKezdés: 8.30
URL:https://szlomasport.sk/esemeny/asztalitenisz-pozsonyeperjesen-2/
ATTACH;FMTTYPE=image/jpeg:https://szlomasport.sk/wp-content/uploads/2019/01/jautoklabdak-1.jpg
END:VEVENT
END:VCALENDAR