BEGIN:VCALENDAR
VERSION:2.0
PRODID:-//SZLOMASPORT - ECPv6.5.1.5//NONSGML v1.0//EN
CALSCALE:GREGORIAN
METHOD:PUBLISH
X-ORIGINAL-URL:https://szlomasport.sk
X-WR-CALDESC:Events for SZLOMASPORT
REFRESH-INTERVAL;VALUE=DURATION:PT1H
X-Robots-Tag:noindex
X-PUBLISHED-TTL:PT1H
BEGIN:VTIMEZONE
TZID:Europe/Bratislava
BEGIN:DAYLIGHT
TZOFFSETFROM:+0100
TZOFFSETTO:+0200
TZNAME:CEST
DTSTART:20190331T010000
END:DAYLIGHT
BEGIN:STANDARD
TZOFFSETFROM:+0200
TZOFFSETTO:+0100
TZNAME:CET
DTSTART:20191027T010000
END:STANDARD
END:VTIMEZONE
BEGIN:VEVENT
DTSTART;VALUE=DATE:20190804
DTEND;VALUE=DATE:20190805
DTSTAMP:20260423T082253
CREATED:20190302T202034Z
LAST-MODIFIED:20190710T213036Z
UID:16906-1564876800-1564963199@szlomasport.sk
SUMMARY:Díjugratás Dunatőkésen
DESCRIPTION:XXVI. Tőkési Kupa \nHelyszín: Dunatőkés (Czajlik-ranch) \nKezdés: 14.00 \nVersenyszámok: 100 cm-es akadályverseny\, Abanderáda Díj (110 cm)\, Tőkési Kupa (120 cm)\, kitartásos magasugrás az Igazgatói Kupáért
URL:https://szlomasport.sk/esemeny/dijugratas-dunatokesen-8/
ATTACH;FMTTYPE=image/jpeg:https://szlomasport.sk/wp-content/uploads/2019/03/jtokesikupa1.jpeg
END:VEVENT
BEGIN:VEVENT
DTSTART;VALUE=DATE:20190810
DTEND;VALUE=DATE:20190812
DTSTAMP:20260423T082253
CREATED:20190302T202640Z
LAST-MODIFIED:20190302T202640Z
UID:16908-1565395200-1565567999@szlomasport.sk
SUMMARY:Díjlovaglás Dunatőkésen
DESCRIPTION:Donau-Bohemia Trophy 2019 \nHelyszín: Dunatőkés (fedett lovarda) \nNégy közép-európai ország -- Magyarország\, Ausztria\, Csehország\, Szlovákia -- lovasainak hagyományos versenysorozata \nTovábbi részletek később
URL:https://szlomasport.sk/esemeny/dijlovaglas-dunatokesen-4/
END:VEVENT
BEGIN:VEVENT
DTSTART;VALUE=DATE:20190810
DTEND;VALUE=DATE:20190811
DTSTAMP:20260423T082253
CREATED:20190307T204439Z
LAST-MODIFIED:20190307T204439Z
UID:16936-1565395200-1565481599@szlomasport.sk
SUMMARY:Kosárlabda Gútán
DESCRIPTION:Streetball Cup 2019 \nHelyszín: Gúta \nKezdés: 8.00
URL:https://szlomasport.sk/esemeny/kosarlabda-gutan/
END:VEVENT
BEGIN:VEVENT
DTSTART;VALUE=DATE:20190815
DTEND;VALUE=DATE:20190819
DTSTAMP:20260423T082253
CREATED:20190616T210119Z
LAST-MODIFIED:20190616T210531Z
UID:17377-1565827200-1566172799@szlomasport.sk
SUMMARY:Kézilabda Gútán
DESCRIPTION:Nemzetközi Gúta-kupa \nHelyszín: Gúta \nTovábbi részletek később \n 
URL:https://szlomasport.sk/esemeny/kezilabda-gutan-2/
END:VEVENT
BEGIN:VEVENT
DTSTART;VALUE=DATE:20190817
DTEND;VALUE=DATE:20190818
DTSTAMP:20260423T082253
CREATED:20190316T211106Z
LAST-MODIFIED:20190316T211106Z
UID:16993-1566000000-1566086399@szlomasport.sk
SUMMARY:Westernlovaglás Ógyalla-Bagotán
DESCRIPTION:Westernlovagló Vándorkupa 2019\, tizedik állomás \nHelyszín: Ógyalla-Bagota (Wanted Star rancs) \nKezdés: 11.00 \nVersenyszámok: szlalom és hordókerülés junior\, open és profi open kategóriában
URL:https://szlomasport.sk/esemeny/westernlovaglas-ogyalla-bagotan-2/
END:VEVENT
BEGIN:VEVENT
DTSTART;VALUE=DATE:20190817
DTEND;VALUE=DATE:20190818
DTSTAMP:20260423T082253
CREATED:20190421T170039Z
LAST-MODIFIED:20190421T170039Z
UID:17171-1566000000-1566086399@szlomasport.sk
SUMMARY:Fogathajtás Dunatőkésen
DESCRIPTION:A nyolc versenyből álló 2019-es dél-szlovákiai sorozat hatodik állomása \nHelyszín: Gúta \nKezdés: 11.00 \nVersenyszámok: pontosítás később
URL:https://szlomasport.sk/esemeny/fogathajtas-dunatokesen-6/
ATTACH;FMTTYPE=image/jpeg:https://szlomasport.sk/wp-content/uploads/2019/04/jfogathajt-e1571753544384.jpg
END:VEVENT
BEGIN:VEVENT
DTSTART;VALUE=DATE:20190824
DTEND;VALUE=DATE:20190825
DTSTAMP:20260423T082253
CREATED:20190127T193931Z
LAST-MODIFIED:20190127T193931Z
UID:16809-1566604800-1566691199@szlomasport.sk
SUMMARY:Futás Bősön
DESCRIPTION:5. Bősi Futás \nHelyszín: Bős \nKezdés: 8.00 \nTovábbi részletek később
URL:https://szlomasport.sk/esemeny/futas-boson-3/
END:VEVENT
BEGIN:VEVENT
DTSTART;VALUE=DATE:20190831
DTEND;VALUE=DATE:20190901
DTSTAMP:20260423T082253
CREATED:20181031T142547Z
LAST-MODIFIED:20181031T142547Z
UID:16435-1567209600-1567295999@szlomasport.sk
SUMMARY:Atlétika Vágsellyén
DESCRIPTION:7. Éjszakai Futás \nHelyszín: Vágsellye \nVersenytávok: 7 km\, 3 km \nTovábbi részletek később
URL:https://szlomasport.sk/esemeny/atletika-vagsellyen/
LOCATION:Vágsellye\, Vágsellye\, Szlovákia
END:VEVENT
BEGIN:VEVENT
DTSTART;VALUE=DATE:20190831
DTEND;VALUE=DATE:20190901
DTSTAMP:20260423T082253
CREATED:20190314T212149Z
LAST-MODIFIED:20190412T083023Z
UID:16984-1567209600-1567295999@szlomasport.sk
SUMMARY:Labdarúgás Felszőszeliben
DESCRIPTION:4. Kon-Truss Cup kezdők (U11) tornája \nHelyszín: Felsőszeli (futballpálya) \n 
URL:https://szlomasport.sk/esemeny/labdarugas-felszoszeliben/
ATTACH;FMTTYPE=image/jpeg:https://szlomasport.sk/wp-content/uploads/2019/03/jkonntrussszeli_n.jpg
END:VEVENT
END:VCALENDAR