BEGIN:VCALENDAR
VERSION:2.0
PRODID:-//SZLOMASPORT - ECPv6.5.1.5//NONSGML v1.0//EN
CALSCALE:GREGORIAN
METHOD:PUBLISH
X-WR-CALNAME:SZLOMASPORT
X-ORIGINAL-URL:https://szlomasport.sk
X-WR-CALDESC:Events for SZLOMASPORT
REFRESH-INTERVAL;VALUE=DURATION:PT1H
X-Robots-Tag:noindex
X-PUBLISHED-TTL:PT1H
BEGIN:VTIMEZONE
TZID:Europe/Bratislava
BEGIN:DAYLIGHT
TZOFFSETFROM:+0100
TZOFFSETTO:+0200
TZNAME:CEST
DTSTART:20190331T010000
END:DAYLIGHT
BEGIN:STANDARD
TZOFFSETFROM:+0200
TZOFFSETTO:+0100
TZNAME:CET
DTSTART:20191027T010000
END:STANDARD
END:VTIMEZONE
BEGIN:VEVENT
DTSTART;VALUE=DATE:20190705
DTEND;VALUE=DATE:20190706
DTSTAMP:20260423T093800
CREATED:20190616T213609Z
LAST-MODIFIED:20190703T060732Z
UID:17384-1562284800-1562371199@szlomasport.sk
SUMMARY:Labdarúgás Martoson
DESCRIPTION:A VII. Felvidéki Labdarúgó-bajnokság selejtezője az idei MartFeszt keretében \nHelyszín: Martos és környéke \nKezdés: 10.00 \nA csoportbeosztás -- A csoport: Udvard\, Negyed\, Csallóköznádasd\, Martos -- Esterházy Akadémia \nB csoport: Léva\, Debrőd\, Farnad\, Péder \nC csoport: Szepsi\, Sáró\, Naszvad\, Ipolypásztó \nD csoport: Zselíz\, YBS Dunaszerdahely\, Királyfiakarcsa\, Garammikola \n 
URL:https://szlomasport.sk/esemeny/labdarugas-martoson/
ATTACH;FMTTYPE=image/jpeg:https://szlomasport.sk/wp-content/uploads/2019/06/jFLB-logó.jpg
END:VEVENT
BEGIN:VEVENT
DTSTART;VALUE=DATE:20190706
DTEND;VALUE=DATE:20190707
DTSTAMP:20260423T093800
CREATED:20190512T142850Z
LAST-MODIFIED:20190703T171543Z
UID:17252-1562371200-1562457599@szlomasport.sk
SUMMARY:Kerékpár Tornagörgőn
DESCRIPTION:II. Görgői vadulós hegyikerékpár-verseny \nHelyszín: Tornagörgő és a környező falvak erdei \nRegisztráció: 7.00 \nVersenytávok: 50 km\, 20 km\, 10 km \nRajt\, 9.00: gyerekek (10 km)\, 10.00: 50 km\, 10.15: 20 km
URL:https://szlomasport.sk/esemeny/kerekpar-tornagorgon/
ATTACH;FMTTYPE=image/jpeg:https://szlomasport.sk/wp-content/uploads/2019/05/jgorgoivadulos.jpg
END:VEVENT
BEGIN:VEVENT
DTSTART;VALUE=DATE:20190706
DTEND;VALUE=DATE:20190707
DTSTAMP:20260423T093800
CREATED:20190519T114454Z
LAST-MODIFIED:20190703T172245Z
UID:17282-1562371200-1562457599@szlomasport.sk
SUMMARY:Futás Taksonyon
DESCRIPTION:II. futóverseny a mátyusföldi településen \nHelyszín: Taksony \nVersenyközpont: a kultúrház előtt \nRajt\, 9.30: gyerekek\, 10.00: hobbi\, 3 km\, 10.30: 10 km \nVersenykategóriák: mini (1--6 évesek)\, gyerek (6--8 évesek)\,  junior (9--13 évesek). \nFőtáv -- 10 km\, versenykategóriák: férfiak -- 39 éves korig\, férfiak -- 40--49 évesek\, férfiak 50--59 évesek\, férfiak -- 60 év fölött\, nők -- 34 éves korig\, nők -- 35--49 évesek\, nők -- 50 év fölött. \nHobbifutás -- 3 km\, versenykategóriák: férfiak\, nők \n 
URL:https://szlomasport.sk/esemeny/futas-taksonyon-2/
ATTACH;FMTTYPE=image/jpeg:https://szlomasport.sk/wp-content/uploads/2018/12/rajtolamezőny.jpg
END:VEVENT
BEGIN:VEVENT
DTSTART;VALUE=DATE:20190706
DTEND;VALUE=DATE:20190707
DTSTAMP:20260423T093800
CREATED:20190616T214031Z
LAST-MODIFIED:20190705T170212Z
UID:17386-1562371200-1562457599@szlomasport.sk
SUMMARY:Labdarúgás Martoson
DESCRIPTION:A VII. Felvidéki Labdarúgó-bajnokság döntője az idei MartFeszt keretében \nHelyszín: Martos \nKezdés: 9.00 \nInduló csapatok:  Ímely (címvédő)\, Tornalja (Femaro Liga)\, Egyházasbást\, Fülek\, Sajóvölgye\, Balogvölgye (a Nógrád és Gömör régió selejtezőjéből)\, Udvard\, Csallóköznádasd\, Farnad\, Léva\, Naszvad\, Sáró\, YBS Dunaszerdahely\, Zselíz\, Debrőd\, Szepsi (a martosi selejtezőből).
URL:https://szlomasport.sk/esemeny/labdarugas-martoson-2/
ATTACH;FMTTYPE=image/jpeg:https://szlomasport.sk/wp-content/uploads/2019/06/jFLB-logó.jpg
END:VEVENT
BEGIN:VEVENT
DTSTART;VALUE=DATE:20190707
DTEND;VALUE=DATE:20190708
DTSTAMP:20260423T093800
CREATED:20190519T113341Z
LAST-MODIFIED:20190705T170541Z
UID:17279-1562457600-1562543999@szlomasport.sk
SUMMARY:Labdarúgás Szímőn
DESCRIPTION:Biopulse Kapusok Párbaja \nHelszín: Szímő (futballpálya) \nKezdés: 13.00 \n 
URL:https://szlomasport.sk/esemeny/labdarugas-szimon-2/
ATTACH;FMTTYPE=image/jpeg:https://szlomasport.sk/wp-content/uploads/2019/05/jkapusok-kantár-plagátjpg.jpg
END:VEVENT
BEGIN:VEVENT
DTSTART;VALUE=DATE:20190713
DTEND;VALUE=DATE:20190714
DTSTAMP:20260423T093800
CREATED:20190313T102546Z
LAST-MODIFIED:20190710T211231Z
UID:16976-1562976000-1563062399@szlomasport.sk
SUMMARY:Westernlovaglás Tardoskedden
DESCRIPTION:Westernlovagló Vándorkupa 2019\, hetedik állomás \nHelyszín: Tardoskedd (lovasklub) \nKezdés: 11.00 \nVersenyszámok: szlalom és hordókerülés junior\, open és profi open kategóriában
URL:https://szlomasport.sk/esemeny/westernlovaglas-tardoskedden/
ATTACH;FMTTYPE=image/jpeg:https://szlomasport.sk/wp-content/uploads/2019/03/jwestern-tardoskedd.jpg
END:VEVENT
BEGIN:VEVENT
DTSTART;VALUE=DATE:20190713
DTEND;VALUE=DATE:20190714
DTSTAMP:20260423T093800
CREATED:20190421T165602Z
LAST-MODIFIED:20190710T211735Z
UID:17169-1562976000-1563062399@szlomasport.sk
SUMMARY:Fogathajtás Zsigárdon
DESCRIPTION:A nyolc versenyből álló 2019-es dél-szlovákiai sorozat ötödik állomása \nHelyszín: Zsigárd (Kolozsi-rancs) \nKezdés: 11.00 \nVersenyszámok: kettes fogatok akadályhajtása és vadászhajtása
URL:https://szlomasport.sk/esemeny/fogathajtas-zsigardon-5/
ATTACH;FMTTYPE=image/jpeg:https://szlomasport.sk/wp-content/uploads/2019/04/jfogathajt-e1571753544384.jpg
END:VEVENT
BEGIN:VEVENT
DTSTART;VALUE=DATE:20190713
DTEND;VALUE=DATE:20190714
DTSTAMP:20260423T093800
CREATED:20190524T202317Z
LAST-MODIFIED:20190524T202317Z
UID:17306-1562976000-1563062399@szlomasport.sk
SUMMARY:Futás Komáromból Nagymegyerre
DESCRIPTION:4. Futás a komáromi Dunajka állatmenhelytől a nagymegyeri Dogazyl államenhelyig \nRajt: 7.30 \nRészletes műsor megállókkal a plakáton \nHonlapunk az esemény médiapartnere
URL:https://szlomasport.sk/esemeny/futas-komarombol-nagymegyerre-2/
ATTACH;FMTTYPE=image/jpeg:https://szlomasport.sk/wp-content/uploads/2019/05/jmenhelyek.jpg
END:VEVENT
BEGIN:VEVENT
DTSTART;VALUE=DATE:20190720
DTEND;VALUE=DATE:20190721
DTSTAMP:20260423T093800
CREATED:20190314T212634Z
LAST-MODIFIED:20190710T212241Z
UID:16986-1563580800-1563667199@szlomasport.sk
SUMMARY:Westernlovaglás Naszvadon
DESCRIPTION:Westernlovagló Vándorkupa 2019\, nyolcadik állomás \nHelyszín: Naszvad (Kepaso) \nKezdés: 11.00 \nVersenyszámok: szlalom és hordókerülés junior\, open és profi open kategóriában
URL:https://szlomasport.sk/esemeny/westernlovaglas-naszvadon-2/
ATTACH;FMTTYPE=image/jpeg:https://szlomasport.sk/wp-content/uploads/2019/03/jwesternnaszvad.jpg
END:VEVENT
BEGIN:VEVENT
DTSTART;VALUE=DATE:20190721
DTEND;VALUE=DATE:20190722
DTSTAMP:20260423T093800
CREATED:20190428T081225Z
LAST-MODIFIED:20190718T101157Z
UID:17193-1563667200-1563753599@szlomasport.sk
SUMMARY:Futás Losonc és Rapp között
DESCRIPTION:7. Ipoly menti Futás \nVersenyközpont: Rapp (futballpálya) \nRajt: 18.00 (Losonc\, a Timrava-színház előtt) \nCél: Rapp (futballpálya) \nVersenytáv: 6\,5 km \nLehet futni és gyalogolni (nordic walking)
URL:https://szlomasport.sk/esemeny/futas-losonc-es-rapp-kozott/
ATTACH;FMTTYPE=image/jpeg:https://szlomasport.sk/wp-content/uploads/2019/04/jipelsky-beh.jpg
END:VEVENT
BEGIN:VEVENT
DTSTART;VALUE=DATE:20190727
DTEND;VALUE=DATE:20190728
DTSTAMP:20260423T093800
CREATED:20190314T213154Z
LAST-MODIFIED:20190710T212640Z
UID:16988-1564185600-1564271999@szlomasport.sk
SUMMARY:Westernlovaglás Tornócon
DESCRIPTION:Westernlovagló Vándorkupa 2019\, kilencedik állomás \nHelyszín: Tornóc (Láng-udvar) \nKezdés: 11.00 \nVersenyszámok: szlalom és hordókerülés junior\, open és profi open kategóriában
URL:https://szlomasport.sk/esemeny/westernlovaglas-tornocon-2/
ATTACH;FMTTYPE=image/jpeg:https://szlomasport.sk/wp-content/uploads/2019/03/jwesterntornoc.jpg
END:VEVENT
BEGIN:VEVENT
DTSTART;VALUE=DATE:20190727
DTEND;VALUE=DATE:20190728
DTSTAMP:20260423T093800
CREATED:20190726T074937Z
LAST-MODIFIED:20190726T074937Z
UID:17522-1564185600-1564271999@szlomasport.sk
SUMMARY:Labdarúgás Csallóköztárnokon
DESCRIPTION:2. Sztárnok Kupa négy település csapatainak tornája \nHelyszín: Csallóköztárnok \nKezdés: 13.00 \nInduló csapatok: Retro Tejfalu\, Nagyszarva\, Felbár\, Csallóköztárnok \nKözben\, 16.00: Csallóköztárnok--Nagyszarva diákmérkőzés (U13) \nMűsor a plakáton \n 
URL:https://szlomasport.sk/esemeny/labdarugas-csallokoztarnokon/
ATTACH;FMTTYPE=image/jpeg:https://szlomasport.sk/wp-content/uploads/2019/07/jsztarnok-kupa.jpg
END:VEVENT
END:VCALENDAR