BEGIN:VCALENDAR
VERSION:2.0
PRODID:-//SZLOMASPORT - ECPv6.5.1.5//NONSGML v1.0//EN
CALSCALE:GREGORIAN
METHOD:PUBLISH
X-WR-CALNAME:SZLOMASPORT
X-ORIGINAL-URL:https://szlomasport.sk
X-WR-CALDESC:Events for SZLOMASPORT
REFRESH-INTERVAL;VALUE=DURATION:PT1H
X-Robots-Tag:noindex
X-PUBLISHED-TTL:PT1H
BEGIN:VTIMEZONE
TZID:Europe/Bratislava
BEGIN:DAYLIGHT
TZOFFSETFROM:+0100
TZOFFSETTO:+0200
TZNAME:CEST
DTSTART:20190331T010000
END:DAYLIGHT
BEGIN:STANDARD
TZOFFSETFROM:+0200
TZOFFSETTO:+0100
TZNAME:CET
DTSTART:20191027T010000
END:STANDARD
END:VTIMEZONE
BEGIN:VEVENT
DTSTART;VALUE=DATE:20190504
DTEND;VALUE=DATE:20190505
DTSTAMP:20260423T120232
CREATED:20190307T211729Z
LAST-MODIFIED:20190503T055744Z
UID:16945-1556928000-1557014399@szlomasport.sk
SUMMARY:Westernlovaglás Gútán
DESCRIPTION:Westernlovagló Vándorkupa 2019\, első állomás \nHelyszín: Gúta (Szekeres-rancs) \nKezdés: 10.00 \nVersenyszámok: szlalom és hordókerülés junior\, open\, profi open és szenior kategóriában
URL:https://szlomasport.sk/esemeny/westernlovaglas-gutan-2/
ATTACH;FMTTYPE=image/jpeg:https://szlomasport.sk/wp-content/uploads/2019/03/westerngutaszekeres.jpg
END:VEVENT
BEGIN:VEVENT
DTSTART;VALUE=DATE:20190504
DTEND;VALUE=DATE:20190505
DTSTAMP:20260423T120232
CREATED:20190329T223716Z
LAST-MODIFIED:20190503T055145Z
UID:17057-1556928000-1557014399@szlomasport.sk
SUMMARY:Futás Füleken
DESCRIPTION:12. Füleki Terepfutás\, a Nógrádi Futóliga első eseménye \nHelyszín: Fülek \nVersenyközpont: Fülek (FTC-stadion) \nVersenytávok: 200 m\, 400 m\, 1 km\, 2 km (6-tól 15 éves korig)\, 13 km\, 5 km \nRajt: 10.00 (gyerekek\, diákok)\, 13.00 (főtávok)
URL:https://szlomasport.sk/esemeny/futas-fuleken-2/
ATTACH;FMTTYPE=image/jpeg:https://szlomasport.sk/wp-content/uploads/2019/03/jfulekikroszzplagat.jpg
END:VEVENT
BEGIN:VEVENT
DTSTART;VALUE=DATE:20190504
DTEND;VALUE=DATE:20190505
DTSTAMP:20260423T120232
CREATED:20190413T190538Z
LAST-MODIFIED:20190413T190821Z
UID:17135-1556928000-1557014399@szlomasport.sk
SUMMARY:Fogathajtás Felsőszeliben
DESCRIPTION:A nyolc versenyből álló 2019-es dél-szlovákiai sorozat első állomása \nHelyszín: Felsőszeli (futballpálya) \nKezdés: 11.00 \nVersenyszámok: akadályhajtás (egyes és kettes fogatok)\, vadászhajtás\, polgármesterek fogathajtása
URL:https://szlomasport.sk/esemeny/fogathajtas-felsoszeliben-3/
ATTACH;FMTTYPE=image/jpeg:https://szlomasport.sk/wp-content/uploads/2019/04/jfogathajt-e1571753544384.jpg
END:VEVENT
BEGIN:VEVENT
DTSTART;VALUE=DATE:20190508
DTEND;VALUE=DATE:20190509
DTSTAMP:20260423T120232
CREATED:20190428T185557Z
LAST-MODIFIED:20190428T185557Z
UID:17198-1557273600-1557359999@szlomasport.sk
SUMMARY:Labdarúgás Galántán
DESCRIPTION:Négy ország kispályás labdarúgó-válogatottjának nemzetközi tornája\, az EMF Nations Games 2019 európai tornasorozatának első állomása \nHelyszín: Galánta (a helyi Slovan stadionja) \nInduló országok: Magyarország (Eb-bronzérmes -- 2017)\, Csehország (világbajnok -- 2017\, Európa-bajnok -- 2018)\, Anglia (4. a 2018-as Eb-n) és Szlovákia \nMűsor: 9.00: Anglia--Csehország\n10.00: Mozgáskárosult sportolók mérkőzése\n11.00: Megnyitó\n11.30: Szlovákia--Magyarország\n12.30: Slovan Galanta--DAC (U9-es csapatok mérkőzése)\n13.00: Anglia--Szlovákia\n14.00: Csehország--Magyarország\n15.00: GA Interliga-értékelés\n15.30: Anglia--Magyarország\n16.30: Csehország--Szlovákia\n17.30: Eredményhirdetés
URL:https://szlomasport.sk/esemeny/labdarugas-galantan-3/
ATTACH;FMTTYPE=image/jpeg:https://szlomasport.sk/wp-content/uploads/2019/04/jplakatgalantamáj-8_n.jpg
END:VEVENT
BEGIN:VEVENT
DTSTART;VALUE=DATE:20190511
DTEND;VALUE=DATE:20190512
DTSTAMP:20260423T120232
CREATED:20190224T200332Z
LAST-MODIFIED:20190508T184905Z
UID:16894-1557532800-1557619199@szlomasport.sk
SUMMARY:Futás Nyárasdon
DESCRIPTION:5. Májusi futás az egészségért \nHelyszín: Nyárasd \nVersenyközpont: alapiskola \nRajt: 9.00 (gyerekek)\, 11.00: főtávok (5 km -- gyalogolni is lehet\, 10 km) \n 
URL:https://szlomasport.sk/esemeny/futas-nyarasdon-2/
ATTACH;FMTTYPE=image/jpeg:https://szlomasport.sk/wp-content/uploads/2019/02/jnyarasdfutkep_n.jpg
END:VEVENT
BEGIN:VEVENT
DTSTART;VALUE=DATE:20190511
DTEND;VALUE=DATE:20190512
DTSTAMP:20260423T120232
CREATED:20190508T190826Z
LAST-MODIFIED:20190508T190826Z
UID:17241-1557532800-1557619199@szlomasport.sk
SUMMARY:Futás Bátorkesziben
DESCRIPTION:12. szőlőhegyi futóverseny a 14. borfesztivál keretében \nHelyszín: Bátorkeszi és környéke \nVersenyközpont: a helyi magyar alapiskola \nVersenytávok: 600 m\, 1200 m\, 4300 m\, 10 ezer m
URL:https://szlomasport.sk/esemeny/futas-batorkesziben/
ATTACH;FMTTYPE=image/jpeg:https://szlomasport.sk/wp-content/uploads/2019/05/jfutas.jpg
END:VEVENT
BEGIN:VEVENT
DTSTART;VALUE=DATE:20190514
DTEND;VALUE=DATE:20190515
DTSTAMP:20260423T120232
CREATED:20190430T090050Z
LAST-MODIFIED:20190512T182545Z
UID:17204-1557792000-1557878399@szlomasport.sk
SUMMARY:Atlétika Ipolyságon
DESCRIPTION:Alapiskolások Lévai járási bajnoksága \nHelyszín: Ipolyság (városi stadion) \nKezdés: 9.30 \nVersenyszámok: 60 m (fiúk\, lányok)\, 300 m (f\, l)\, 800 m (l)\, 1000 m (f)\, távolugrás (f\, l)\, magasugrás (f\, l)\, súlylökés (f\, l)\, krikettlabda-dobás (f\, l)\, 4x60 m váltó (f\, l)
URL:https://szlomasport.sk/esemeny/atletika-ipolysagon-2/
END:VEVENT
BEGIN:VEVENT
DTSTART;VALUE=DATE:20190518
DTEND;VALUE=DATE:20190519
DTSTAMP:20260423T120232
CREATED:20190209T191418Z
LAST-MODIFIED:20190517T093055Z
UID:16863-1558137600-1558223999@szlomasport.sk
SUMMARY:Futás Lakszakállason
DESCRIPTION:VI. MozgatLak \nHelyszín: Lakszakállas és környéke \nVersenytávok: 10 km\, 4 km\, 1200 m\, 400 m\, 150 m \nRajt-- 11.00: bemelegítés\, 11.10: ovisok (150 m)\,  11.20: alsó tagozatos alapiskolások  (400 m)\, 11.30: felső tagozatos alapiskolások (1200 m)\, 12.15: (4 km)\,  13.00: (10 km).
URL:https://szlomasport.sk/esemeny/futas-lakszakallason-2/
ATTACH;FMTTYPE=image/jpeg:https://szlomasport.sk/wp-content/uploads/2019/02/jVI.-mozgatlak.jpg
END:VEVENT
BEGIN:VEVENT
DTSTART;VALUE=DATE:20190518
DTEND;VALUE=DATE:20190519
DTSTAMP:20260423T120232
CREATED:20190310T203420Z
LAST-MODIFIED:20190517T093759Z
UID:16953-1558137600-1558223999@szlomasport.sk
SUMMARY:Westernlovaglás Felsőszeliben
DESCRIPTION:Westernlovagló Vándorkupa 2019\, második állomás \nHelyszín: -Felsőszeli (Nyerges PT) \nKezdés: 11.00 \nVersenyszámok: szlalom és hordókerülés junior\, open \, profi open és szenior kategóriában
URL:https://szlomasport.sk/esemeny/westernlovaglas-felsoszeliben-2/
ATTACH;FMTTYPE=image/jpeg:https://szlomasport.sk/wp-content/uploads/2019/03/jwesternfelsoszeli.jpg
END:VEVENT
BEGIN:VEVENT
DTSTART;VALUE=DATE:20190519
DTEND;VALUE=DATE:20190520
DTSTAMP:20260423T120232
CREATED:20190428T191910Z
LAST-MODIFIED:20190517T094439Z
UID:17202-1558224000-1558310399@szlomasport.sk
SUMMARY:Kerékpár Losoncon
DESCRIPTION:5. Nógrádi Pedál hegyiverseny \nHelyszín: Losonc és környéke \nVersenyközpont: Losonc (fürdő) \nNevezés: 8.30 \nRajt -- 10.30: gyerekek\, 11.00: 50 km\, 11.15: 25 km
URL:https://szlomasport.sk/esemeny/kerekpar-losoncon/
ATTACH;FMTTYPE=image/jpeg:https://szlomasport.sk/wp-content/uploads/2019/04/jlosonci-pedal2019.jpg
END:VEVENT
BEGIN:VEVENT
DTSTART;VALUE=DATE:20190525
DTEND;VALUE=DATE:20190526
DTSTAMP:20260423T120232
CREATED:20190313T101605Z
LAST-MODIFIED:20190522T212737Z
UID:16972-1558742400-1558828799@szlomasport.sk
SUMMARY:Futás Gútán
DESCRIPTION:VI. DGS Dögös Sprint jótékonysági futóverseny a köbölkúti mozgássérült\, Kómár Nati megsegítésére \nHelyszín: Gúta (vízimalom múzeum\, a Kis-Duna holtágánál) \nKezdés: 8.00 \nVersenytávok: 3 km\, 7 km\, 14 km \nÚtvonal: Malom múzeum--városközpont--vissza a rajthoz
URL:https://szlomasport.sk/esemeny/futas-gutan-3/
ATTACH;FMTTYPE=image/jpeg:https://szlomasport.sk/wp-content/uploads/2019/03/dgs2019_n.jpg
END:VEVENT
BEGIN:VEVENT
DTSTART;VALUE=DATE:20190525
DTEND;VALUE=DATE:20190526
DTSTAMP:20260423T120232
CREATED:20190430T091101Z
LAST-MODIFIED:20190522T215149Z
UID:17206-1558742400-1558828799@szlomasport.sk
SUMMARY:Lósport és futás Dunaszerdahelyen
DESCRIPTION:V. Felvidéki Vágta és Futás az V. Felvidéki Vágtán \nHelyszín: Dunaszerdahely (Sikabonyi repülőtér: vágta\, Reptér utca vége: futás) \nRajt - Felvidéki Vágta -- 11.30: három előfutam\, 17.30: V. Žitnostrovský galop (szlovák selejtező a budapesti Nemzeti Vágta nemzetközi futamára)\, utána Felvidéki Vágta (döntő) -- a Nemzeti Vágta dunaszerdahelyi előfutama) \nFutóverseny\, 14.00: 300 m\, gyerekek)\, 14.20: 1 km\, 14.30: 5 km\, 10 km \nAz V. Felividéki Vágta indulói (települések indítanak lovaspárost): Dunaszerdahely\, Nyárasd\, Alistál\, Nagymegyer\, Vághosszúfalu\, Illésháza (a címvédő Schavel Péter lovagol\, Nyékvárkony színeiben nyert tavaly)\, Naszvad\, Tallós. \n Az V. Žitnostrovský galop indulói: Šoporňa\, Šintava \n 
URL:https://szlomasport.sk/esemeny/futas-dunaszerdahelyen/
ATTACH;FMTTYPE=image/jpeg:https://szlomasport.sk/wp-content/uploads/2019/04/jfussa-vagtann.jpg
END:VEVENT
BEGIN:VEVENT
DTSTART;VALUE=DATE:20190525
DTEND;VALUE=DATE:20190526
DTSTAMP:20260423T120232
CREATED:20190512T141240Z
LAST-MODIFIED:20190512T141240Z
UID:17249-1558742400-1558828799@szlomasport.sk
SUMMARY:Birkózás Dunaszerdahelyen
DESCRIPTION:Csallóközi Kupa nemzetközi szabadfogású verseny \nHelyszín: Dunaszerdahely (városi sportcsarnok) \nKezdés: 11.00
URL:https://szlomasport.sk/esemeny/birkozas-dunaszerdahelyen-3/
ATTACH;FMTTYPE=image/jpeg:https://szlomasport.sk/wp-content/uploads/2019/05/jcsallokozikupabirok.jpg
END:VEVENT
BEGIN:VEVENT
DTSTART;VALUE=DATE:20190526
DTEND;VALUE=DATE:20190527
DTSTAMP:20260423T120232
CREATED:20190518T172817Z
LAST-MODIFIED:20190523T220027Z
UID:17273-1558828800-1558915199@szlomasport.sk
SUMMARY:Gyalogtúra Fülekről
DESCRIPTION:Madárhang-felismerő gyaloglás a természetben a Novohrad-Nógrád Geopark J. Sz. T. és az NRTC szervezésében \nÚtvonal: Óbást--Sátorosbánya \nTáv: 17 km \nIndulás (tömegközlekedéssel: 7.30 a füleki kisállomásról\, vissza 16.53 Sátorosbányáról \n 
URL:https://szlomasport.sk/esemeny/gyalogtura-fulekrol-4/
ATTACH;FMTTYPE=image/jpeg:https://szlomasport.sk/wp-content/uploads/2019/05/jmadarhangfulek_n.jpg
END:VEVENT
END:VCALENDAR