BEGIN:VCALENDAR
VERSION:2.0
PRODID:-//SZLOMASPORT - ECPv6.5.1.5//NONSGML v1.0//EN
CALSCALE:GREGORIAN
METHOD:PUBLISH
X-ORIGINAL-URL:https://szlomasport.sk
X-WR-CALDESC:Events for SZLOMASPORT
REFRESH-INTERVAL;VALUE=DURATION:PT1H
X-Robots-Tag:noindex
X-PUBLISHED-TTL:PT1H
BEGIN:VTIMEZONE
TZID:Europe/Bratislava
BEGIN:DAYLIGHT
TZOFFSETFROM:+0100
TZOFFSETTO:+0200
TZNAME:CEST
DTSTART:20190331T010000
END:DAYLIGHT
BEGIN:STANDARD
TZOFFSETFROM:+0200
TZOFFSETTO:+0100
TZNAME:CET
DTSTART:20191027T010000
END:STANDARD
END:VTIMEZONE
BEGIN:VEVENT
DTSTART;TZID=Europe/Bratislava:20190303T000000
DTEND;TZID=Europe/Bratislava:20190303T235900
DTSTAMP:20260423T143630
CREATED:20190209T190929Z
LAST-MODIFIED:20190228T212538Z
UID:16860-1551571200-1551657540@szlomasport.sk
SUMMARY:Labdarúgás Füleken
DESCRIPTION:Diákok (U13) teremtornája \nHelyszín: Fülek (az FTC sportcsarnoka) \nKezdés: 9.00
URL:https://szlomasport.sk/esemeny/labdarugas-fuleken-5/
ATTACH;FMTTYPE=image/jpeg:https://szlomasport.sk/wp-content/uploads/2019/02/jfulekU13marc3_n.jpg
END:VEVENT
BEGIN:VEVENT
DTSTART;VALUE=DATE:20190309
DTEND;VALUE=DATE:20190311
DTSTAMP:20260423T143630
CREATED:20181031T140843Z
LAST-MODIFIED:20190224T195739Z
UID:16430-1552089600-1552262399@szlomasport.sk
SUMMARY:Díjugratás Dunatőkésen
DESCRIPTION:Hall Showjumping Tour 2018--2019\, 4. forduló \nHelyszín: Dunatőkés (Czajlik-rancs\, fedett lovarda) \nKezdés: 9.00 (mindkét napon) \nNaponta négy versenyszám
URL:https://szlomasport.sk/esemeny/dijugratas-dunatokesen-6/
LOCATION:Dunatőkés\, Dunatőkés\, Szlovákia
ATTACH;FMTTYPE=image/jpeg:https://szlomasport.sk/wp-content/uploads/2018/10/jCzajlik-BB-feketefeher.jpg
END:VEVENT
BEGIN:VEVENT
DTSTART;VALUE=DATE:20190322
DTEND;VALUE=DATE:20190323
DTSTAMP:20260423T143630
CREATED:20190319T063729Z
LAST-MODIFIED:20190319T063729Z
UID:17012-1553212800-1553299199@szlomasport.sk
SUMMARY:Gokart Pelsőcön
DESCRIPTION:Karting Arena Cup teremversenysorozat kicsúcsosodása \nHelyszín: Pelsőc \nNevezés: 17.00-tól \nKezdés: 19.00
URL:https://szlomasport.sk/esemeny/gokart-pelsocon/
ATTACH;FMTTYPE=image/jpeg:https://szlomasport.sk/wp-content/uploads/2019/03/jpelsőc-gokart_n.jpg
END:VEVENT
BEGIN:VEVENT
DTSTART;VALUE=DATE:20190323
DTEND;VALUE=DATE:20190324
DTSTAMP:20260423T143630
CREATED:20190127T195253Z
LAST-MODIFIED:20190321T190651Z
UID:16813-1553299200-1553385599@szlomasport.sk
SUMMARY:MMA-ketrecharc Érsekújvárott
DESCRIPTION:Cage Fighting Nové Zámky nemzetközi amatőr és profigála \nHelyszín: Érsekújvár (Millennium Sportcsarnok) \nKezdés: 18.00 \nMeccsmenü: 10 amatőr és 6 profimérkőzés \nFőmérkőzés: Roland Čambal (szlovák)--Maksym Soróka (ukrán)
URL:https://szlomasport.sk/esemeny/mma-ketecharc-ersekujvarott/
ATTACH;FMTTYPE=image/jpeg:https://szlomasport.sk/wp-content/uploads/2019/01/jMMAnz.jpg
END:VEVENT
BEGIN:VEVENT
DTSTART;VALUE=DATE:20190323
DTEND;VALUE=DATE:20190324
DTSTAMP:20260423T143630
CREATED:20190307T204046Z
LAST-MODIFIED:20190321T191519Z
UID:16934-1553299200-1553385599@szlomasport.sk
SUMMARY:Kyokushin karate Dunaszerdahelyen
DESCRIPTION:Szlovák bajnokság a Seishin Karateklub szervezésében \nHelyszín: Dunaszerdahely (városi sportcsanok) \nKezdés: 10.00 \n4 ország 330 versenyzője indul
URL:https://szlomasport.sk/esemeny/kyokushin-karate-dunaszerdahelyen-2/
ATTACH;FMTTYPE=image/jpeg:https://szlomasport.sk/wp-content/uploads/2019/03/jseishinkarate_samobor-03_0.jpg
END:VEVENT
BEGIN:VEVENT
DTSTART;VALUE=DATE:20190328
DTEND;VALUE=DATE:20190329
DTSTAMP:20260423T143630
CREATED:20190314T211610Z
LAST-MODIFIED:20190314T211734Z
UID:16981-1553731200-1553817599@szlomasport.sk
SUMMARY:Futsal Komáromban
DESCRIPTION:A Szlovákiai Magyar Gimnáziumok Országos Bajnokságának 26. kiírása -- fiúk futsaltornája \nHelyszín: Komárom (városi sportcsarnok) \nKezdés: 8.30 \nHázigazda: a Selye János Gimnázium
URL:https://szlomasport.sk/esemeny/futsal-komaromban/
ATTACH;FMTTYPE=image/jpeg:https://szlomasport.sk/wp-content/uploads/2019/03/futsal-jogyoztes.jpg
END:VEVENT
BEGIN:VEVENT
DTSTART;VALUE=DATE:20190330
DTEND;VALUE=DATE:20190401
DTSTAMP:20260423T143630
CREATED:20181031T142033Z
LAST-MODIFIED:20190224T195456Z
UID:16433-1553904000-1554076799@szlomasport.sk
SUMMARY:Díjugratás Dunatőkésen
DESCRIPTION:Hall Showjumping Tour 2018--2019\, döntő \nHelyszín: Dunatőkés (Czajlik-rancs\, fedett lovarda) \nKezdés: 9.00 (mindkét napon) \nNaponta négy versenyszám
URL:https://szlomasport.sk/esemeny/dijugratas-dunatokesen-7/
LOCATION:Dunatőkés\, Dunatőkés\, Szlovákia
ATTACH;FMTTYPE=image/jpeg:https://szlomasport.sk/wp-content/uploads/2018/10/jCzajlik-BB-feketefeher.jpg
END:VEVENT
BEGIN:VEVENT
DTSTART;VALUE=DATE:20190330
DTEND;VALUE=DATE:20190331
DTSTAMP:20260423T143630
CREATED:20190307T205041Z
LAST-MODIFIED:20190307T205041Z
UID:16938-1553904000-1553990399@szlomasport.sk
SUMMARY:Sakk Érsekújvárott
DESCRIPTION:7. Márciusi Huszárok ifjúsági rapidtorna \nHelyszín: Érsekújvár (Csemadok ház nagyterme) \nLebonyolítás: 9. forduló\, 2x15 perces partik\, felső korhatár 18 év \nNevezés: 8.00--8.45 \nKezdés: 9.00 \n2018-ban a szentpéteri Csémy Dávid győzött
URL:https://szlomasport.sk/esemeny/sakk-ersekujvarott-2/
END:VEVENT
BEGIN:VEVENT
DTSTART;VALUE=DATE:20190330
DTEND;VALUE=DATE:20190331
DTSTAMP:20260423T143630
CREATED:20190324T203235Z
LAST-MODIFIED:20190327T095111Z
UID:17040-1553904000-1553990399@szlomasport.sk
SUMMARY:Gyalogtúra Fülekről
DESCRIPTION:Vezetett gyalogtúra Novohrad-Nógrád Geopark és a füleki Nógrádi Turisztikai és Információs Központ szervezésében \nTalálkozó: Fülek (a városi művelődési központ előtt)\, 9.00 \nÚtvonal: Fülek - Füleki sziklák - kőkút - Bolgáromi bánya - Bolgárom - Fülek \nTáv: 13 km \nTúravezetők: Gaál Lajos\, Illés Zoltán \nJelentkezés és további információk: Nógrádi Turisztikai Információs Központ irodája (Fülek\, Várfelső utca 14.\, tel.: +421 (0)47-43-82-016\, e-mail: ntic@filakovo.sk) vagy a Geopark Novohrad-Nógrád J.SZ.T. irodája (Fülek\, Várfelső utca 14.\, mobil: +421 (0)917 646 551\, e-mail: geopark.filakovo@gmail.com. \nA gyalogtúrára előzetes bejelentkezés szükséges legkésőbb 2019. március 29-ig!
URL:https://szlomasport.sk/esemeny/gyalogtura-fulekrol-3/
ATTACH;FMTTYPE=image/jpeg:https://szlomasport.sk/wp-content/uploads/2019/03/jgeoparktura_marec30-2019hu.jpg
END:VEVENT
BEGIN:VEVENT
DTSTART;VALUE=DATE:20190330
DTEND;VALUE=DATE:20190331
DTSTAMP:20260423T143630
CREATED:20190324T200616Z
LAST-MODIFIED:20190327T104704Z
UID:17032-1553904000-1553990399@szlomasport.sk
SUMMARY:Gyaloglás és kerékpározás Nagymegyerről
DESCRIPTION:X. Sanyi bácsi-emléktúra a nagymegyeri Csigák szervezésében \nTalálkozó: Nagymegyer (Fantázia étterem terasza) \nNevezés: 7.30--8.45 \nMegnyitó: 9.00 \nÚtvonalak -- A (12 km\, gyalog): Nagymegyer--Füzes--Kulcsod \nB (16 km\, gyalog): Nagymegyer--Füzes--Csicsói holtág--Kulcsod \nC (55 km\, kerékpár): Nagymegyer--Ekecs--Lakszakállas--Tany--Csicsó--Nagymegyer (új\, megváltozott útvonal!) \n 
URL:https://szlomasport.sk/esemeny/gyaloglas-es-kerekparozas-nagymegyerrol/
ATTACH;FMTTYPE=image/jpeg:https://szlomasport.sk/wp-content/uploads/2019/03/jmegyercsigaTK-2016-2.jpg
END:VEVENT
END:VCALENDAR