BEGIN:VCALENDAR
VERSION:2.0
PRODID:-//SZLOMASPORT - ECPv6.5.1.5//NONSGML v1.0//EN
CALSCALE:GREGORIAN
METHOD:PUBLISH
X-ORIGINAL-URL:https://szlomasport.sk
X-WR-CALDESC:Events for SZLOMASPORT
REFRESH-INTERVAL;VALUE=DURATION:PT1H
X-Robots-Tag:noindex
X-PUBLISHED-TTL:PT1H
BEGIN:VTIMEZONE
TZID:Europe/Bratislava
BEGIN:DAYLIGHT
TZOFFSETFROM:+0100
TZOFFSETTO:+0200
TZNAME:CEST
DTSTART:20190331T010000
END:DAYLIGHT
BEGIN:STANDARD
TZOFFSETFROM:+0200
TZOFFSETTO:+0100
TZNAME:CET
DTSTART:20191027T010000
END:STANDARD
END:VTIMEZONE
BEGIN:VEVENT
DTSTART;VALUE=DATE:20190105
DTEND;VALUE=DATE:20190106
DTSTAMP:20260423T175628
CREATED:20181125T174300Z
LAST-MODIFIED:20181222T162940Z
UID:16549-1546646400-1546732799@szlomasport.sk
SUMMARY:Futás Gútán
DESCRIPTION:9. Gútai Vízkereszt Maraton\, Félmaraton és Maratonváltó \nHelyszín: Gúta és környéke \nRajt: Vásár tér\, 10.00 \nRajtpisztoly: harci ágyú
URL:https://szlomasport.sk/esemeny/futas-gutan-2/
ATTACH;FMTTYPE=image/jpeg:https://szlomasport.sk/wp-content/uploads/2018/11/vízkereszt_n.jpg
END:VEVENT
BEGIN:VEVENT
DTSTART;VALUE=DATE:20190105
DTEND;VALUE=DATE:20190106
DTSTAMP:20260423T175628
CREATED:20181204T185801Z
LAST-MODIFIED:20190104T114156Z
UID:16604-1546646400-1546732799@szlomasport.sk
SUMMARY:Labdarúgás Vágsellyén
DESCRIPTION:19. Tibi-kupa\, a Vágsellyei járás csapatainak teremfocibajnoksága \nHelyszín: Vágsellye (városi sportcsarnok) \nKezdés: 8.00 \nA csoportbeosztás -- A: Horná Kráľová\, Betonaris Šaľa\, Hody\, Kráľová nad váhom \nB: FC Saliby jun.\, Duslo Šaľa (id. ifik)\, Veča\, Diakovce \nC: Vlčany\, Močenok\, Hájske\, Trnovec nad Váhom
URL:https://szlomasport.sk/esemeny/labdarugas-vagsellyen/
END:VEVENT
BEGIN:VEVENT
DTSTART;VALUE=DATE:20190105
DTEND;VALUE=DATE:20190106
DTSTAMP:20260423T175628
CREATED:20181230T212244Z
LAST-MODIFIED:20181230T212244Z
UID:16708-1546646400-1546732799@szlomasport.sk
SUMMARY:Asztalitenisz Pozsonyeperjesen
DESCRIPTION:9. Pozsonyeperjesi ping-pongmaraton \nHelszín: Pozsonyeperjes (kultúrház) \nKezdés: 11.00 \nKözben kupaversenye a polgármester vándorserlegéért -- 11.00: ifik\, 15.00: felnőttek \n 
URL:https://szlomasport.sk/esemeny/asztalitenisz-pozsonyeperjesen/
ATTACH;FMTTYPE=image/jpeg:https://szlomasport.sk/wp-content/uploads/2018/12/jpozsonyepejespingpong_n.jpg
END:VEVENT
BEGIN:VEVENT
DTSTART;VALUE=DATE:20190105
DTEND;VALUE=DATE:20190106
DTSTAMP:20260423T175628
CREATED:20190104T100648Z
LAST-MODIFIED:20190104T100648Z
UID:16728-1546646400-1546732799@szlomasport.sk
SUMMARY:Gyalogtúra Fülekről
DESCRIPTION:A Nógrádi Turisztikai Információs Központ rendezvénye \nTalálkozó: 8.40 (a füleki vastállomás előtt) \nÚtvonal (az időjárástől függően változhat):  Várgede (vonattal utaznak oda) -- Guda -- Száz-kő --Gortva -- Ajnácskő (vasútállomás) \nTáv: 12 km \nTúravezetők: Illés Zoltán\, Farkas István
URL:https://szlomasport.sk/esemeny/gyalogtura-fulekrol-2/
ATTACH;FMTTYPE=image/jpeg:https://szlomasport.sk/wp-content/uploads/2019/01/jfulekgyalog2019_n.jpg
END:VEVENT
BEGIN:VEVENT
DTSTART;VALUE=DATE:20190113
DTEND;VALUE=DATE:20190114
DTSTAMP:20260423T175628
CREATED:20181211T194554Z
LAST-MODIFIED:20190112T121036Z
UID:16646-1547337600-1547423999@szlomasport.sk
SUMMARY:Teremfoci Somorján
DESCRIPTION:Téli Duna-kupa kezdők nemzetközi mérkőzéssorozata \nHelyszín: Somorja (Samaria Sportközpont) \nA műsor –  9.00: FK Šamorín–FK Zlaté Klasy; 9.25: ŠTK Šamorín–Senec; 9.55: ŠTK Šamorín–Orechové Potôň; 10.20: Senec–FK Zlaté Klasy; 10.45: FK Zlaté Klasy–ŠTK Šamorín; 11.10: FK Šamorín–Senec; 11.25: FK Zlaté Klasy–Orechová Potôn.
URL:https://szlomasport.sk/esemeny/teremfoci-somorjan/
ATTACH;FMTTYPE=image/jpeg:https://szlomasport.sk/wp-content/uploads/2018/12/jlabdavonal-Custom.jpg
END:VEVENT
BEGIN:VEVENT
DTSTART;VALUE=DATE:20190119
DTEND;VALUE=DATE:20190121
DTSTAMP:20260423T175628
CREATED:20181211T195337Z
LAST-MODIFIED:20190118T193915Z
UID:16650-1547856000-1548028799@szlomasport.sk
SUMMARY:Kézilabda Naszvadon
DESCRIPTION:Virex-kupa nemzetközi női torna \nHelyszín: Naszvad (Vlahy Jenő Sportcsarnok) \nA műsor – szombat\, 10.00: Budakalász–Šurany; 11.45: Ferplast Nesvady-Imeľ–Močenok; 13.30: Otrokovice–Šurany; 15.15: Močenok– Budakalász; 17.00: Ferplast–Otrokovice. \nVasárnap\, 9.00: Šurany– Močenok; 10.30: Otrokovice–Budakalász; 12.00: Ferplast–Šurany; 13.30: Otrokovice–Močenok; 15.00: Ferplast–Budakalász.
URL:https://szlomasport.sk/esemeny/kezilabda-naszvadon-2/
ATTACH;FMTTYPE=image/jpeg:https://szlomasport.sk/wp-content/uploads/2018/12/nesvady.jpg
END:VEVENT
BEGIN:VEVENT
DTSTART;VALUE=DATE:20190119
DTEND;VALUE=DATE:20190120
DTSTAMP:20260423T175628
CREATED:20190112T125028Z
LAST-MODIFIED:20190112T125028Z
UID:16761-1547856000-1547942399@szlomasport.sk
SUMMARY:Gyaloglás Pozsonyeperjesen
DESCRIPTION:Gyalogtúra Horváth Lászlónak\, a helyi turisztikai egyesület alapító tagjának emlékére \nIndulás: 10.00 (az új autóbuszmegálló elöl) \n 
URL:https://szlomasport.sk/esemeny/gyaloglas-pozsonyeperjesen/
ATTACH;FMTTYPE=image/jpeg:https://szlomasport.sk/wp-content/uploads/2019/01/jPeperjesemlektura.jpg
END:VEVENT
BEGIN:VEVENT
DTSTART;VALUE=DATE:20190126
DTEND;VALUE=DATE:20190127
DTSTAMP:20260423T175628
CREATED:20190106T143721Z
LAST-MODIFIED:20190124T201822Z
UID:16741-1548460800-1548547199@szlomasport.sk
SUMMARY:MMA-harc Komáromban
DESCRIPTION:Mammal\, a Szlovák Amatőr Liga 6. viadala \nHelyszín: Komárom (a Wolf Fight Club terme\, Vár utca 22) \nKezdés: 12.00 \nÖsszesen 22 ketrecharcos mérkőzés
URL:https://szlomasport.sk/esemeny/mma-harc-komaromban-3/
ATTACH;FMTTYPE=image/jpeg:https://szlomasport.sk/wp-content/uploads/2019/01/jMMA-farkasjanu.jpg
END:VEVENT
END:VCALENDAR