BEGIN:VCALENDAR
VERSION:2.0
PRODID:-//SZLOMASPORT - ECPv6.5.1.5//NONSGML v1.0//EN
CALSCALE:GREGORIAN
METHOD:PUBLISH
X-ORIGINAL-URL:https://szlomasport.sk
X-WR-CALDESC:Events for SZLOMASPORT
REFRESH-INTERVAL;VALUE=DURATION:PT1H
X-Robots-Tag:noindex
X-PUBLISHED-TTL:PT1H
BEGIN:VTIMEZONE
TZID:Europe/Bratislava
BEGIN:DAYLIGHT
TZOFFSETFROM:+0100
TZOFFSETTO:+0200
TZNAME:CEST
DTSTART:20180325T010000
END:DAYLIGHT
BEGIN:STANDARD
TZOFFSETFROM:+0200
TZOFFSETTO:+0100
TZNAME:CET
DTSTART:20181028T010000
END:STANDARD
END:VTIMEZONE
BEGIN:VEVENT
DTSTART;VALUE=DATE:20181005
DTEND;VALUE=DATE:20181006
DTSTAMP:20260423T221156
CREATED:20181003T103749Z
LAST-MODIFIED:20181003T103924Z
UID:16382-1538697600-1538783999@szlomasport.sk
SUMMARY:Diákolimpia 2018
DESCRIPTION:A szlovákiai magyar alapiskolások kétévente ismétlődő sporteseményének országos döntője \nHelyszín: Dunaszerdahely \nMűsor --  9.00: ünnepélyes megnyitó (városi sportcsarnok) \n10.30: versenyek öt sportágban (kézilabda\, lányok -- városi sportcsarnok\, kispályás labdarúgás -- a sportgimnázium és a város műfüves pályája\, atlétika -- a sikabonyi futballpálya és a Vámbéry-alapiskola felújított tartánpályája\, asztalitenisz -- sportgimnázium\, sakk -- sportgimnázium) \nHonlapunk a Diákolimpia 2018 médiapartnere
URL:https://szlomasport.sk/esemeny/diakolimpia-2018/
LOCATION:Dunaszerdahely\, Dunaszerdahely\, Szlovákia
END:VEVENT
BEGIN:VEVENT
DTSTART;VALUE=DATE:20181006
DTEND;VALUE=DATE:20181007
DTSTAMP:20260423T221156
CREATED:20181003T105046Z
LAST-MODIFIED:20181004T084021Z
UID:16384-1538784000-1538870399@szlomasport.sk
SUMMARY:Gyalogtúra Bakáról
DESCRIPTION:XXXIII. Duna Menti Gyalogtúra\, a bakai természetjárók hagyományos idényzáró rendezvénye \nGyülekező: 8.00 Baka (kultúrház előtt) \nIndulás: 9.00 \nTáv: 11 km \nÚtvonal: busszal a Duna térségébe\, ott a Dékány tótól a Király rét érintésével vissza a Dékány tóig\, majd busszal vissza Baka központjába \nJó gyaloglást!
URL:https://szlomasport.sk/esemeny/gyalogtura-bakarol/
LOCATION:Baka\, Baka\, Szlovákia
ATTACH;FMTTYPE=image/jpeg:https://szlomasport.sk/wp-content/uploads/2018/10/bakagyalog-Custom.jpg
END:VEVENT
BEGIN:VEVENT
DTSTART;VALUE=DATE:20181006
DTEND;VALUE=DATE:20181007
DTSTAMP:20260423T221156
CREATED:20181003T110217Z
LAST-MODIFIED:20181003T110217Z
UID:16388-1538784000-1538870399@szlomasport.sk
SUMMARY:Westernlovaglás Galántán
DESCRIPTION:Országos westernlovas-bajnokság -- gyorsasági számok \nHelyszín: Galánta (Ezüst tó rancs) \nKezdés: 12.00 \nVersenyszámok: szlalom\, hordókerülés \nBelépés: ingyenes
URL:https://szlomasport.sk/esemeny/westernlovaglas-galantan/
LOCATION:Galánta\, Galánta\, Szlovákia
ATTACH;FMTTYPE=image/jpeg:https://szlomasport.sk/wp-content/uploads/2018/10/westernbajnoksagplagat-Custom.jpg
END:VEVENT
BEGIN:VEVENT
DTSTART;VALUE=DATE:20181006
DTEND;VALUE=DATE:20181007
DTSTAMP:20260423T221156
CREATED:20181003T111228Z
LAST-MODIFIED:20181003T111228Z
UID:16391-1538784000-1538870399@szlomasport.sk
SUMMARY:Gyalogtúra Gömörpéterfaláról
DESCRIPTION:A Medvesalja Polgári Társulás túrája Zabodára \nGyülekező: a Völgy (Gömörpéterfala)\nRegisztráció: 8.00\nIndulás: 8.30\nVárható érkezés: 13.00\nTúravezető: Kovács Roland \n"Az idei szezonzáró gyalogtúra. Gyülekező kivételesen a Völgyben (Gömörpéterfala)\, majd innen autókkal utazunk Ajnácskőre\, mégpedig az Ajnácskői temetőig. Onnan felmegyünk az Ajnácskői-laposra. A sárga jelzést követően pedig eljutunk a Zabodára. Ott megpihenünk\, és megnézzük a táj természeti szépségét. Miután bejártunk mindent\, élményekkel teli indulunk vissza a Völgybe\, a Népi ízek ünnepére." (idézet a szervezők ajánlatából) \n 
URL:https://szlomasport.sk/esemeny/gyalogtura-gomorpeterfalarol/
LOCATION:Gömörpéterfala\, Gömörpéterfala\, Szlovákia
END:VEVENT
END:VCALENDAR