BEGIN:VCALENDAR
VERSION:2.0
PRODID:-//SZLOMASPORT - ECPv6.5.1.5//NONSGML v1.0//EN
CALSCALE:GREGORIAN
METHOD:PUBLISH
X-ORIGINAL-URL:https://szlomasport.sk
X-WR-CALDESC:Events for SZLOMASPORT
REFRESH-INTERVAL;VALUE=DURATION:PT1H
X-Robots-Tag:noindex
X-PUBLISHED-TTL:PT1H
BEGIN:VTIMEZONE
TZID:Europe/Bratislava
BEGIN:DAYLIGHT
TZOFFSETFROM:+0100
TZOFFSETTO:+0200
TZNAME:CEST
DTSTART:20180325T010000
END:DAYLIGHT
BEGIN:STANDARD
TZOFFSETFROM:+0200
TZOFFSETTO:+0100
TZNAME:CET
DTSTART:20181028T010000
END:STANDARD
END:VTIMEZONE
BEGIN:VEVENT
DTSTART;VALUE=DATE:20180701
DTEND;VALUE=DATE:20180702
DTSTAMP:20260424T022406
CREATED:20180629T051820Z
LAST-MODIFIED:20180629T051820Z
UID:16063-1530403200-1530489599@szlomasport.sk
SUMMARY:Foci Vághosszúfalun
DESCRIPTION:Nyári négyes torna \nHelyszín: Vághosszúfalu \nMűsor -- elődöntő\, 13.00: Dlhá nad Váhom--Jatov\, utána: Tešedíkovo--Kráľová nad Váhom\, majd helyosztók következnek \n 
URL:https://szlomasport.sk/esemeny/foci-vaghosszufalun/
LOCATION:Hosszúfalu\, Vághosszúfalu\, Szlovákia
END:VEVENT
BEGIN:VEVENT
DTSTART;VALUE=DATE:20180707
DTEND;VALUE=DATE:20180708
DTSTAMP:20260424T022406
CREATED:20180215T092112Z
LAST-MODIFIED:20180705T090254Z
UID:15507-1530921600-1531007999@szlomasport.sk
SUMMARY:Westernlovaglás Naszvadon
DESCRIPTION:Westernlovagló Vándorkupa 2018\, hatodik állomás és 7. Naszvadi Vágta \nHelyszín: Naszvad (a Kepaso klub rancsa) \nKezdés: 11.00 \nVersenyszámok: naszvadi vágta\, westernlovaglás: szlalom és hordókerülés póni\, junior\, open\, profi open és szenior kategóriában \n 
URL:https://szlomasport.sk/esemeny/westernlovaglas-naszvadon/
LOCATION:Naszvad\, Naszvad\, Szlovákia
ATTACH;FMTTYPE=image/jpeg:https://szlomasport.sk/wp-content/uploads/2018/02/nesvady-Custom.jpg
END:VEVENT
BEGIN:VEVENT
DTSTART;VALUE=DATE:20180707
DTEND;VALUE=DATE:20180708
DTSTAMP:20260424T022406
CREATED:20180405T082503Z
LAST-MODIFIED:20180706T082943Z
UID:15700-1530921600-1531007999@szlomasport.sk
SUMMARY:Fogathajtás Vásárúton
DESCRIPTION:A nyolc versenyből álló dél-szlovákiai sorozat negyedik állomása \nHelyszín: Vásárút \nKezdés: 11.00 \nVersenyszámok: akadályhajtás\, vadászhajtás
URL:https://szlomasport.sk/esemeny/fogathajtas-vasaruton-2/
LOCATION:Vásárút\, Vásárút\, Szlovákia
END:VEVENT
BEGIN:VEVENT
DTSTART;VALUE=DATE:20180707
DTEND;VALUE=DATE:20180708
DTSTAMP:20260424T022406
CREATED:20180612T084656Z
LAST-MODIFIED:20180706T083345Z
UID:15996-1530921600-1531007999@szlomasport.sk
SUMMARY:Foci Szímőn
DESCRIPTION:Kapuspárbaj \nHelyszín: Szímő \nKezdés: 9.30 \nKorosztályok: U12\, U14\, U16\, felnőttek (a jelentkezés szerint változhatnak) \nInfo: Kantár Szilárd 0915/738 5181
URL:https://szlomasport.sk/esemeny/foci-szimon/
LOCATION:Szímő\, Szímő\, Szlovákia
ATTACH;FMTTYPE=image/jpeg:https://szlomasport.sk/wp-content/uploads/2018/06/ujkapusparbaj-Custom.jpg
END:VEVENT
BEGIN:VEVENT
DTSTART;VALUE=DATE:20180707
DTEND;VALUE=DATE:20180708
DTSTAMP:20260424T022406
CREATED:20180704T130439Z
LAST-MODIFIED:20180706T083946Z
UID:16081-1530921600-1531007999@szlomasport.sk
SUMMARY:Kerékpározás Ekecstől Martosig
DESCRIPTION:A harcos útja névvel túra Kovács Kata Zsófia emlékére \nGyülekező: 9.00 (Ekecs\, kultúrház előtt) \nRajt: 9.30 \nÚtvonal: Ekecs--Gúta--Martos (Feszty park\, Zsófi emléktáblája) -- 41\,8  km \nKovács Kata Zsófia 16 éves sikeres ekecsi versenyző\, a Seishin Karateklub tagja volt\, amikor 2016-ban a Martosi Szabadegyetemen vesztette életét
URL:https://szlomasport.sk/esemeny/kerekparozas-ekecstol-martosig/
LOCATION:Ekecs\, Ekecs\, Szlovákia
END:VEVENT
BEGIN:VEVENT
DTSTART;VALUE=DATE:20180707
DTEND;VALUE=DATE:20180708
DTSTAMP:20260424T022406
CREATED:20180706T084929Z
LAST-MODIFIED:20180706T084929Z
UID:16095-1530921600-1531007999@szlomasport.sk
SUMMARY:Foci Martoson
DESCRIPTION:A VI. Felvidéki Labdarúgó-bajnokság országos döntője \nHelyszín: Martos (futballpálya) \nKezdés: 8.00 \nA mezőny: Nagyszelmenc\, Szepsi\, Péder\, Harkács\, Balogfala\, Magyarhegymeg\, Egyházasbást\, Sajóvölgye\, Fülek\, Léva\, Zselíz\, Udvard\, Ímely\, Dunaszerdahely (YBS-szurkolók)\, Királyfiakarcsa\, Negyed.
URL:https://szlomasport.sk/esemeny/foci-martoson/
LOCATION:Martos\, Martos\, Szlovákia
ATTACH;FMTTYPE=image/jpeg:https://szlomasport.sk/wp-content/uploads/2018/07/FLBdonto.jpg
END:VEVENT
BEGIN:VEVENT
DTSTART;VALUE=DATE:20180708
DTEND;VALUE=DATE:20180709
DTSTAMP:20260424T022406
CREATED:20180706T085607Z
LAST-MODIFIED:20180706T085948Z
UID:16099-1531008000-1531094399@szlomasport.sk
SUMMARY:Foci Felsőkirályiban
DESCRIPTION:27. KFC-kupa négyes torna \nHelyszín: Felsőkirályi \nA műsor -- 14.00: elődöntő (Horná Kráľová--Trnovec nad Váhom\, Močenok--Hájske) \n17.30: mérkőzés a 3. helyért \n19.00: döntő
URL:https://szlomasport.sk/esemeny/foci-felsokiralyiban/
LOCATION:Horná Králová\, Horná Králová\, Szlovákia
END:VEVENT
BEGIN:VEVENT
DTSTART;VALUE=DATE:20180714
DTEND;VALUE=DATE:20180715
DTSTAMP:20260424T022406
CREATED:20180405T082938Z
LAST-MODIFIED:20180713T081516Z
UID:15702-1531526400-1531612799@szlomasport.sk
SUMMARY:Fogathajtás Gútán
DESCRIPTION:A nyolc versenyből álló dél-szlovákiai sorozat ötödik állomása \nHelyszín: Gúta (Szekeres-rancs\, a naszvadi kanyarban) \nKezdés: 11.00 \nVersenyszámok: akadályhajtás és vadászhajtás egyes és kettes fogatok számára
URL:https://szlomasport.sk/esemeny/fogathajtas-gutan-2/
LOCATION:Gúta\, Gúta\, Szlovákia
END:VEVENT
BEGIN:VEVENT
DTSTART;VALUE=DATE:20180714
DTEND;VALUE=DATE:20180715
DTSTAMP:20260424T022406
CREATED:20180528T084440Z
LAST-MODIFIED:20180713T081950Z
UID:15936-1531526400-1531612799@szlomasport.sk
SUMMARY:Futás Komárom és Nagymegyer között
DESCRIPTION:3. Jótékonysági futás állatmenhelytől állatmenhelyig \nÚtvonal (48\,8 km): Dunajka (Komárom)--DogAzyl (Nagymegyer) -- részletes műsor a plakáton \nHonlapunk a futás médiapartnere \n 
URL:https://szlomasport.sk/esemeny/futas-komarom-es-nagymegyer-kozott/
LOCATION:Komárom\, Komárom\, Szlovákia
ATTACH;FMTTYPE=image/jpeg:https://szlomasport.sk/wp-content/uploads/2018/05/ujmenhelytolmenhelyig_n.jpg
END:VEVENT
BEGIN:VEVENT
DTSTART;VALUE=DATE:20180714
DTEND;VALUE=DATE:20180715
DTSTAMP:20260424T022406
CREATED:20180713T083513Z
LAST-MODIFIED:20180713T141017Z
UID:16121-1531526400-1531612799@szlomasport.sk
SUMMARY:Futás és foci Taksonyon
DESCRIPTION:Sportesemények a falu első írásos emlékének 880. évfordulójára rendezett fesztiválon \nHelyszín: Taksony (futballpálya) \n  \nTaksonyi Jubileumi Futás \nVersenyszámok\, 10.00 (rajt): Taksonyi Hármas (3 km\, 13 éven felülieknek) \n11.00 (rajt): Mini (100 m\, 1--5 éveseknek)\, Gyerek (300 m\, 6--8 éveseknek)\, Ifjúsági (600 m\, 9--12 éveseknek) \n  \nLabdarúgás \nUtcai futballbajnokság 10 csapat részvételével\, kezdés: 11.00. \n880 perc labdarúgás címmel folyamatos foci reggel 7.20-tól este 22.00-ig \n  \n  \n 
URL:https://szlomasport.sk/esemeny/futas-es-foci-taksonyon/
LOCATION:Taksony\, Taksony\, Szlovákia
ATTACH;FMTTYPE=image/jpeg:https://szlomasport.sk/wp-content/uploads/2018/07/taksonyifutás.jpg
END:VEVENT
BEGIN:VEVENT
DTSTART;VALUE=DATE:20180721
DTEND;VALUE=DATE:20180722
DTSTAMP:20260424T022406
CREATED:20180215T092701Z
LAST-MODIFIED:20180719T180021Z
UID:15509-1532131200-1532217599@szlomasport.sk
SUMMARY:Westernlovaglás Ógyalla-Bagotán
DESCRIPTION:Westernlovagló Vándorkupa 2018\, hetedik állomás \nHelyszín: Ógyalla-Bagota  (Mácsik-farm) \nKezdés: 11.00 \nVersenyszámok: szlalom és hordókerülés a juniorok\, open profi open és szenior kategóriában \n4. DJ Zoli-emlékverseny (csapat)\, Double Barrel Racing Jackpot 300 eur (egyéni)
URL:https://szlomasport.sk/esemeny/westernlovaglas-ogyalla-bagotan/
LOCATION:Ógyalla\, Ógyalla\, Szlovákia
ATTACH;FMTTYPE=image/png:https://szlomasport.sk/wp-content/uploads/2018/02/bagotawestern2018-Custom.png
END:VEVENT
BEGIN:VEVENT
DTSTART;VALUE=DATE:20180721
DTEND;VALUE=DATE:20180722
DTSTAMP:20260424T022406
CREATED:20180719T184312Z
LAST-MODIFIED:20180719T184312Z
UID:16151-1532131200-1532217599@szlomasport.sk
SUMMARY:Foci Kosúton
DESCRIPTION:Megemlékezés a szervezett labdarúgás létezésének 90. évfordulójáról \nHelyszín: Kosút (futballpálya( \nKezdés: 15.30 \nMűsor: a korábbi és jelenlegi labdarúgók díjazása\, utána barátságos mérkőzés a területi bajnokságban szereplő helyi csapat és a DAC öregfiúk között
URL:https://szlomasport.sk/esemeny/foci-kosuton/
LOCATION:Kosút\, Kosút\, Szlovákia
ATTACH;FMTTYPE=image/jpeg:https://szlomasport.sk/wp-content/uploads/2018/07/kosut90-Custom.jpg
END:VEVENT
BEGIN:VEVENT
DTSTART;VALUE=DATE:20180721
DTEND;VALUE=DATE:20180722
DTSTAMP:20260424T022406
CREATED:20180720T081709Z
LAST-MODIFIED:20180720T081709Z
UID:16155-1532131200-1532217599@szlomasport.sk
SUMMARY:Futás Losoncról Rappra
DESCRIPTION:6. Ipoly menti Futás \nVersenyközpont: Rapp (futballpálya) \nRajt: 18.00 (Losonc\, a Timrava-színház előtt) \nCél: Rapp (futballpálya) \nVersenytáv: 6\,5 km \nLehet futni és gyalogolni (nordic walking) \n 
URL:https://szlomasport.sk/esemeny/futas-losoncrol-rappra/
LOCATION:Losonc\, Losonc\, Szlovákia
END:VEVENT
BEGIN:VEVENT
DTSTART;VALUE=DATE:20180722
DTEND;VALUE=DATE:20180723
DTSTAMP:20260424T022406
CREATED:20180711T083852Z
LAST-MODIFIED:20180719T181544Z
UID:16108-1532217600-1532303999@szlomasport.sk
SUMMARY:Gyalogtúra Egyházasbástról
DESCRIPTION:  \nTermészetjárás Pogányvártól Sőregig a Medvesalja Polgári Társulás szervezésében \nRegisztráció: 8.30 (Bed & More Pogányvár\, Egyházasbást)\nIndulás: 9.00\nVárható érkezés: 18.00 (legkorábban 16:00)\nTúravezető: Kovács Roland\nTáv: 12 km\n+A Pogányvár Fogadótól autókkal átmegyünk Óbástba. Óbást központjába hagyjuk a járműveket. Elindulunk az Óbásti tanösvényen\, megnézzük az Óbásti-tavat a szigettel és innen pedig feltúrázunk a Pogányvár fennsíkjára.\nMegpihenünk az Ördög János szikla feletti kilátónál\, majd aztán útnak indulunk Sőregre.\nHa erőnk és kedvünk engedi felmegyünk a sőregi Bagolyvárba.\nMenetrend szerinti autóbusszal jövünk vissza Óbástba.+ (idézet a meghívóból)
URL:https://szlomasport.sk/esemeny/gyalogtura-obastrol/
LOCATION:Egyházasbást\, Egyházasbást\, Szlovákia
END:VEVENT
BEGIN:VEVENT
DTSTART;VALUE=DATE:20180722
DTEND;VALUE=DATE:20180723
DTSTAMP:20260424T022406
CREATED:20180713T085334Z
LAST-MODIFIED:20180719T181302Z
UID:16125-1532217600-1532303999@szlomasport.sk
SUMMARY:Foci Nagyszarván
DESCRIPTION:2. László Kálmán-emléktorna \nHelyszín: Nagyszarva \nInduló csapatok: Felbár\, Felsőpatony\, Tárnok\, Nagyszar:va \nMűsor -- 13.00: elődöntő (Nagyszarva--Felsőpatony\, Felbár--Tárnok) \n16.00: koszorúzás László Kálmán sírjánál \n16.30: mérkőzés a 3. helyért \n18.00: döntő
URL:https://szlomasport.sk/esemeny/foci-nagyszarvan-2/
LOCATION:Nagyszarva\, Nagyszarva\, Szlovákia
ATTACH;FMTTYPE=image/jpeg:https://szlomasport.sk/wp-content/uploads/2018/07/nagyszarvakalmaemlektorna-Custom.jpg
END:VEVENT
BEGIN:VEVENT
DTSTART;VALUE=DATE:20180728
DTEND;VALUE=DATE:20180729
DTSTAMP:20260424T022406
CREATED:20180216T085228Z
LAST-MODIFIED:20180726T234334Z
UID:15517-1532736000-1532822399@szlomasport.sk
SUMMARY:Westernlovaglás Tornócon
DESCRIPTION:Westernlovagló Vándorkupa 2018\, nyolcadik állomás \nHelyszín: Tornóc (Láng-udvar) \nKezdés: 11.00 \nVersenyszámok: vándorkupában szlalom és hordókerülés a póni\, juniorok\, open\, profi open és szeniorok kategóriában + bajnokok (a szlalom és a hordókerülés legjobbjai kategóriánként) + kontinuális verseny
URL:https://szlomasport.sk/esemeny/westernlovaglas-tornocon/
LOCATION:Tornóc\, Tornóc\, Szlovákia
ATTACH;FMTTYPE=image/jpeg:https://szlomasport.sk/wp-content/uploads/2018/02/westerntornoc-Custom.jpg
END:VEVENT
BEGIN:VEVENT
DTSTART;VALUE=DATE:20180729
DTEND;VALUE=DATE:20180730
DTSTAMP:20260424T022406
CREATED:20180704T124246Z
LAST-MODIFIED:20180726T234732Z
UID:16076-1532822400-1532908799@szlomasport.sk
SUMMARY:Díjugratás Dunatőkésen
DESCRIPTION:XXV. Tőkési Kupa \nHelyszín: Dunatőkés (Czajlik-ranch) \nKezdés: 14.00 \nVersenyszámok: 100 cm-es akadályverseny\, Abanderáda Díj (110 cm)\, Tőkési Kupa (120 cm)\, kitartásos magasugrás az Igazgatói Kupáért
URL:https://szlomasport.sk/esemeny/dijugratas-dunatokesen-2/
LOCATION:Dunatőkés\, Dunatőkés\, Szlovákia
ATTACH;FMTTYPE=image/jpeg:https://szlomasport.sk/wp-content/uploads/2018/07/XXV-tokesi-kupa-Custom.jpg
END:VEVENT
END:VCALENDAR