BEGIN:VCALENDAR
VERSION:2.0
PRODID:-//SZLOMASPORT - ECPv6.5.1.5//NONSGML v1.0//EN
CALSCALE:GREGORIAN
METHOD:PUBLISH
X-WR-CALNAME:SZLOMASPORT
X-ORIGINAL-URL:https://szlomasport.sk
X-WR-CALDESC:Events for SZLOMASPORT
REFRESH-INTERVAL;VALUE=DURATION:PT1H
X-Robots-Tag:noindex
X-PUBLISHED-TTL:PT1H
BEGIN:VTIMEZONE
TZID:Europe/Bratislava
BEGIN:DAYLIGHT
TZOFFSETFROM:+0100
TZOFFSETTO:+0200
TZNAME:CEST
DTSTART:20170326T010000
END:DAYLIGHT
BEGIN:STANDARD
TZOFFSETFROM:+0200
TZOFFSETTO:+0100
TZNAME:CET
DTSTART:20171029T010000
END:STANDARD
END:VTIMEZONE
BEGIN:VEVENT
DTSTART;VALUE=DATE:20171103
DTEND;VALUE=DATE:20171104
DTSTAMP:20260424T151519
CREATED:20171031T202616Z
LAST-MODIFIED:20171031T202616Z
UID:15102-1509667200-1509753599@szlomasport.sk
SUMMARY:Sakk és asztalitenisz Komáromban
DESCRIPTION:XIII. Összmagyar Nemzeti Diákbajnokság felvidéki versenye \nSportágak: sakk alap- és középiskolás lányok és fiúk\, asztalitenisz (középiskolás lányok és fiúk) \nHelyszín: Komárom (Marianum-iskolaközpont) \n8.15: ünnepélyes megnyitó \n9.30:  versenyek sportágak és kategóriák szerint \nMegjegyzés: az alapiskolások asztalitenisz-versenyét már lebonyolították Szentpéteren \n 
URL:https://szlomasport.sk/esemeny/sakk-es-asztalitenisz-komaromban/
LOCATION:Komárom\, Komárom\, Szlovákia
END:VEVENT
BEGIN:VEVENT
DTSTART;VALUE=DATE:20171110
DTEND;VALUE=DATE:20171113
DTSTAMP:20260424T151519
CREATED:20170416T094758Z
LAST-MODIFIED:20171109T103616Z
UID:14337-1510272000-1510531199@szlomasport.sk
SUMMARY:Fedeles díjugratás Dunatőkésen
DESCRIPTION:Hall Showjumping Tour néven rendezett versenyek második állomása \nHelyszín: Dunatőkés (Czajlik-rancs\, fedett lovarda) \nKezdés: 9.00 \nVersenyszámok: Amateur Cup (80 cm)\, Equistyle Cup (100 cm)\, Agroreal Cup (110 cm)\, Sikkaton Cup (125 cm) \n 
URL:https://szlomasport.sk/esemeny/3-teli-dijugrato-sorozat-2/
LOCATION:Dunatőkés\, Dunatőkés\, Szlovákia
ATTACH;FMTTYPE=image/jpeg:https://szlomasport.sk/wp-content/uploads/2017/04/dunatokesfedeles2017-18.jpg
END:VEVENT
BEGIN:VEVENT
DTSTART;VALUE=DATE:20171111
DTEND;VALUE=DATE:20171112
DTSTAMP:20260424T151519
CREATED:20171109T104942Z
LAST-MODIFIED:20171109T104942Z
UID:15126-1510358400-1510444799@szlomasport.sk
SUMMARY:Kézilabda Gútán
DESCRIPTION:X. öregfiúk és IX. egykori női játékosok nemzetközi tornája \nHelyszín: Gúta (városi sportcsarnok) \nKezdés: 10.00 \nInduló csapatok -- férfiak: Pezinok\, Zubří\, Hlohovec\, Dubnica\, Kolárovo; nők: Šaľa\, Vrútky\, Nitra\, Kolárovo \nA gútai torna műsora \n 
URL:https://szlomasport.sk/esemeny/kezilabda-gutan/
LOCATION:Gúta\, Gúta\, Szlovákia
END:VEVENT
BEGIN:VEVENT
DTSTART;VALUE=DATE:20171121
DTEND;VALUE=DATE:20171122
DTSTAMP:20260424T151519
CREATED:20171005T085022Z
LAST-MODIFIED:20171005T085022Z
UID:14979-1511222400-1511308799@szlomasport.sk
SUMMARY:Asztalitenisz Hodosban
DESCRIPTION:Férfi Szuperliga-mérkőzés\, 5. forduló: SK Vydrany-- Region Slavonija és Baranja \nHelyszín: Hodos (kultúrház) \nKezdés: 18.00
URL:https://szlomasport.sk/esemeny/asztalitenisz-hodosban-3/
LOCATION:Hodos\, Hodos\, Szlovákia
END:VEVENT
END:VCALENDAR