BEGIN:VCALENDAR
VERSION:2.0
PRODID:-//SZLOMASPORT - ECPv6.5.1.5//NONSGML v1.0//EN
CALSCALE:GREGORIAN
METHOD:PUBLISH
X-WR-CALNAME:SZLOMASPORT
X-ORIGINAL-URL:https://szlomasport.sk
X-WR-CALDESC:Events for SZLOMASPORT
REFRESH-INTERVAL;VALUE=DURATION:PT1H
X-Robots-Tag:noindex
X-PUBLISHED-TTL:PT1H
BEGIN:VTIMEZONE
TZID:Europe/Bratislava
BEGIN:DAYLIGHT
TZOFFSETFROM:+0100
TZOFFSETTO:+0200
TZNAME:CEST
DTSTART:20170326T010000
END:DAYLIGHT
BEGIN:STANDARD
TZOFFSETFROM:+0200
TZOFFSETTO:+0100
TZNAME:CET
DTSTART:20171029T010000
END:STANDARD
END:VTIMEZONE
BEGIN:VEVENT
DTSTART;VALUE=DATE:20170805
DTEND;VALUE=DATE:20170806
DTSTAMP:20260424T194630
CREATED:20170609T080352Z
LAST-MODIFIED:20170803T081329Z
UID:14604-1501891200-1501977599@szlomasport.sk
SUMMARY:2. Gőgh-emléktorna Gútán
DESCRIPTION:A  gútai Gooal Academy diák labdarúgótornája a város szülöttének\, Gőgh Kálmánnak az emlékére \nHelyszín: Gúta (Gőgh Kálmán Stadion) \nMegnyitó: 9.00 \nKezdés: 9.30 \nKorosztályok: U7\, U9\, U11\, U13 \nÖsszesen 24 csapat indul\, korosztályonként 6-6
URL:https://szlomasport.sk/esemeny/2-gogh-emlektorna-gutan/
LOCATION:Gúta\, Gúta\, Szlovákia
ATTACH;FMTTYPE=image/jpeg:https://szlomasport.sk/wp-content/uploads/2017/06/goghemlektorna.jpg
END:VEVENT
BEGIN:VEVENT
DTSTART;VALUE=DATE:20170805
DTEND;VALUE=DATE:20170806
DTSTAMP:20260424T194630
CREATED:20170803T082952Z
LAST-MODIFIED:20170803T083047Z
UID:14799-1501891200-1501977599@szlomasport.sk
SUMMARY:V. FLB országos döntő Szepsiben
DESCRIPTION:A Felvidéki Labdarúgó-bajnokság legjobb tizenkét kispályás csapatának zárótornája \nHelyszín: Szepsi (városi stadion) \nSorsolás: 9.15 \nKezdés: 10.00 \nInduló csapatok: YBS Dunaszerdahely\, Léva\, Zétény\, Gömörhorka\, Debrőd\, Rimaszécs\, Sáró\, Szepsi (címvédő)\, Farnad\, Fülek\, Udvard és Érsekújvár vagy Egyházasbást (Újbást) -- utóbbi indulóról folynak az egyeztetések\, miután Tany visszalépett. \nA Felvidéki Labdarúgó-bajnokság korábbi kiírásairól honlapunk Sportmúlt rovatában olvashat.
URL:https://szlomasport.sk/esemeny/v-flb-orszagos-donto-szepsiben/
LOCATION:Szepsi\, Szepsi\, Szlovákia
ATTACH;FMTTYPE=image/jpeg:https://szlomasport.sk/wp-content/uploads/2017/08/FLB2017-Custom.jpg
END:VEVENT
BEGIN:VEVENT
DTSTART;VALUE=DATE:20170811
DTEND;VALUE=DATE:20170812
DTSTAMP:20260424T194630
CREATED:20170426T064615Z
LAST-MODIFIED:20170609T081154Z
UID:14386-1502409600-1502495999@szlomasport.sk
SUMMARY:Tizenegyesrúgó-verseny Gútán
DESCRIPTION:A  városi vásár és búcsú hagyományos sportrendezvényének tizenkettedik felvonása \nHelyszín: Gúta (Gőgh Kálmán Stadion) \nKezdés: 15.00 \nBárki jelentkezhet \nHonlapunk a verseny médiapartnere
URL:https://szlomasport.sk/esemeny/tizenegyesrugo-verseny-gutan/
LOCATION:Gúta\, Gúta\, Szlovákia
ATTACH;FMTTYPE=image/jpeg:https://szlomasport.sk/wp-content/uploads/2017/04/guta11esek2017.jpg
END:VEVENT
BEGIN:VEVENT
DTSTART;VALUE=DATE:20170812
DTEND;VALUE=DATE:20170814
DTSTAMP:20260424T194630
CREATED:20170416T092920Z
LAST-MODIFIED:20170810T103706Z
UID:14327-1502496000-1502668799@szlomasport.sk
SUMMARY:Dijlovaglóverseny Dunatőkésen
DESCRIPTION:4. Donau-Bohemia Trophy\, a közép-európai országok nemzetközi versenysorozata\, szlovákiai állomás\, a sorozat idei harmadik versenye \nHelyszín: Dunatőkés (Czajlik-rancs\, fedeles lovarda) \nKezdés: 9.00 \nRésztvevő országok: Csehország\, Ausztria\, Magyarország és Szlovákia \nNaponta hét versenyszám \n  \n 
URL:https://szlomasport.sk/esemeny/dijlovaglo-verseny-dunatokesen/
LOCATION:Dunatőkés\, Dunatőkés\, Szlovákia
END:VEVENT
BEGIN:VEVENT
DTSTART;VALUE=DATE:20170812
DTEND;VALUE=DATE:20170813
DTSTAMP:20260424T194630
CREATED:20170718T083302Z
LAST-MODIFIED:20170810T083926Z
UID:14738-1502496000-1502582399@szlomasport.sk
SUMMARY:Futóverseny Nemeshodoson
DESCRIPTION:3. Fut a falu a Nemeshodosi Lakomán \nNevezés: 8 órától \nVersenytávok\, felnőttek: 5 km\, gyerekek (8 éves korig): 200 m \nKezdés: 9.00 (gyerekek)\, 9.30 (felnőttek) \nÉrmek\, oklevél mindenkinek\, 5 km-en a legjobb háromnak különdíj
URL:https://szlomasport.sk/esemeny/futoverseny-nemeshodoson/
LOCATION:Hodos\, Hodos\, Szlovákia
ATTACH;FMTTYPE=image/jpeg:https://szlomasport.sk/wp-content/uploads/2017/07/futafalu2017_n.jpg
END:VEVENT
BEGIN:VEVENT
DTSTART;VALUE=DATE:20170812
DTEND;VALUE=DATE:20170813
DTSTAMP:20260424T194630
CREATED:20170802T103303Z
LAST-MODIFIED:20170802T103303Z
UID:14788-1502496000-1502582399@szlomasport.sk
SUMMARY:Görkorcsolyázás Deákin
DESCRIPTION:Nyolcadszor rendezik meg a mátyusföldi faluban a fölös kilók elleni mozgást \nHelyszín: Deáki (az ipari park bekötőútja \nKezdés: 9.00 \nIdőtartam: 9.00--12.00 \nAlapkövetelmény: 1 km \nNincs versenyzés\, mindenki annyit korcsolyázik\, amennyit bír. Lehet gördeszkázni is\, gyerekek kerekezhetnek \nSzervező: Empátia Polgári társulás \n 
URL:https://szlomasport.sk/esemeny/gorkorcsolyazas-deakin/
LOCATION:Deáki\, Deáki\, Szlovákia
END:VEVENT
BEGIN:VEVENT
DTSTART;VALUE=DATE:20170819
DTEND;VALUE=DATE:20170820
DTSTAMP:20260424T194630
CREATED:20170515T082918Z
LAST-MODIFIED:20170817T084902Z
UID:14476-1503100800-1503187199@szlomasport.sk
SUMMARY:Westernlovagló Vándorkupa Nyírágón
DESCRIPTION:A kilenc versenyből álló azonos nevű sorozat nyolcadik állomása \nHelyszín: Nyírágó (Nyrwest Aréna) \nMűsor -- 9.00: parawestern \n11.00: vándorkupa \nVersenyszámok: szlalom és hordókerülés \nVersenykategóriák: juniorok\, open\, profi open
URL:https://szlomasport.sk/esemeny/westernlovaglo-vandorkupa-nyiragon/
LOCATION:Nyírágó\, Nyírágó\, Szlovákia
ATTACH;FMTTYPE=image/jpeg:https://szlomasport.sk/wp-content/uploads/2017/05/nyirago2017.jpg
END:VEVENT
BEGIN:VEVENT
DTSTART;VALUE=DATE:20170820
DTEND;VALUE=DATE:20170821
DTSTAMP:20260424T194630
CREATED:20170721T085305Z
LAST-MODIFIED:20170817T090716Z
UID:14755-1503187200-1503273599@szlomasport.sk
SUMMARY:II. Nemzetközi Nógrád Maraton
DESCRIPTION:Két ország\, két városát\, Losoncot és Salgótarjánt összekötő futóverseny \nNevezés: 12.00--14.30 (Losonc\, városi park a szabadtéri színpad előtt\, rossz idő esetén a Biela labuť (Fehér Hattyú) étteremben \nRajt: Losonc\, 15.00 \nCél: Salgótarján (kultúrház előtt) \nVersenykategóriák: egyéni és 4 x 10 km-es váltó \nA verseny része mindkét városban a városnapnak
URL:https://szlomasport.sk/esemeny/nogradi-maraton/
LOCATION:Losonc\, Losonc\, Szlovákia
ATTACH;FMTTYPE=image/jpeg:https://szlomasport.sk/wp-content/uploads/2017/07/nogradmaraton2017.jpg
END:VEVENT
BEGIN:VEVENT
DTSTART;VALUE=DATE:20170826
DTEND;VALUE=DATE:20170827
DTSTAMP:20260424T194630
CREATED:20170416T093509Z
LAST-MODIFIED:20170522T082018Z
UID:14329-1503705600-1503791999@szlomasport.sk
SUMMARY:3. Bősi Futás
DESCRIPTION:Az egyre népszerűbb futóverseny újabb állomása \nHelyszín: Bős \nRajt: 10.00 \nA versenykiírás: \n3. Bősi futás 2017\n(Duna Kupa) \nIdőpont: 2017. augusztus 26 (szombat) \nA verseny szervezője: Bős Város Önkormányzata\, Bősi Futóklub\, Bősi Kyokushin Karate Klub \nHelyszín: Bősi magyar alapiskola területe \nKategóriák:\nFérfi 10 km – rajt 13:00 Női 10 km – rajt 13:00\nA: 16 – 20 évig (1997 – 2001) A1: 16 – 20 évig (1997 – 2001)\nB: 21 – 29 évig (1996 – 1988) B2: 21 – 29 évig (1996 – 1988)\nC: 30 – 39 évig (1987 – 1978) C3: 30 – 39 évig (1987 – 1978)\nD: 40 – 49 évig (1977 – 1968) D4: 40 – 49 évig (1977 – 1968)\nE: 50 – 59 évig (1967 – 1958) E5: 50 – 59 évig (1967 – 1958)\nF: 60 – 69 évig (1957 – 1948) F6: 60 – 69 évig (1957 – 1948)\nG: 70 év felettiek (1947 és idősebbek) G7: 70 év felettiek (1947 és idősebbek) \nFérfi 5 km – rajt 13:00 Női 5 km – rajt 13:00\nA: 16 – 20 évig (1997 – 2001) A1: 16 – 20 évig (1997 – 2001)\nB: 21 – 29 évig (1996 – 1988) B2: 21 – 29 évig (1996 – 1988)\nC: 30 – 39 évig (1987 – 1978) C3: 30 – 39 évig (1987 – 1978)\nD: 40 – 49 évig (1977 – 1968) D4: 40 – 49 évig (1977 – 1968)\nE: 50 – 59 évig (1967 – 1958) E5: 50 – 59 évig (1967 – 1958)\nF: 60 – 69 évig (1957 – 1948) F6: 60 – 69 évig (1957 – 1948)\nG: 70 év felettiek (1947 és idősebbek) G7: 70 év felettiek (1947 és idősebbek) \nOvisok és iskolások\n5 éves korig – 400 m – rajt 9:00\n6 – 10 évig – 1 km – rajt 9:00\n11 – 15 évig – 2 km – rajt 10:30 \nKerekesszékes versenyzők – 2 km – rajt 11:00 \nAz 5 km-es távot gyalog is megtehető (nincs értékelve). – rajt 12:00 \nFIGYELEM ! : csak az 5 km - 10 km táv fizetős !! \nNevezési díj: 3 € - előnevezés emailben (átutalással)\, 5 € - nevezés helyszínen 12:00-ig!\nElőnevezés esetén\, kérem a megadott összeget a feltüntetett számlaszámra 2017. augusztus 14-ig elküldeni.\nIBAN: SK7009000000000191487025\nAz átutalásnál kérjük feltüntetni a teljes nevet a információ mezőbe.\nE-mail: matyikiraly69@gmail.com\nA e-mailben kérem feltüntetni a nevet\, születési dátumot\, címet és a kategóriát (A-G).\nTel. szám.: 00421903 015 650\nA nevezési díj nem visszatérítendő. \nA rajtcsomag tartalmazza:\n• rajtszámot\n• frissítést a verseny alatt és a célban\, verseny után minden egyes résztvevő ételt kap\n• chipes időmérést\n• befutóérmet \nDíjazás:\n• kiértékelés kb. 14:30-kor lesz\n• Az abszolút győztes 10 km-en a Polgármesteri kupát nyeri el\n• Az abszolút győztes 5 km-en a Bősi Futóklub kupáját nyeri el\n• Az összes kategória első három helyezettje kupát nyer \nEgyéb információk:\n• útvonal felülete: aszfalt\, erdei földút\n• a verseny bármilyen időjárás esetén megvalósul\n• a verseny minden versenyző a saját felelőségére indul és köteles betartani a közúti közlekedés szabályait\n• a verseny ideje alatt az egészségügyi szolgálat biztosított\n• a verseny ideje alatt okozott károkért a rendezőség nem felel\n• tisztálkodási lehetőség biztosítva lesz \nMinden kedves futni vágyót sok szeretettel várunk 🙂
URL:https://szlomasport.sk/esemeny/3-bosi-futas/
LOCATION:Bős\, Bős\, Szlovákia
END:VEVENT
BEGIN:VEVENT
DTSTART;VALUE=DATE:20170826
DTEND;VALUE=DATE:20170827
DTSTAMP:20260424T194630
CREATED:20170824T080122Z
LAST-MODIFIED:20170824T080122Z
UID:14862-1503705600-1503791999@szlomasport.sk
SUMMARY:Gyalogtúra Gellén
DESCRIPTION:A XX. Gellei Természetbarátok Napja alkalmából szervezett hagyományos túra \nHelyszín: Egyházgelle (futballpálya) \nJelentkezés: 8.00--9.00 \nRajt: 9.00 (futballpálya) \nÚtvonal: Gelle és környéke\, a kanális partján egyórás pihenő szalonna- és virslisütéssel \n  \n 
URL:https://szlomasport.sk/esemeny/gyalogtura-gellen/
LOCATION:Gelle\, Gelle\, Szlovákia
END:VEVENT
END:VCALENDAR