BEGIN:VCALENDAR
VERSION:2.0
PRODID:-//SZLOMASPORT - ECPv6.5.1.5//NONSGML v1.0//EN
CALSCALE:GREGORIAN
METHOD:PUBLISH
X-WR-CALNAME:SZLOMASPORT
X-ORIGINAL-URL:https://szlomasport.sk
X-WR-CALDESC:Events for SZLOMASPORT
REFRESH-INTERVAL;VALUE=DURATION:PT1H
X-Robots-Tag:noindex
X-PUBLISHED-TTL:PT1H
BEGIN:VTIMEZONE
TZID:Europe/Bratislava
BEGIN:DAYLIGHT
TZOFFSETFROM:+0100
TZOFFSETTO:+0200
TZNAME:CEST
DTSTART:20170326T010000
END:DAYLIGHT
BEGIN:STANDARD
TZOFFSETFROM:+0200
TZOFFSETTO:+0100
TZNAME:CET
DTSTART:20171029T010000
END:STANDARD
END:VTIMEZONE
BEGIN:VEVENT
DTSTART;VALUE=DATE:20170506
DTEND;VALUE=DATE:20170507
DTSTAMP:20260425T002134
CREATED:20170412T183020Z
LAST-MODIFIED:20170505T075831Z
UID:14302-1494028800-1494115199@szlomasport.sk
SUMMARY:Naturál testépítő- és fitneszverseny Dunaszerdahelyen
DESCRIPTION:Therma Natural Championship 2017 naturál testépítő- és fitneszviadal a SANK-szövetség égisze alatt \nHelyszín: Dunaszerdahely (Therma Szálló) \nKezdés: 13.00 \nVersenykategóriák: ifik (testépítés)\, fitnesz bikini\, sportmodell\, Mr. Physique (mindhárom fitnesz) \nMűsor -- 13.00: elődöntő\, 16.00: döntő \n  \n 
URL:https://szlomasport.sk/esemeny/natural-fitneszverseny-dunaszerdahelyen/
LOCATION:Dunaszerdahely\, Dunaszerdahely\, Szlovákia
ATTACH;FMTTYPE=image/jpeg:https://szlomasport.sk/wp-content/uploads/2017/04/thermakupa.jpg
END:VEVENT
BEGIN:VEVENT
DTSTART;VALUE=DATE:20170506
DTEND;VALUE=DATE:20170507
DTSTAMP:20260425T002134
CREATED:20170502T080332Z
LAST-MODIFIED:20170505T081824Z
UID:14408-1494028800-1494115199@szlomasport.sk
SUMMARY:Kis Ferenc Emléktorna Pozsonyban
DESCRIPTION:Hagyományteremtő sportrendezvény a pozsonyi Duna utca diákjainak részvételével tanáruk emlékére \nHelyszín: Pozsony (Mladosť sportcsarnok) \nKezdés: 9.00 \nSportágak: teremfoci\, kosárlabda\, röplabda \nTovábbi részletek a kfe.mtag.sk weboldalon \n 
URL:https://szlomasport.sk/esemeny/kis-ferenc-emlektorna-pozsonybab/
LOCATION:Pozsony\, Pozsony\, Szlovákia
ATTACH;FMTTYPE=image/jpeg:https://szlomasport.sk/wp-content/uploads/2017/05/kisferencpozsony-Custom.jpg
END:VEVENT
BEGIN:VEVENT
DTSTART;VALUE=DATE:20170506
DTEND;VALUE=DATE:20170507
DTSTAMP:20260425T002134
CREATED:20170505T083412Z
LAST-MODIFIED:20170505T083412Z
UID:14425-1494028800-1494115199@szlomasport.sk
SUMMARY:Westernlovagló Vándorkupa Gútán
DESCRIPTION:A tíz versenyből álló azonos nevű sorozat első állomása \nHelyszín (új!!): Szekeres-rancs (Nagy Gúta 4\, a naszvadi letérő előtti első ház melletti telken) \nKezdés: 11.00 \nVersenyszámok: hordókerülés és szlalom póni\, junior\, open és profi kategóriában
URL:https://szlomasport.sk/esemeny/westernlovaglo-vandorkupa-gutan/
LOCATION:Gúta\, Gúta\, Szlovákia
END:VEVENT
BEGIN:VEVENT
DTSTART;VALUE=DATE:20170506
DTEND;VALUE=DATE:20170507
DTSTAMP:20260425T002134
CREATED:20170505T084542Z
LAST-MODIFIED:20170505T084542Z
UID:14428-1494028800-1494115199@szlomasport.sk
SUMMARY:Fogathajtás Felsőszeliben
DESCRIPTION:A nyolc versenyből álló  dél-szlovákiai sorozat idei első állomása \nHelyszín: Felsőszeli (a futballstadion edzőpályája) \nMűsor -- 10.30: 1. forduló (egyes és kettes fogatok akadályhajtása) \n13.00: 2. forduló (egyes és kettes fogatok akadályhajtása) \n14.30: Polgármesterhajtás (kettes fogatok) \n15.00: Vadászhajtás (kettes fogatok) \n15.30: Eredményhirdetés
URL:https://szlomasport.sk/esemeny/fogathajtas-felsoszeliben/
LOCATION:Felsőszeli\, Felsőszeli\, Szlovákia
END:VEVENT
BEGIN:VEVENT
DTSTART;VALUE=DATE:20170506
DTEND;VALUE=DATE:20170507
DTSTAMP:20260425T002134
CREATED:20170505T090030Z
LAST-MODIFIED:20170505T090030Z
UID:14431-1494028800-1494115199@szlomasport.sk
SUMMARY:Teremkerékpár-verseny Gútán
DESCRIPTION:A hagyományos Gúta Kupa újabb felvonása \nHelyszín: Gúta (városi sportcsarnok) \nKezdés: 10.00 \nÉrdemes a versenyt megnézni\, mert a kerékpáron tornázók tömkelegét láthatják a legkisebbektől a világbajnoki érmesekig
URL:https://szlomasport.sk/esemeny/teremkerekpar-verseny-gutan/
LOCATION:Gúta\, Gúta\, Szlovákia
END:VEVENT
BEGIN:VEVENT
DTSTART;VALUE=DATE:20170513
DTEND;VALUE=DATE:20170514
DTSTAMP:20260425T002134
CREATED:20170419T084528Z
LAST-MODIFIED:20170419T084641Z
UID:14353-1494633600-1494719999@szlomasport.sk
SUMMARY:Futóverseny Nyárasdon
DESCRIPTION:3. Májusi futás az egészségért \nHelyszín: Nyárasd \nVersenytávok: 5 km\, 10 km \nNevezés: 11.00-tól a községi hivatalban \nRajt: 13.00 \n10.30: háziverseny a falu tanulóinak
URL:https://szlomasport.sk/esemeny/futoverseny-nyarasdon/
LOCATION:Nyárasd\, Nyárasd\, Szlovákia
END:VEVENT
BEGIN:VEVENT
DTSTART;VALUE=DATE:20170513
DTEND;VALUE=DATE:20170514
DTSTAMP:20260425T002134
CREATED:20170512T075509Z
LAST-MODIFIED:20170512T075509Z
UID:14446-1494633600-1494719999@szlomasport.sk
SUMMARY:Futóverseny Bátorkeszin
DESCRIPTION:10. Szőlőhegyi verseny a borfesztivál keretében \nHelyszín: Bátorkeszi \nRajt: 10.00 (a benzinkútnál) \nVersenytávok: 600 m\, 1200 m\, 4300 m\, 10 000 m \nCél: a kultúrház előtt \nA versenyzők felfutnak a szőlőhegyi dűlőbe és vissza\, a 10 km-es táv mezőnye száz métert borospincében tesz meg \n 
URL:https://szlomasport.sk/esemeny/futoverseny-batorkeszin/
LOCATION:Bátorkeszi\, Bátorkeszi\, Szlovákia
END:VEVENT
BEGIN:VEVENT
DTSTART;VALUE=DATE:20170513
DTEND;VALUE=DATE:20170514
DTSTAMP:20260425T002134
CREATED:20170512T080608Z
LAST-MODIFIED:20170512T080608Z
UID:14449-1494633600-1494719999@szlomasport.sk
SUMMARY:Sakkverseny Bátorkeszin
DESCRIPTION:A helyi klub éves rendezvényeinek egyike a borfesztivál keretében --villámtorna \nHelyszín: Bátorkeszi (Galambos-dűlő -- Bóna György pincészete) \nNevezés: 8.30--9.30 \nKezdés: 9.30 \nJátékidő: 2x5 perc\, 9 forduló \n 
URL:https://szlomasport.sk/esemeny/sakkverseny-batorkeszin/
LOCATION:Bátorkeszi\, Bátorkeszi\, Szlovákia
ATTACH;FMTTYPE=image/jpeg:https://szlomasport.sk/wp-content/uploads/2017/05/batorkeszisakk_n.jpg
END:VEVENT
BEGIN:VEVENT
DTSTART;VALUE=DATE:20170520
DTEND;VALUE=DATE:20170521
DTSTAMP:20260425T002134
CREATED:20170512T082747Z
LAST-MODIFIED:20170518T085627Z
UID:14454-1495238400-1495324799@szlomasport.sk
SUMMARY:Westernlovagló Vándorkupa Felsőszeliben
DESCRIPTION:A tíz versenyből álló azonos nevű sorozat idei második állomása egyben a XII. lovastalálkozó a mátyusföldi településen \nHelyszín: Felsőszeli (Nyerges pálya) \nKezdés: 10.30 \nVersenyszámok: hordókerülés és szlalom pónilovas\, junior\, open és profi open kategóriában \nElőtte gulyásfőzőverseny \n 
URL:https://szlomasport.sk/esemeny/westernlovaglo-vandorkupa-felsoszeliben/
LOCATION:Felsőszeli\, Felsőszeli\, Szlovákia
ATTACH;FMTTYPE=image/jpeg:https://szlomasport.sk/wp-content/uploads/2017/05/felsoszeliwstern.jpg
END:VEVENT
BEGIN:VEVENT
DTSTART;VALUE=DATE:20170523
DTEND;VALUE=DATE:20170524
DTSTAMP:20260425T002134
CREATED:20170521T105302Z
LAST-MODIFIED:20170521T105316Z
UID:14525-1495497600-1495583999@szlomasport.sk
SUMMARY:Atlétika Ipolyságon
DESCRIPTION:Alapiskolások lévai járási egyéni és csapatbajnoksága \nHelyszín: Ipolyság (Stadion) \nVersenyszámok -- fiúk: 60 m\, távolugrás\, 300 m\, magasugrás\, súlylökés\, 1000 m\, 4 x 60 m váltó; lányok: 60 m\, távolugrás\, 300 m\, magasugrás\, súlylökés\, 800 m\, 4 x 60 m váltó \nKezdés: 9.30 \n 
URL:https://szlomasport.sk/esemeny/atletika-ipolysagon/
LOCATION:Ipolyság\, Ipolyság\, Szlovákia
END:VEVENT
BEGIN:VEVENT
DTSTART;VALUE=DATE:20170527
DTEND;VALUE=DATE:20170528
DTSTAMP:20260425T002134
CREATED:20170414T082547Z
LAST-MODIFIED:20170414T082547Z
UID:14309-1495843200-1495929599@szlomasport.sk
SUMMARY:Jótékonysági futóverseny Lakszakállason
DESCRIPTION:5. Fuss a gazdátlan kutyák megmentéséért \nHelyszín: Lakszakállas \nRajt: 11.00 \nNevezés: 10.00-tól a faluközpontban \nHonlapunk a verseny médiapartnere \nA versenykiírás itt olvasható:
URL:https://szlomasport.sk/esemeny/jotekonysagi-futoverseny-lakszakallason/
LOCATION:Lakszakállas\, Lakszakállas\, Szlovákia
ATTACH;FMTTYPE=image/jpeg:https://szlomasport.sk/wp-content/uploads/2017/04/lakszakallasfut.jpg
END:VEVENT
BEGIN:VEVENT
DTSTART;VALUE=DATE:20170527
DTEND;VALUE=DATE:20170528
DTSTAMP:20260425T002134
CREATED:20170414T083325Z
LAST-MODIFIED:20170525T075832Z
UID:14314-1495843200-1495929599@szlomasport.sk
SUMMARY:Jótékonysági futóverseny Gútán
DESCRIPTION:DGS Dögös Sprint (Csilláértfutok) \nHelyszín: Gúta (a vízi malomnál) \nRajt: 8.00 \nKürti Csilla megsegítésére \n 
URL:https://szlomasport.sk/esemeny/jotekonysagi-futoverseny-gutan/
LOCATION:Gúta\, Gúta\, Szlovákia
ATTACH;FMTTYPE=image/jpeg:https://szlomasport.sk/wp-content/uploads/2017/04/dgs2017-Custom.jpg
END:VEVENT
BEGIN:VEVENT
DTSTART;VALUE=DATE:20170527
DTEND;VALUE=DATE:20170528
DTSTAMP:20260425T002134
CREATED:20170419T085121Z
LAST-MODIFIED:20170525T074541Z
UID:14358-1495843200-1495929599@szlomasport.sk
SUMMARY:Futóverseny Szeliben
DESCRIPTION:III. Szeli félmaraton\, V. Tíz- és Háromkilométeres Futás \nHelyszín: Felsőszeli (versenyközpont)\, Alsószeli \nRajt: 10.30 (Nyerges-pálya) \n 
URL:https://szlomasport.sk/esemeny/futoverseny-szeliben/
LOCATION:Felsőszeli\, Alsószeli\, Felsőszeli\, Szlovákia
ATTACH;FMTTYPE=image/jpeg:https://szlomasport.sk/wp-content/uploads/2017/04/szelifut2017-Custom.jpg
END:VEVENT
BEGIN:VEVENT
DTSTART;VALUE=DATE:20170527
DTEND;VALUE=DATE:20170528
DTSTAMP:20260425T002134
CREATED:20170512T083247Z
LAST-MODIFIED:20170525T075600Z
UID:14456-1495843200-1495929599@szlomasport.sk
SUMMARY:Westernlovagló Vándorkupa Kőhídgyarmaton
DESCRIPTION:A tíz versenyből álló azonos nevű sorozat harmadik állomása \nHelyszín: Kőhídgyarmat \nKezdés: 11.00 \nVersenyszámok: szlalom és hordókerülés junioroknak\, valamint open és profi open kategóriában. Utána ügyességi szám. \nKözben motor-\, traktor-\, hintó- és szekérkiállítás\, lovaglási lehetőség
URL:https://szlomasport.sk/esemeny/westernlovaglo-vandorkupa-kohidgyarmaton/
LOCATION:Kőhídgyarmat\, Kőhídgyarmat\, Szlovákia
ATTACH;FMTTYPE=image/jpeg:https://szlomasport.sk/wp-content/uploads/2017/05/westernkotra2017.jpg
END:VEVENT
BEGIN:VEVENT
DTSTART;VALUE=DATE:20170527
DTEND;VALUE=DATE:20170528
DTSTAMP:20260425T002134
CREATED:20170519T101645Z
LAST-MODIFIED:20170525T073010Z
UID:14521-1495843200-1495929599@szlomasport.sk
SUMMARY:Vezetett gyalogtúra Fülekről
DESCRIPTION:A Geopark Novohrad-Nógrád J.Sz.T. és a füleki Nógrádi Turisztikai Információs Központ rendezvénye \nTalálka: Fülek (8.30-kor a városi művelődési központ előtt) \nÚtvonal: Fülek – Vecseklő – Lőrince-patak szurdoka – Mária-kút – Újbást/Óbást –\n– Ladóczky V. gyűjteménye – hőlégballonos bemutató – Fülek \nTáv: 15 km \nTúravezető: Kovács Roland \nJelentkezés és további információk: Nógrádi Turisztikai Információs Központ irodája\,\nFülek\, Várfelső utca / Podhradská 14.\, tel.: +421 (0)47 4382 016\, mobil: +421 918 994 481 e-mail: ntic@hradfilakovo.sk vagy a Geopark Novohrad-Nógrád J.Sz.T. irodája\, irodavezető: Puntigán József\, Fülek\nVárfelső utca / Podhradská 14\, mobil: +421 (0)917 646 551\, e-mail: geopark.filakovo@gmail.com.
URL:https://szlomasport.sk/esemeny/vezetett-gyalogtura-fulekrol/
LOCATION:Fülek\, Fülek\, Szlovákia
ATTACH;FMTTYPE=image/jpeg:https://szlomasport.sk/wp-content/uploads/2017/05/fulekmaj27.jpg
END:VEVENT
BEGIN:VEVENT
DTSTART;VALUE=DATE:20170527
DTEND;VALUE=DATE:20170528
DTSTAMP:20260425T002134
CREATED:20170525T072305Z
LAST-MODIFIED:20170525T072305Z
UID:14541-1495843200-1495929599@szlomasport.sk
SUMMARY:Birkózás Dunaszerdahelyen
DESCRIPTION:Csallóközi Kupa nemzetközi szabadfogású verseny \nHelyszín: Dunaszerdahely (városi sportcsarnok) \nKezdés: 11.00 \n 
URL:https://szlomasport.sk/esemeny/birkozas-dunaszerdahelyen/
LOCATION:Dunaszerdahely\, Dunaszerdahely\, Szlovákia
ATTACH;FMTTYPE=image/jpeg:https://szlomasport.sk/wp-content/uploads/2017/05/csallokozikupabirok.jpg
END:VEVENT
END:VCALENDAR