BEGIN:VCALENDAR
VERSION:2.0
PRODID:-//SZLOMASPORT - ECPv6.5.1.5//NONSGML v1.0//EN
CALSCALE:GREGORIAN
METHOD:PUBLISH
X-ORIGINAL-URL:https://szlomasport.sk
X-WR-CALDESC:Events for SZLOMASPORT
REFRESH-INTERVAL;VALUE=DURATION:PT1H
X-Robots-Tag:noindex
X-PUBLISHED-TTL:PT1H
BEGIN:VTIMEZONE
TZID:Europe/Bratislava
BEGIN:DAYLIGHT
TZOFFSETFROM:+0100
TZOFFSETTO:+0200
TZNAME:CEST
DTSTART:20190331T010000
END:DAYLIGHT
BEGIN:STANDARD
TZOFFSETFROM:+0200
TZOFFSETTO:+0100
TZNAME:CET
DTSTART:20191027T010000
END:STANDARD
END:VTIMEZONE
BEGIN:VEVENT
DTSTART;VALUE=DATE:20191025
DTEND;VALUE=DATE:20191028
DTSTAMP:20260423T065639
CREATED:20190302T204418Z
LAST-MODIFIED:20191025T141827Z
UID:16912-1571961600-1572220799@szlomasport.sk
SUMMARY:Díjugratás Dunatőkésen
DESCRIPTION:Hall Showjumping Tour 2019--2020\, 1. forduló \nHelyszín: Dunatőkés (Czajlik-rancs\, fedett lovarda) \nKezdés: 8.00 \n 
URL:https://szlomasport.sk/esemeny/dijugratas-dunatokesen-9/
ATTACH;FMTTYPE=image/jpeg:https://szlomasport.sk/wp-content/uploads/2019/03/jczajliktéli1920_n.jpg
END:VEVENT
END:VCALENDAR