BEGIN:VCALENDAR
VERSION:2.0
PRODID:-//SZLOMASPORT - ECPv6.5.1.5//NONSGML v1.0//EN
CALSCALE:GREGORIAN
METHOD:PUBLISH
X-ORIGINAL-URL:https://szlomasport.sk
X-WR-CALDESC:Events for SZLOMASPORT
REFRESH-INTERVAL;VALUE=DURATION:PT1H
X-Robots-Tag:noindex
X-PUBLISHED-TTL:PT1H
BEGIN:VTIMEZONE
TZID:Europe/Bratislava
BEGIN:DAYLIGHT
TZOFFSETFROM:+0100
TZOFFSETTO:+0200
TZNAME:CEST
DTSTART:20190331T010000
END:DAYLIGHT
BEGIN:STANDARD
TZOFFSETFROM:+0200
TZOFFSETTO:+0100
TZNAME:CET
DTSTART:20191027T010000
END:STANDARD
END:VTIMEZONE
BEGIN:VEVENT
DTSTART;VALUE=DATE:20191019
DTEND;VALUE=DATE:20191020
DTSTAMP:20260423T065640
CREATED:20190918T140652Z
LAST-MODIFIED:20190918T140652Z
UID:17570-1571443200-1571529599@szlomasport.sk
SUMMARY:Futás Nagymegyeren
DESCRIPTION:I. Nagymegyeri Futóverseny \nHelyszín: Nagymegyer \nKezdés -- 10.00: gyerekek (150 m\, 300 m)\, 11.00: felnőttek (3 km\, 6 km)
URL:https://szlomasport.sk/esemeny/futas-nagymegyeren-2/
ATTACH;FMTTYPE=image/jpeg:https://szlomasport.sk/wp-content/uploads/2019/09/jI.-nagymegyerifutás.jpg
END:VEVENT
END:VCALENDAR