BEGIN:VCALENDAR
VERSION:2.0
PRODID:-//SZLOMASPORT - ECPv6.5.1.5//NONSGML v1.0//EN
CALSCALE:GREGORIAN
METHOD:PUBLISH
X-ORIGINAL-URL:https://szlomasport.sk
X-WR-CALDESC:Events for SZLOMASPORT
REFRESH-INTERVAL;VALUE=DURATION:PT1H
X-Robots-Tag:noindex
X-PUBLISHED-TTL:PT1H
BEGIN:VTIMEZONE
TZID:Europe/Bratislava
BEGIN:DAYLIGHT
TZOFFSETFROM:+0100
TZOFFSETTO:+0200
TZNAME:CEST
DTSTART:20190331T010000
END:DAYLIGHT
BEGIN:STANDARD
TZOFFSETFROM:+0200
TZOFFSETTO:+0100
TZNAME:CET
DTSTART:20191027T010000
END:STANDARD
END:VTIMEZONE
BEGIN:VEVENT
DTSTART;VALUE=DATE:20191012
DTEND;VALUE=DATE:20191013
DTSTAMP:20260423T065639
CREATED:20190921T142744Z
LAST-MODIFIED:20190921T142744Z
UID:17600-1570838400-1570924799@szlomasport.sk
SUMMARY:Cselgáncs Gútán
DESCRIPTION:Nemzetközi diáknagydíj \nHelyszín: Gúta\, (városi sportcsarnok) \nRészletek később
URL:https://szlomasport.sk/esemeny/cselgancs-gutan-2/
ATTACH;FMTTYPE=image/png:https://szlomasport.sk/wp-content/uploads/2019/09/judokolarovologonagydijhoz.png
END:VEVENT
BEGIN:VEVENT
DTSTART;VALUE=DATE:20191012
DTEND;VALUE=DATE:20191013
DTSTAMP:20260423T065639
CREATED:20191002T154708Z
LAST-MODIFIED:20191002T154708Z
UID:17668-1570838400-1570924799@szlomasport.sk
SUMMARY:Sporttánc Nyárasdon
DESCRIPTION:Akrobatikus rock and rolle szlovák nemzetközi bajnokság \nHelyszín: Nyárasd (sportcsarnok) \nKezdés\, 9.00: selejtező\, 16.00: döntő
URL:https://szlomasport.sk/esemeny/sporttanc-nyarasdon/
ATTACH;FMTTYPE=image/jpeg:https://szlomasport.sk/wp-content/uploads/2019/10/jakrobatikayarasd.jpg
END:VEVENT
END:VCALENDAR