BEGIN:VCALENDAR
VERSION:2.0
PRODID:-//SZLOMASPORT - ECPv6.5.1.5//NONSGML v1.0//EN
CALSCALE:GREGORIAN
METHOD:PUBLISH
X-WR-CALNAME:SZLOMASPORT
X-ORIGINAL-URL:https://szlomasport.sk
X-WR-CALDESC:Events for SZLOMASPORT
REFRESH-INTERVAL;VALUE=DURATION:PT1H
X-Robots-Tag:noindex
X-PUBLISHED-TTL:PT1H
BEGIN:VTIMEZONE
TZID:Europe/Bratislava
BEGIN:DAYLIGHT
TZOFFSETFROM:+0100
TZOFFSETTO:+0200
TZNAME:CEST
DTSTART:20190331T010000
END:DAYLIGHT
BEGIN:STANDARD
TZOFFSETFROM:+0200
TZOFFSETTO:+0100
TZNAME:CET
DTSTART:20191027T010000
END:STANDARD
END:VTIMEZONE
BEGIN:VEVENT
DTSTART;VALUE=DATE:20190915
DTEND;VALUE=DATE:20190916
DTSTAMP:20260423T082501
CREATED:20190911T174135Z
LAST-MODIFIED:20190912T162227Z
UID:17552-1568505600-1568591999@szlomasport.sk
SUMMARY:Labdarúgás Bátorkeszin
DESCRIPTION:Jubilál\, 100 éves a falu labdarúgása \nHelyszín: Bátorkeszi \nMűsor -- 10.00: családi sportnap a falunap keretében\, 10.00: tizenegyesrúgó verseny\, 16.00: Bátorkeszi--DAC barátságos mérkőzés\, a szünetben díjazzák a helyi futball legnagyobb személyiségeit\, közben pedig kiállítás is lesz  a százéves múltról.
URL:https://szlomasport.sk/esemeny/labdarugas-batorkeszin/
END:VEVENT
END:VCALENDAR