BEGIN:VCALENDAR
VERSION:2.0
PRODID:-//SZLOMASPORT - ECPv6.5.1.5//NONSGML v1.0//EN
CALSCALE:GREGORIAN
METHOD:PUBLISH
X-WR-CALNAME:SZLOMASPORT
X-ORIGINAL-URL:https://szlomasport.sk
X-WR-CALDESC:Events for SZLOMASPORT
REFRESH-INTERVAL;VALUE=DURATION:PT1H
X-Robots-Tag:noindex
X-PUBLISHED-TTL:PT1H
BEGIN:VTIMEZONE
TZID:Europe/Bratislava
BEGIN:DAYLIGHT
TZOFFSETFROM:+0100
TZOFFSETTO:+0200
TZNAME:CEST
DTSTART:20190331T010000
END:DAYLIGHT
BEGIN:STANDARD
TZOFFSETFROM:+0200
TZOFFSETTO:+0100
TZNAME:CET
DTSTART:20191027T010000
END:STANDARD
END:VTIMEZONE
BEGIN:VEVENT
DTSTART;VALUE=DATE:20190908
DTEND;VALUE=DATE:20190909
DTSTAMP:20260423T081751
CREATED:20190317T094317Z
LAST-MODIFIED:20190906T210923Z
UID:17003-1567900800-1567987199@szlomasport.sk
SUMMARY:Westernlovaglás Nyékvárkonyon
DESCRIPTION:Westernlovagló Vándorkupa 2019\, tizenegyedik állomás \nHelyszín: Nyékvárkony (Lovasklub) \nKezdés: 11.00 \nVersenyszámok: szlalom és hordókerülés junior\, open és profi open kategóriában
URL:https://szlomasport.sk/esemeny/westernlovaglas-nyekvarkonyon-2/
END:VEVENT
END:VCALENDAR