BEGIN:VCALENDAR
VERSION:2.0
PRODID:-//SZLOMASPORT - ECPv6.5.1.5//NONSGML v1.0//EN
CALSCALE:GREGORIAN
METHOD:PUBLISH
X-ORIGINAL-URL:https://szlomasport.sk
X-WR-CALDESC:Events for SZLOMASPORT
REFRESH-INTERVAL;VALUE=DURATION:PT1H
X-Robots-Tag:noindex
X-PUBLISHED-TTL:PT1H
BEGIN:VTIMEZONE
TZID:Europe/Bratislava
BEGIN:DAYLIGHT
TZOFFSETFROM:+0100
TZOFFSETTO:+0200
TZNAME:CEST
DTSTART:20190331T010000
END:DAYLIGHT
BEGIN:STANDARD
TZOFFSETFROM:+0200
TZOFFSETTO:+0100
TZNAME:CET
DTSTART:20191027T010000
END:STANDARD
END:VTIMEZONE
BEGIN:VEVENT
DTSTART;VALUE=DATE:20190629
DTEND;VALUE=DATE:20190630
DTSTAMP:20260423T120348
CREATED:20190313T102116Z
LAST-MODIFIED:20190627T175312Z
UID:16974-1561766400-1561852799@szlomasport.sk
SUMMARY:Westernlovaglás Tallóson
DESCRIPTION:Westernlovagló Vándorkupa 2019\, hatodik állomás \nHelyszín: Tallós (Big Family-rancs) \nKezdés: 11.00 \nVersenyszámok: szlalom és hordókerülés junior\, open és profi open kategóriában
URL:https://szlomasport.sk/esemeny/westernlovaglas-talloson/
ATTACH;FMTTYPE=image/jpeg:https://szlomasport.sk/wp-content/uploads/2019/03/jwestern-tallós.jpg
END:VEVENT
BEGIN:VEVENT
DTSTART;VALUE=DATE:20190629
DTEND;VALUE=DATE:20190630
DTSTAMP:20260423T120348
CREATED:20190319T062815Z
LAST-MODIFIED:20190528T193204Z
UID:17010-1561766400-1561852799@szlomasport.sk
SUMMARY:Labdarúgás Gútán
DESCRIPTION:IV. Gőgh Kálmán-emléktorna nemzetközi torna öt korosztályban (U7\, U8\, U9\, U10\, U11) \nHelyszín: Gúta (Gőgh Kálmán Stadion) \nKezdés: 9.30\, közben futball-legendák mérkőzése: 13.45 \n30 csapat\, 350 játékos lép pályára \n 
URL:https://szlomasport.sk/esemeny/labdarugas-gutan-3/
ATTACH;FMTTYPE=image/jpeg:https://szlomasport.sk/wp-content/uploads/2019/03/jgőegh-emlek-plagat.jpg
END:VEVENT
BEGIN:VEVENT
DTSTART;VALUE=DATE:20190629
DTEND;VALUE=DATE:20190630
DTSTAMP:20260423T120348
CREATED:20190412T084931Z
LAST-MODIFIED:20190627T180657Z
UID:17129-1561766400-1561852799@szlomasport.sk
SUMMARY:Foci\, futás\, görkorcsolyázás és kerékpározás Szepsiben
DESCRIPTION:XXI. Bódva-kupa nemzetközi futó-\, görkorcsolya- és országúti kerékpárverseny \nVersenyközpont: Szepsi főtere \nRajt: 9.00 \nKözben: tömegfutás (1 km) \nHonlapunk a sportrendezvény állandó médiapartnere \nTovábbi részletek itt találhatók \nUgyanaznap a százéves szepsi foci megünneplése a futballstadionban \nMérkőzések\, 15.00: Máshol játszó szepsiek csapata--Tornagörgő (ifjúsági) \n17.00: egykori szepsi játékosok csapata--Ferencváros öregfiúk
URL:https://szlomasport.sk/esemeny/futas-gorkorcsolyazas-es-kerekparozas-szepsibol-2/
ATTACH;FMTTYPE=image/jpeg:https://szlomasport.sk/wp-content/uploads/2019/04/jbodva2019.jpg
END:VEVENT
BEGIN:VEVENT
DTSTART;VALUE=DATE:20190629
DTEND;VALUE=DATE:20190630
DTSTAMP:20260423T120348
CREATED:20190421T165127Z
LAST-MODIFIED:20190627T181141Z
UID:17167-1561766400-1561852799@szlomasport.sk
SUMMARY:Fogathajtás Alsószeliben
DESCRIPTION:A nyolc versenyből álló 2019-es dél-szlovákiai sorozat negyedik állomása \nHelyszín: Alsószeli (futballpálya) \nKezdés: 11.00 \nVersenyszámok: kettes fogatok kétfordulós akadályhajtása egyszeri összevetéssel és vadászhajtás
URL:https://szlomasport.sk/esemeny/fogathajtas-alsoszeliben-3/
ATTACH;FMTTYPE=image/jpeg:https://szlomasport.sk/wp-content/uploads/2019/04/jfogathajt-e1571753544384.jpg
END:VEVENT
BEGIN:VEVENT
DTSTART;VALUE=DATE:20190629
DTEND;VALUE=DATE:20190630
DTSTAMP:20260423T120348
CREATED:20190627T183445Z
LAST-MODIFIED:20190627T183445Z
UID:17426-1561766400-1561852799@szlomasport.sk
SUMMARY:Foci Feketenyéken
DESCRIPTION:Kispályás focitorna és főzőverseny \nHelyszín: Feketenyék (futballpálya) \nKezdés: 13.00 \nTíz alkalmi csapat indul
URL:https://szlomasport.sk/esemeny/foci-feketenyeken/
ATTACH;FMTTYPE=image/jpeg:https://szlomasport.sk/wp-content/uploads/2019/06/jfeketenyék.jpg
END:VEVENT
BEGIN:VEVENT
DTSTART;VALUE=DATE:20190629
DTEND;VALUE=DATE:20190630
DTSTAMP:20260423T120348
CREATED:20190519T120337Z
LAST-MODIFIED:20190627T182621Z
UID:17284-1561766400-1561852799@szlomasport.sk
SUMMARY:Labdarúgás Kisudvarnokon
DESCRIPTION:X. Kifut a Kupa (Kisudvarnoki Futballt Támogatom Kupa) kispályás torna \nHelyszín: Kisudvarnok (futballpálya) \nKezdés: 8.30 \nKözben kezdők (U11) és nők négyes tornája \n16.00: 11-esrúgó verseny
URL:https://szlomasport.sk/esemeny/labdarugas-kisudvarnokon/
ATTACH;FMTTYPE=image/jpeg:https://szlomasport.sk/wp-content/uploads/2019/05/jujkisudvarnok.jpg
END:VEVENT
END:VCALENDAR