BEGIN:VCALENDAR
VERSION:2.0
PRODID:-//SZLOMASPORT - ECPv6.5.1.5//NONSGML v1.0//EN
CALSCALE:GREGORIAN
METHOD:PUBLISH
X-WR-CALNAME:SZLOMASPORT
X-ORIGINAL-URL:https://szlomasport.sk
X-WR-CALDESC:Events for SZLOMASPORT
REFRESH-INTERVAL;VALUE=DURATION:PT1H
X-Robots-Tag:noindex
X-PUBLISHED-TTL:PT1H
BEGIN:VTIMEZONE
TZID:Europe/Bratislava
BEGIN:DAYLIGHT
TZOFFSETFROM:+0100
TZOFFSETTO:+0200
TZNAME:CEST
DTSTART:20190331T010000
END:DAYLIGHT
BEGIN:STANDARD
TZOFFSETFROM:+0200
TZOFFSETTO:+0100
TZNAME:CET
DTSTART:20191027T010000
END:STANDARD
END:VTIMEZONE
BEGIN:VEVENT
DTSTART;VALUE=DATE:20190616
DTEND;VALUE=DATE:20190617
DTSTAMP:20260423T120201
CREATED:20190413T191349Z
LAST-MODIFIED:20190614T164550Z
UID:17139-1560643200-1560729599@szlomasport.sk
SUMMARY:Fogathajtás Zsigárdon
DESCRIPTION:A nyolc versenyből álló 2019-es dél-szlovákiai sorozat második állomása \nHelyszín: Zsigárd (Kolozsi-rancs) \nMűsor – 10.00: akadályhajtás\, I. futam\, 13.00: akadályhajtás\, II. futam\, 17.00: vadászhajtás
URL:https://szlomasport.sk/esemeny/fogathajtas-zsigardon-4/
ATTACH;FMTTYPE=image/jpeg:https://szlomasport.sk/wp-content/uploads/2019/04/jfogathajt-e1571753544384.jpg
END:VEVENT
END:VCALENDAR