BEGIN:VCALENDAR
VERSION:2.0
PRODID:-//SZLOMASPORT - ECPv6.5.1.5//NONSGML v1.0//EN
CALSCALE:GREGORIAN
METHOD:PUBLISH
X-ORIGINAL-URL:https://szlomasport.sk
X-WR-CALDESC:Events for SZLOMASPORT
REFRESH-INTERVAL;VALUE=DURATION:PT1H
X-Robots-Tag:noindex
X-PUBLISHED-TTL:PT1H
BEGIN:VTIMEZONE
TZID:Europe/Bratislava
BEGIN:DAYLIGHT
TZOFFSETFROM:+0100
TZOFFSETTO:+0200
TZNAME:CEST
DTSTART:20190331T010000
END:DAYLIGHT
BEGIN:STANDARD
TZOFFSETFROM:+0200
TZOFFSETTO:+0100
TZNAME:CET
DTSTART:20191027T010000
END:STANDARD
END:VTIMEZONE
BEGIN:VEVENT
DTSTART;VALUE=DATE:20190602
DTEND;VALUE=DATE:20190603
DTSTAMP:20260423T120455
CREATED:20190307T205517Z
LAST-MODIFIED:20190530T203750Z
UID:16940-1559433600-1559519999@szlomasport.sk
SUMMARY:Futás Felsőszeliben
DESCRIPTION:Felsőszeli Félmaraton\, Tízkilométeres és Háromkilométeres Futás \nHelyszín: Felsőszeli\, Alsószeli \nVersenyközpont: Felsőszeli (Nyerges-létesítmény) \nRajt: 9.30: 21\,1 km\, 9.50: 10 km\, 9.55: 3 km\, 10.00: gyerekfutás
URL:https://szlomasport.sk/esemeny/futas-felsoszeliben-2/
ATTACH;FMTTYPE=image/jpeg:https://szlomasport.sk/wp-content/uploads/2019/03/felsőszelimaraton.jpg
END:VEVENT
END:VCALENDAR