BEGIN:VCALENDAR
VERSION:2.0
PRODID:-//SZLOMASPORT - ECPv6.5.1.5//NONSGML v1.0//EN
CALSCALE:GREGORIAN
METHOD:PUBLISH
X-WR-CALNAME:SZLOMASPORT
X-ORIGINAL-URL:https://szlomasport.sk
X-WR-CALDESC:Events for SZLOMASPORT
REFRESH-INTERVAL;VALUE=DURATION:PT1H
X-Robots-Tag:noindex
X-PUBLISHED-TTL:PT1H
BEGIN:VTIMEZONE
TZID:Europe/Bratislava
BEGIN:DAYLIGHT
TZOFFSETFROM:+0100
TZOFFSETTO:+0200
TZNAME:CEST
DTSTART:20190331T010000
END:DAYLIGHT
BEGIN:STANDARD
TZOFFSETFROM:+0200
TZOFFSETTO:+0100
TZNAME:CET
DTSTART:20191027T010000
END:STANDARD
END:VTIMEZONE
BEGIN:VEVENT
DTSTART;VALUE=DATE:20190424
DTEND;VALUE=DATE:20190425
DTSTAMP:20260423T143519
CREATED:20190420T131943Z
LAST-MODIFIED:20190421T194257Z
UID:17165-1556064000-1556150399@szlomasport.sk
SUMMARY:Labdarúgás Észak- és Dél-Komáromban
DESCRIPTION:2. Aranycsapat-kupa Kárpát-medencei teremtorna középiskolai csapatok részvételével \nHelyszín: Észak- és Dél-Komárom (mindkét város sportcsanoka) \nA műsor --  8.30: ünnepélyes megnyitó Dél-Komáromban. Utána csoportmérkőzések mindkét Komáromban\, majd helyosztók és eredményhirdetés Észak-Komáromban \nNyolc Kárpát-medencei csapat indul. A mezőny: FC Beregvidék\, Beregszász (Kárpátalja)\, Salamon Ernő Gimnázium\, Gyergyószentmiklós (Erdély)\, Nyers István Labdarúgó Akadémia\, Tóthfalu (Vajdaság)\, Selye János Gimnázium\, Észak-Komárom\, Vámbéry Ármin Gimnázium\, Dunaszerdahely\, Középfokú Sportiskola\, Dunaszerdahely\, Komáromi Jókai Mór Gimnázium\, Dél-Komárom\, Szebt László Gimnázium és Kollégium\, Szob. \nCímvédő: Vámbéry Ármin Gimnázium\, Dunaszerdahely \n 
URL:https://szlomasport.sk/esemeny/labdarugas-eszak-es-del-komaromban/
ATTACH;FMTTYPE=image/jpeg:https://szlomasport.sk/wp-content/uploads/2019/04/jmeghívó-II-Aranycsapat-kupa.jpg
END:VEVENT
END:VCALENDAR