BEGIN:VCALENDAR
VERSION:2.0
PRODID:-//SZLOMASPORT - ECPv6.5.1.5//NONSGML v1.0//EN
CALSCALE:GREGORIAN
METHOD:PUBLISH
X-ORIGINAL-URL:https://szlomasport.sk
X-WR-CALDESC:Events for SZLOMASPORT
REFRESH-INTERVAL;VALUE=DURATION:PT1H
X-Robots-Tag:noindex
X-PUBLISHED-TTL:PT1H
BEGIN:VTIMEZONE
TZID:Europe/Bratislava
BEGIN:DAYLIGHT
TZOFFSETFROM:+0100
TZOFFSETTO:+0200
TZNAME:CEST
DTSTART:20190331T010000
END:DAYLIGHT
BEGIN:STANDARD
TZOFFSETFROM:+0200
TZOFFSETTO:+0100
TZNAME:CET
DTSTART:20191027T010000
END:STANDARD
END:VTIMEZONE
BEGIN:VEVENT
DTSTART;VALUE=DATE:20190413
DTEND;VALUE=DATE:20190414
DTSTAMP:20260423T143632
CREATED:20190410T204954Z
LAST-MODIFIED:20190410T204954Z
UID:17116-1555113600-1555199999@szlomasport.sk
SUMMARY:Futás Galántán
DESCRIPTION:37. Galántai Futás -- Felszabadulási Futás \nHelyszín: Galánta (városközpont) \nMűsor -- 9.40: gyerekversenyek \n11.40: egészségfutás (2\,5 km) \n12.20: főtáv (10 km)
URL:https://szlomasport.sk/esemeny/futas-galantan/
ATTACH;FMTTYPE=image/jpeg:https://szlomasport.sk/wp-content/uploads/2019/04/jgalantafut_n.jpg
END:VEVENT
END:VCALENDAR