BEGIN:VCALENDAR
VERSION:2.0
PRODID:-//SZLOMASPORT - ECPv6.5.1.5//NONSGML v1.0//EN
CALSCALE:GREGORIAN
METHOD:PUBLISH
X-WR-CALNAME:SZLOMASPORT
X-ORIGINAL-URL:https://szlomasport.sk
X-WR-CALDESC:Events for SZLOMASPORT
REFRESH-INTERVAL;VALUE=DURATION:PT1H
X-Robots-Tag:noindex
X-PUBLISHED-TTL:PT1H
BEGIN:VTIMEZONE
TZID:Europe/Bratislava
BEGIN:DAYLIGHT
TZOFFSETFROM:+0100
TZOFFSETTO:+0200
TZNAME:CEST
DTSTART:20190331T010000
END:DAYLIGHT
BEGIN:STANDARD
TZOFFSETFROM:+0200
TZOFFSETTO:+0100
TZNAME:CET
DTSTART:20191027T010000
END:STANDARD
END:VTIMEZONE
BEGIN:VEVENT
DTSTART;VALUE=DATE:20190405
DTEND;VALUE=DATE:20190406
DTSTAMP:20260423T143447
CREATED:20190324T202312Z
LAST-MODIFIED:20190403T205832Z
UID:17036-1554422400-1554508799@szlomasport.sk
SUMMARY:Asztalitenisz Hodosban
DESCRIPTION:A szlovák férfi-csapatbajnokság döntője (két győztes meccsig)\, visszavágó \nHelyszín: Hodos (kultúrház) \nKezdés: 18.00 \nPárosítás: SK  Vydrany--MSK Malacky \nElső mérkőzés: Malacky--Vydrany 1:5
URL:https://szlomasport.sk/esemeny/asztalitenisz-hodosban-6/
ATTACH;FMTTYPE=image/jpeg:https://szlomasport.sk/wp-content/uploads/2019/03/jhodos.jpg
END:VEVENT
END:VCALENDAR