BEGIN:VCALENDAR
VERSION:2.0
PRODID:-//SZLOMASPORT - ECPv6.5.1.5//NONSGML v1.0//EN
CALSCALE:GREGORIAN
METHOD:PUBLISH
X-ORIGINAL-URL:https://szlomasport.sk
X-WR-CALDESC:Events for SZLOMASPORT
REFRESH-INTERVAL;VALUE=DURATION:PT1H
X-Robots-Tag:noindex
X-PUBLISHED-TTL:PT1H
BEGIN:VTIMEZONE
TZID:Europe/Bratislava
BEGIN:DAYLIGHT
TZOFFSETFROM:+0100
TZOFFSETTO:+0200
TZNAME:CEST
DTSTART:20190331T010000
END:DAYLIGHT
BEGIN:STANDARD
TZOFFSETFROM:+0200
TZOFFSETTO:+0100
TZNAME:CET
DTSTART:20191027T010000
END:STANDARD
END:VTIMEZONE
BEGIN:VEVENT
DTSTART;VALUE=DATE:20190323
DTEND;VALUE=DATE:20190324
DTSTAMP:20260423T163119
CREATED:20190127T195253Z
LAST-MODIFIED:20190321T190651Z
UID:16813-1553299200-1553385599@szlomasport.sk
SUMMARY:MMA-ketrecharc Érsekújvárott
DESCRIPTION:Cage Fighting Nové Zámky nemzetközi amatőr és profigála \nHelyszín: Érsekújvár (Millennium Sportcsarnok) \nKezdés: 18.00 \nMeccsmenü: 10 amatőr és 6 profimérkőzés \nFőmérkőzés: Roland Čambal (szlovák)--Maksym Soróka (ukrán)
URL:https://szlomasport.sk/esemeny/mma-ketecharc-ersekujvarott/
ATTACH;FMTTYPE=image/jpeg:https://szlomasport.sk/wp-content/uploads/2019/01/jMMAnz.jpg
END:VEVENT
BEGIN:VEVENT
DTSTART;VALUE=DATE:20190323
DTEND;VALUE=DATE:20190324
DTSTAMP:20260423T163119
CREATED:20190307T204046Z
LAST-MODIFIED:20190321T191519Z
UID:16934-1553299200-1553385599@szlomasport.sk
SUMMARY:Kyokushin karate Dunaszerdahelyen
DESCRIPTION:Szlovák bajnokság a Seishin Karateklub szervezésében \nHelyszín: Dunaszerdahely (városi sportcsanok) \nKezdés: 10.00 \n4 ország 330 versenyzője indul
URL:https://szlomasport.sk/esemeny/kyokushin-karate-dunaszerdahelyen-2/
ATTACH;FMTTYPE=image/jpeg:https://szlomasport.sk/wp-content/uploads/2019/03/jseishinkarate_samobor-03_0.jpg
END:VEVENT
END:VCALENDAR