BEGIN:VCALENDAR
VERSION:2.0
PRODID:-//SZLOMASPORT - ECPv6.5.1.5//NONSGML v1.0//EN
CALSCALE:GREGORIAN
METHOD:PUBLISH
X-WR-CALNAME:SZLOMASPORT
X-ORIGINAL-URL:https://szlomasport.sk
X-WR-CALDESC:Events for SZLOMASPORT
REFRESH-INTERVAL;VALUE=DURATION:PT1H
X-Robots-Tag:noindex
X-PUBLISHED-TTL:PT1H
BEGIN:VTIMEZONE
TZID:Europe/Bratislava
BEGIN:DAYLIGHT
TZOFFSETFROM:+0100
TZOFFSETTO:+0200
TZNAME:CEST
DTSTART:20190331T010000
END:DAYLIGHT
BEGIN:STANDARD
TZOFFSETFROM:+0200
TZOFFSETTO:+0100
TZNAME:CET
DTSTART:20191027T010000
END:STANDARD
END:VTIMEZONE
BEGIN:VEVENT
DTSTART;VALUE=DATE:20190223
DTEND;VALUE=DATE:20190225
DTSTAMP:20260423T175455
CREATED:20181031T140149Z
LAST-MODIFIED:20190222T063320Z
UID:16428-1550880000-1551052799@szlomasport.sk
SUMMARY:Díjugratás Dunatőkésen
DESCRIPTION:Hall Showjumping Tour 2018--2019\, 3. forduló \nHelyszín: Dunatőkés (Czajlik-rancs\, fedett lovarda) \nKezdés: 9.00 (mindkét napon) \nNaponta négy versenyszám
URL:https://szlomasport.sk/esemeny/dijugratas-dunatokesen-5/
LOCATION:Dunatőkés\, Dunatőkés\, Szlovákia
ATTACH;FMTTYPE=image/jpeg:https://szlomasport.sk/wp-content/uploads/2018/10/jCzajlik-BB-feketefeher.jpg
END:VEVENT
BEGIN:VEVENT
DTSTART;VALUE=DATE:20190224
DTEND;VALUE=DATE:20190225
DTSTAMP:20260423T175455
CREATED:20190120T190816Z
LAST-MODIFIED:20190222T065700Z
UID:16790-1550966400-1551052799@szlomasport.sk
SUMMARY:Fekvenyomás Füleken
DESCRIPTION:V. Purt Cup amatőr ifjúsági és juniorverseny \nHelyszín: Fülek (papréti alapiskola) \nKezdés: 9.30
URL:https://szlomasport.sk/esemeny/fekvenyomas-fuleken/
END:VEVENT
BEGIN:VEVENT
DTSTART;VALUE=DATE:20190224
DTEND;VALUE=DATE:20190225
DTSTAMP:20260423T175455
CREATED:20190209T190450Z
LAST-MODIFIED:20190209T190450Z
UID:16857-1550966400-1551052799@szlomasport.sk
SUMMARY:Labdarúgás Füleken
DESCRIPTION:Diákok (U15) teremtornája \nHelyszín: Fülek (sportcsarnok) \nKezdés: 9.00
URL:https://szlomasport.sk/esemeny/labdarugas-fuleken-4/
ATTACH;FMTTYPE=image/jpeg:https://szlomasport.sk/wp-content/uploads/2019/02/jfulekU15febr24.jpg
END:VEVENT
END:VCALENDAR