BEGIN:VCALENDAR
VERSION:2.0
PRODID:-//SZLOMASPORT - ECPv6.5.1.5//NONSGML v1.0//EN
CALSCALE:GREGORIAN
METHOD:PUBLISH
X-ORIGINAL-URL:https://szlomasport.sk
X-WR-CALDESC:Events for SZLOMASPORT
REFRESH-INTERVAL;VALUE=DURATION:PT1H
X-Robots-Tag:noindex
X-PUBLISHED-TTL:PT1H
BEGIN:VTIMEZONE
TZID:Europe/Bratislava
BEGIN:DAYLIGHT
TZOFFSETFROM:+0100
TZOFFSETTO:+0200
TZNAME:CEST
DTSTART:20190331T010000
END:DAYLIGHT
BEGIN:STANDARD
TZOFFSETFROM:+0200
TZOFFSETTO:+0100
TZNAME:CET
DTSTART:20191027T010000
END:STANDARD
END:VTIMEZONE
BEGIN:VEVENT
DTSTART;VALUE=DATE:20190223
DTEND;VALUE=DATE:20190225
DTSTAMP:20260423T175521
CREATED:20181031T140149Z
LAST-MODIFIED:20190222T063320Z
UID:16428-1550880000-1551052799@szlomasport.sk
SUMMARY:Díjugratás Dunatőkésen
DESCRIPTION:Hall Showjumping Tour 2018--2019\, 3. forduló \nHelyszín: Dunatőkés (Czajlik-rancs\, fedett lovarda) \nKezdés: 9.00 (mindkét napon) \nNaponta négy versenyszám
URL:https://szlomasport.sk/esemeny/dijugratas-dunatokesen-5/
LOCATION:Dunatőkés\, Dunatőkés\, Szlovákia
ATTACH;FMTTYPE=image/jpeg:https://szlomasport.sk/wp-content/uploads/2018/10/jCzajlik-BB-feketefeher.jpg
END:VEVENT
BEGIN:VEVENT
DTSTART;VALUE=DATE:20190223
DTEND;VALUE=DATE:20190224
DTSTAMP:20260423T175521
CREATED:20190222T064319Z
LAST-MODIFIED:20190222T064319Z
UID:16886-1550880000-1550966399@szlomasport.sk
SUMMARY:Labdarúgás Rozsnyón
DESCRIPTION:4. Barátság-kupa teremtorna a Rozsnyói járás csapatainak részvételével \nHelyszín: Rozsnyó (többcélú sportcsarnok) \nKezdés: 8.00 \nTizenöt csapat indul. \nCímvédő: Smolník \nAz ebédszünetben kezdők (U8\, U9) minitornája \n 
URL:https://szlomasport.sk/esemeny/labdarugas-rozsnyon/
ATTACH;FMTTYPE=image/jpeg:https://szlomasport.sk/wp-content/uploads/2019/02/rozsnyo4baratsag.jpg
END:VEVENT
END:VCALENDAR