BEGIN:VCALENDAR
VERSION:2.0
PRODID:-//SZLOMASPORT - ECPv6.5.1.5//NONSGML v1.0//EN
CALSCALE:GREGORIAN
METHOD:PUBLISH
X-ORIGINAL-URL:https://szlomasport.sk
X-WR-CALDESC:Events for SZLOMASPORT
REFRESH-INTERVAL;VALUE=DURATION:PT1H
X-Robots-Tag:noindex
X-PUBLISHED-TTL:PT1H
BEGIN:VTIMEZONE
TZID:Europe/Bratislava
BEGIN:DAYLIGHT
TZOFFSETFROM:+0100
TZOFFSETTO:+0200
TZNAME:CEST
DTSTART:20190331T010000
END:DAYLIGHT
BEGIN:STANDARD
TZOFFSETFROM:+0200
TZOFFSETTO:+0100
TZNAME:CET
DTSTART:20191027T010000
END:STANDARD
END:VTIMEZONE
BEGIN:VEVENT
DTSTART;VALUE=DATE:20190209
DTEND;VALUE=DATE:20190210
DTSTAMP:20260423T175628
CREATED:20190112T125451Z
LAST-MODIFIED:20190207T175924Z
UID:16764-1549670400-1549756799@szlomasport.sk
SUMMARY:Asztalitenisz Felsővámoson
DESCRIPTION:Amatőrök versenye \nNevezés: 8.15--8.45 \nKezdés: 9.00 \nCsak nem igazolt játékosok indulhatnak!
URL:https://szlomasport.sk/esemeny/asztalitenisz-felsovamoson/
END:VEVENT
END:VCALENDAR