BEGIN:VCALENDAR
VERSION:2.0
PRODID:-//SZLOMASPORT - ECPv6.5.1.5//NONSGML v1.0//EN
CALSCALE:GREGORIAN
METHOD:PUBLISH
X-WR-CALNAME:SZLOMASPORT
X-ORIGINAL-URL:https://szlomasport.sk
X-WR-CALDESC:Events for SZLOMASPORT
REFRESH-INTERVAL;VALUE=DURATION:PT1H
X-Robots-Tag:noindex
X-PUBLISHED-TTL:PT1H
BEGIN:VTIMEZONE
TZID:Europe/Bratislava
BEGIN:DAYLIGHT
TZOFFSETFROM:+0100
TZOFFSETTO:+0200
TZNAME:CEST
DTSTART:20190331T010000
END:DAYLIGHT
BEGIN:STANDARD
TZOFFSETFROM:+0200
TZOFFSETTO:+0100
TZNAME:CET
DTSTART:20191027T010000
END:STANDARD
END:VTIMEZONE
BEGIN:VEVENT
DTSTART;VALUE=DATE:20190202
DTEND;VALUE=DATE:20190203
DTSTAMP:20260423T175507
CREATED:20190127T194414Z
LAST-MODIFIED:20190201T094020Z
UID:16811-1549065600-1549151999@szlomasport.sk
SUMMARY:Kézilabda Csallóközaranyoson
DESCRIPTION:8. Csallóközaranyosi Kupa nemzetközi női torna \nHelyszín: Csallóközaranyos (Kóczán Mór Sportcsarnok) \nKezdés: 9.30 \nA műsor -- 9.30: Csallóközaranyos--Dunaszerdahely \n10.30: Göd--Mosonszolnok \n11.45: Csallóközaranyos--Göd \n12.45: Dunaszerdahely--Mosonszolnok \n14.00: Dunaszerdahely--Göd \n15.00: Csallóközaranyos--Mosonszolnok
URL:https://szlomasport.sk/esemeny/kezilabda-csallokozaranyoson-2/
END:VEVENT
END:VCALENDAR