BEGIN:VCALENDAR
VERSION:2.0
PRODID:-//SZLOMASPORT - ECPv6.5.1.5//NONSGML v1.0//EN
CALSCALE:GREGORIAN
METHOD:PUBLISH
X-ORIGINAL-URL:https://szlomasport.sk
X-WR-CALDESC:Events for SZLOMASPORT
REFRESH-INTERVAL;VALUE=DURATION:PT1H
X-Robots-Tag:noindex
X-PUBLISHED-TTL:PT1H
BEGIN:VTIMEZONE
TZID:Europe/Bratislava
BEGIN:DAYLIGHT
TZOFFSETFROM:+0100
TZOFFSETTO:+0200
TZNAME:CEST
DTSTART:20180325T010000
END:DAYLIGHT
BEGIN:STANDARD
TZOFFSETFROM:+0200
TZOFFSETTO:+0100
TZNAME:CET
DTSTART:20181028T010000
END:STANDARD
END:VTIMEZONE
BEGIN:VEVENT
DTSTART;VALUE=DATE:20181229
DTEND;VALUE=DATE:20181230
DTSTAMP:20260423T204740
CREATED:20181211T194938Z
LAST-MODIFIED:20181227T195459Z
UID:16648-1546041600-1546127999@szlomasport.sk
SUMMARY:Kézifoci Naszvadon
DESCRIPTION:A helyi kézilabdaklub hagyományos\, 5. három sportágas évvégi sportestéje \nHelyszín: Naszvad (Vlahy Jenő Sportcsarnok) \nKezdés: 15.00 \nVersenyszámok a nők és férfiak csatájában: foci\, fitlabdajáték\, kézilabda \nAz állás: 2:2 \n 
URL:https://szlomasport.sk/esemeny/kezifoci-naszvadon/
ATTACH;FMTTYPE=image/jpeg:https://szlomasport.sk/wp-content/uploads/2018/12/jplagat-kezifoci-2018-jpg-001.jpg
END:VEVENT
END:VCALENDAR