BEGIN:VCALENDAR
VERSION:2.0
PRODID:-//SZLOMASPORT - ECPv6.5.1.5//NONSGML v1.0//EN
CALSCALE:GREGORIAN
METHOD:PUBLISH
X-ORIGINAL-URL:https://szlomasport.sk
X-WR-CALDESC:Events for SZLOMASPORT
REFRESH-INTERVAL;VALUE=DURATION:PT1H
X-Robots-Tag:noindex
X-PUBLISHED-TTL:PT1H
BEGIN:VTIMEZONE
TZID:Europe/Bratislava
BEGIN:DAYLIGHT
TZOFFSETFROM:+0100
TZOFFSETTO:+0200
TZNAME:CEST
DTSTART:20180325T010000
END:DAYLIGHT
BEGIN:STANDARD
TZOFFSETFROM:+0200
TZOFFSETTO:+0100
TZNAME:CET
DTSTART:20181028T010000
END:STANDARD
END:VTIMEZONE
BEGIN:VEVENT
DTSTART;VALUE=DATE:20181215
DTEND;VALUE=DATE:20181216
DTSTAMP:20260423T204746
CREATED:20181115T093104Z
LAST-MODIFIED:20181208T160441Z
UID:16506-1544832000-1544918399@szlomasport.sk
SUMMARY:Teremfoci Füleken
DESCRIPTION:5. nemzetközi ifjúsági (U19) torna az FTC klubelnökének kupájáért \nHelyszín: Fülek (FTC stadion) \nKezdés: 9.00 \nInduló csapatok: Mályi SE\, Nyékládháza\, FC Jesenské\, FC Iskra Hnúšťa\, MFK Baník Veľký Krtíš\, FTC Fiľakovo
URL:https://szlomasport.sk/esemeny/teremfoci-fuleken-3/
ATTACH;FMTTYPE=image/jpeg:https://szlomasport.sk/wp-content/uploads/2018/11/jofulekfocidecn.jpg
END:VEVENT
END:VCALENDAR