BEGIN:VCALENDAR
VERSION:2.0
PRODID:-//SZLOMASPORT - ECPv6.5.1.5//NONSGML v1.0//EN
CALSCALE:GREGORIAN
METHOD:PUBLISH
X-WR-CALNAME:SZLOMASPORT
X-ORIGINAL-URL:https://szlomasport.sk
X-WR-CALDESC:Events for SZLOMASPORT
REFRESH-INTERVAL;VALUE=DURATION:PT1H
X-Robots-Tag:noindex
X-PUBLISHED-TTL:PT1H
BEGIN:VTIMEZONE
TZID:Europe/Bratislava
BEGIN:DAYLIGHT
TZOFFSETFROM:+0100
TZOFFSETTO:+0200
TZNAME:CEST
DTSTART:20180325T010000
END:DAYLIGHT
BEGIN:STANDARD
TZOFFSETFROM:+0200
TZOFFSETTO:+0100
TZNAME:CET
DTSTART:20181028T010000
END:STANDARD
END:VTIMEZONE
BEGIN:VEVENT
DTSTART;VALUE=DATE:20181208
DTEND;VALUE=DATE:20181209
DTSTAMP:20260423T204632
CREATED:20181129T100354Z
LAST-MODIFIED:20181204T175355Z
UID:16567-1544227200-1544313599@szlomasport.sk
SUMMARY:Futás Taksonyon
DESCRIPTION:Mikulás Futás a helyi karácsonyi vásár keretében \nHelyszín: Taksony (kultúrház) \nRajt: 14.00 (faluközpont) \nTáv: 3\,5 km
URL:https://szlomasport.sk/esemeny/futas-taksonyon/
END:VEVENT
BEGIN:VEVENT
DTSTART;VALUE=DATE:20181208
DTEND;VALUE=DATE:20181209
DTSTAMP:20260423T204632
CREATED:20181204T180401Z
LAST-MODIFIED:20181204T180401Z
UID:16602-1544227200-1544313599@szlomasport.sk
SUMMARY:Fogathajtás Dunatőkésen
DESCRIPTION:Mikulásnapi nemzetközi fedeles verseny \nHelyszín: Dunatőkés (Czajlik-rancs) \nKezdés: 10.00 \nEgyes és kettes fogatok indulnak \n 
URL:https://szlomasport.sk/esemeny/fogathajtas-dunatokesen-4/
END:VEVENT
END:VCALENDAR