BEGIN:VCALENDAR
VERSION:2.0
PRODID:-//SZLOMASPORT - ECPv6.5.1.5//NONSGML v1.0//EN
CALSCALE:GREGORIAN
METHOD:PUBLISH
X-ORIGINAL-URL:https://szlomasport.sk
X-WR-CALDESC:Events for SZLOMASPORT
REFRESH-INTERVAL;VALUE=DURATION:PT1H
X-Robots-Tag:noindex
X-PUBLISHED-TTL:PT1H
BEGIN:VTIMEZONE
TZID:Europe/Bratislava
BEGIN:DAYLIGHT
TZOFFSETFROM:+0100
TZOFFSETTO:+0200
TZNAME:CEST
DTSTART:20180325T010000
END:DAYLIGHT
BEGIN:STANDARD
TZOFFSETFROM:+0200
TZOFFSETTO:+0100
TZNAME:CET
DTSTART:20181028T010000
END:STANDARD
END:VTIMEZONE
BEGIN:VEVENT
DTSTART;VALUE=DATE:20181127
DTEND;VALUE=DATE:20181129
DTSTAMP:20260423T204737
CREATED:20181031T130932Z
LAST-MODIFIED:20181031T130932Z
UID:16421-1543276800-1543449599@szlomasport.sk
SUMMARY:Asztalitenisz Hodoson
DESCRIPTION:A férfi Szuperliga 2018/2019-es évadjában a B csoport második tornája \nHelyszín: Hodos (kultúrház) \nNovember 27\, 19.00: Vydrany--Region Slavonija and Baranja \nNovember 28.\, 14.30: Region Slavonija and Baranja--SG Stockerau \n19.00: SG Stockerau--Vydrany \nAz állás az I. torna után: 1. Stockerau 6\, 2. Vydrany4\, 3. Region Slavonija and Baranja 2.
URL:https://szlomasport.sk/esemeny/asztalitenisz-hodoson-4/
LOCATION:Hodos\, Hodos\, Szlovákia
END:VEVENT
END:VCALENDAR