BEGIN:VCALENDAR
VERSION:2.0
PRODID:-//SZLOMASPORT - ECPv6.5.1.5//NONSGML v1.0//EN
CALSCALE:GREGORIAN
METHOD:PUBLISH
X-ORIGINAL-URL:https://szlomasport.sk
X-WR-CALDESC:Events for SZLOMASPORT
REFRESH-INTERVAL;VALUE=DURATION:PT1H
X-Robots-Tag:noindex
X-PUBLISHED-TTL:PT1H
BEGIN:VTIMEZONE
TZID:Europe/Bratislava
BEGIN:DAYLIGHT
TZOFFSETFROM:+0100
TZOFFSETTO:+0200
TZNAME:CEST
DTSTART:20180325T010000
END:DAYLIGHT
BEGIN:STANDARD
TZOFFSETFROM:+0200
TZOFFSETTO:+0100
TZNAME:CET
DTSTART:20181028T010000
END:STANDARD
END:VTIMEZONE
BEGIN:VEVENT
DTSTART;VALUE=DATE:20181124
DTEND;VALUE=DATE:20181126
DTSTAMP:20260423T221108
CREATED:20181031T135446Z
LAST-MODIFIED:20181031T135446Z
UID:16426-1543017600-1543190399@szlomasport.sk
SUMMARY:Díjugratás Dunatőkésen
DESCRIPTION:Hall Showjumping Tour 2018--2019\, 2. forduló \nHelyszín: Dunatőkés (Czajlik-rancs\, fedett lovarda) \nKezdés: 9.00 (mindkét napon) \nNaponta négy versenyszám
URL:https://szlomasport.sk/esemeny/dijugratas-dunatokesen-4/
LOCATION:Dunatőkés\, Dunatőkés\, Szlovákia
END:VEVENT
END:VCALENDAR