BEGIN:VCALENDAR
VERSION:2.0
PRODID:-//SZLOMASPORT - ECPv6.5.1.5//NONSGML v1.0//EN
CALSCALE:GREGORIAN
METHOD:PUBLISH
X-ORIGINAL-URL:https://szlomasport.sk
X-WR-CALDESC:Events for SZLOMASPORT
REFRESH-INTERVAL;VALUE=DURATION:PT1H
X-Robots-Tag:noindex
X-PUBLISHED-TTL:PT1H
BEGIN:VTIMEZONE
TZID:Europe/Bratislava
BEGIN:DAYLIGHT
TZOFFSETFROM:+0100
TZOFFSETTO:+0200
TZNAME:CEST
DTSTART:20180325T010000
END:DAYLIGHT
BEGIN:STANDARD
TZOFFSETFROM:+0200
TZOFFSETTO:+0100
TZNAME:CET
DTSTART:20181028T010000
END:STANDARD
END:VTIMEZONE
BEGIN:VEVENT
DTSTART;VALUE=DATE:20181118
DTEND;VALUE=DATE:20181119
DTSTAMP:20260423T233156
CREATED:20181101T182028Z
LAST-MODIFIED:20181101T182028Z
UID:16438-1542499200-1542585599@szlomasport.sk
SUMMARY:MMA-ketrecharc Pozsonyban
DESCRIPTION:Az XFN közép-európai szervezet világszínvonalú gálája \nHelyszín: Pozsony (Ondrej Nepela Téli Stadion) \nKezdés: 19.00 \nA versenyzők között ketrecbe lép a bősi Buchinger Iván\, az MMA-harc szlovákiai királya is
URL:https://szlomasport.sk/esemeny/mma-ketrecharc-pozsonyban/
LOCATION:Pozsony\, Pozsony\, Szlovákia
ATTACH;FMTTYPE=image/jpeg:https://szlomasport.sk/wp-content/uploads/2018/11/XFNplagat_2018102134332.jpg
END:VEVENT
END:VCALENDAR