BEGIN:VCALENDAR
VERSION:2.0
PRODID:-//SZLOMASPORT - ECPv6.5.1.5//NONSGML v1.0//EN
CALSCALE:GREGORIAN
METHOD:PUBLISH
X-ORIGINAL-URL:https://szlomasport.sk
X-WR-CALDESC:Events for SZLOMASPORT
REFRESH-INTERVAL;VALUE=DURATION:PT1H
X-Robots-Tag:noindex
X-PUBLISHED-TTL:PT1H
BEGIN:VTIMEZONE
TZID:Europe/Bratislava
BEGIN:DAYLIGHT
TZOFFSETFROM:+0100
TZOFFSETTO:+0200
TZNAME:CEST
DTSTART:20180325T010000
END:DAYLIGHT
BEGIN:STANDARD
TZOFFSETFROM:+0200
TZOFFSETTO:+0100
TZNAME:CET
DTSTART:20181028T010000
END:STANDARD
END:VTIMEZONE
BEGIN:VEVENT
DTSTART;VALUE=DATE:20181110
DTEND;VALUE=DATE:20181111
DTSTAMP:20260423T221108
CREATED:20180524T092118Z
LAST-MODIFIED:20181101T180424Z
UID:15922-1541808000-1541894399@szlomasport.sk
SUMMARY:MMA-ketrecharc Komáromban
DESCRIPTION:Cage Fighting Komárno 5 nemzetközi gála \nHelyszín: Komárom (városi sportcsarnok) \nKezdés: 18.00 \nÖt ország -- Magyarország\, Csehország\, Montenegró\, Ausztria\, Szlovákia -- bunyósai a kettecben \nEste tizenegyig nyolc amatőr és nyolc profi meccs vár a kőkemény harcokat kedvelő közönségre. \nBemutatkozik négy komáromi is: Kedro Nikolas\, Kurira Derisz\, Nagy Arnold és Kádár Filip
URL:https://szlomasport.sk/esemeny/mma-ketrecharc-komaromban-2/
LOCATION:Komárom\, Komárom\, Szlovákia
ATTACH;FMTTYPE=image/png:https://szlomasport.sk/wp-content/uploads/2018/05/farkas-november-Custom.png
END:VEVENT
END:VCALENDAR