BEGIN:VCALENDAR
VERSION:2.0
PRODID:-//SZLOMASPORT - ECPv6.5.1.5//NONSGML v1.0//EN
CALSCALE:GREGORIAN
METHOD:PUBLISH
X-WR-CALNAME:SZLOMASPORT
X-ORIGINAL-URL:https://szlomasport.sk
X-WR-CALDESC:Events for SZLOMASPORT
REFRESH-INTERVAL;VALUE=DURATION:PT1H
X-Robots-Tag:noindex
X-PUBLISHED-TTL:PT1H
BEGIN:VTIMEZONE
TZID:Europe/Bratislava
BEGIN:DAYLIGHT
TZOFFSETFROM:+0100
TZOFFSETTO:+0200
TZNAME:CEST
DTSTART:20180325T010000
END:DAYLIGHT
BEGIN:STANDARD
TZOFFSETFROM:+0200
TZOFFSETTO:+0100
TZNAME:CET
DTSTART:20181028T010000
END:STANDARD
END:VTIMEZONE
BEGIN:VEVENT
DTSTART;VALUE=DATE:20180930
DTEND;VALUE=DATE:20181001
DTSTAMP:20260424T005932
CREATED:20180928T093629Z
LAST-MODIFIED:20180928T093629Z
UID:16364-1538265600-1538351999@szlomasport.sk
SUMMARY:Kerékpártúra Füleken
DESCRIPTION:Vezetett kerékpártúra\,  Nógrád Geopark rendezvénye \nTalálka: 9.30\, Fülek (a vár előtt) \nÚtvonal: a plakáton \nTáv: 62 km \n 
URL:https://szlomasport.sk/esemeny/kerekpartura-fuleken/
LOCATION:Fülek\, Fülek\, Szlovákia
ATTACH;FMTTYPE=image/jpeg:https://szlomasport.sk/wp-content/uploads/2018/09/kerekturageo.jpg
END:VEVENT
END:VCALENDAR