BEGIN:VCALENDAR
VERSION:2.0
PRODID:-//SZLOMASPORT - ECPv6.5.1.5//NONSGML v1.0//EN
CALSCALE:GREGORIAN
METHOD:PUBLISH
X-ORIGINAL-URL:https://szlomasport.sk
X-WR-CALDESC:Events for SZLOMASPORT
REFRESH-INTERVAL;VALUE=DURATION:PT1H
X-Robots-Tag:noindex
X-PUBLISHED-TTL:PT1H
BEGIN:VTIMEZONE
TZID:Europe/Bratislava
BEGIN:DAYLIGHT
TZOFFSETFROM:+0100
TZOFFSETTO:+0200
TZNAME:CEST
DTSTART:20180325T010000
END:DAYLIGHT
BEGIN:STANDARD
TZOFFSETFROM:+0200
TZOFFSETTO:+0100
TZNAME:CET
DTSTART:20181028T010000
END:STANDARD
END:VTIMEZONE
BEGIN:VEVENT
DTSTART;VALUE=DATE:20180928
DTEND;VALUE=DATE:20180929
DTSTAMP:20260424T010104
CREATED:20180928T092524Z
LAST-MODIFIED:20180928T092524Z
UID:16362-1538092800-1538179199@szlomasport.sk
SUMMARY:Asztalitenisz Érsekújvárott
DESCRIPTION:Férfi-extraligamérkőzés\, 1. forduló \nHelyszín: Érsekújvár (asztalitenisz-csarnok\, Jirásková 23) \nPárosítás: Interspead Nové Zámky--Vydrany \nKezdés: 18.00 \n 
URL:https://szlomasport.sk/esemeny/asztalitenisz-ersekujvarott/
LOCATION:Érsekújvár\, Érsekújvár\, Szlovákia
END:VEVENT
END:VCALENDAR