BEGIN:VCALENDAR
VERSION:2.0
PRODID:-//SZLOMASPORT - ECPv6.5.1.5//NONSGML v1.0//EN
CALSCALE:GREGORIAN
METHOD:PUBLISH
X-ORIGINAL-URL:https://szlomasport.sk
X-WR-CALDESC:Events for SZLOMASPORT
REFRESH-INTERVAL;VALUE=DURATION:PT1H
X-Robots-Tag:noindex
X-PUBLISHED-TTL:PT1H
BEGIN:VTIMEZONE
TZID:Europe/Bratislava
BEGIN:DAYLIGHT
TZOFFSETFROM:+0100
TZOFFSETTO:+0200
TZNAME:CEST
DTSTART:20180325T010000
END:DAYLIGHT
BEGIN:STANDARD
TZOFFSETFROM:+0200
TZOFFSETTO:+0100
TZNAME:CET
DTSTART:20181028T010000
END:STANDARD
END:VTIMEZONE
BEGIN:VEVENT
DTSTART;VALUE=DATE:20180916
DTEND;VALUE=DATE:20180917
DTSTAMP:20260424T010103
CREATED:20180914T113314Z
LAST-MODIFIED:20180914T113314Z
UID:16306-1537056000-1537142399@szlomasport.sk
SUMMARY:Gyalogtúra Egyházasbástról
DESCRIPTION:Túra a Szár-kőhöz (a Medvesalja Polgári Társulás rendezvénye) \nRegisztráció: 8.00 (Bed & More Pogányvár\, Egyházasbást)\nIndulás: 8.30\nVárható érkezés: 16.00\nTúravezető: Kovács Roland \n"Autóval Ajnácskőbe megyünk\, illetve azon át a Szelec-pusztáig. Erdei utakon érjük el a Szár-kő bazaltorgonáit\, a Zaboda alatt haladunk el. Vissza pedig ugyanezen az úton jövünk vissza." (idézet a szervezők ajánlójából) \n 
URL:https://szlomasport.sk/esemeny/gyalogtura-egyhazasbastrol-2/
LOCATION:Egyházasbást\, Egyházasbást\, Szlovákia
END:VEVENT
END:VCALENDAR