BEGIN:VCALENDAR
VERSION:2.0
PRODID:-//SZLOMASPORT - ECPv6.5.1.5//NONSGML v1.0//EN
CALSCALE:GREGORIAN
METHOD:PUBLISH
X-ORIGINAL-URL:https://szlomasport.sk
X-WR-CALDESC:Events for SZLOMASPORT
REFRESH-INTERVAL;VALUE=DURATION:PT1H
X-Robots-Tag:noindex
X-PUBLISHED-TTL:PT1H
BEGIN:VTIMEZONE
TZID:Europe/Bratislava
BEGIN:DAYLIGHT
TZOFFSETFROM:+0100
TZOFFSETTO:+0200
TZNAME:CEST
DTSTART:20180325T010000
END:DAYLIGHT
BEGIN:STANDARD
TZOFFSETFROM:+0200
TZOFFSETTO:+0100
TZNAME:CET
DTSTART:20181028T010000
END:STANDARD
END:VTIMEZONE
BEGIN:VEVENT
DTSTART;VALUE=DATE:20180908
DTEND;VALUE=DATE:20180909
DTSTAMP:20260424T010058
CREATED:20180216T090220Z
LAST-MODIFIED:20180831T120413Z
UID:15521-1536364800-1536451199@szlomasport.sk
SUMMARY:Westernlovaglás Nyékvárkonyon
DESCRIPTION:Westernlovagló Vándorkupa 2018\, tizedik állomás \nHelyszín: Nyékvárkony (lovasklub) \nKezdés: 11.00
URL:https://szlomasport.sk/esemeny/westernlovaglas-nyekvarkonyon/
LOCATION:Nyékvárkony\, Nyékvárkony\, Szlovákia
ATTACH;FMTTYPE=image/jpeg:https://szlomasport.sk/wp-content/uploads/2018/02/westernnyekvark.jpg
END:VEVENT
BEGIN:VEVENT
DTSTART;VALUE=DATE:20180908
DTEND;VALUE=DATE:20180909
DTSTAMP:20260424T010058
CREATED:20180407T104438Z
LAST-MODIFIED:20180831T120719Z
UID:15719-1536364800-1536451199@szlomasport.sk
SUMMARY:Fogathajtás Dunatőkésen
DESCRIPTION:A nyolc versenyből álló 2018-as dél-szlovákiai sorozat hetedik állomása \nHelyszín: Dunatőkés \nKezdés: 11.00 \n 
URL:https://szlomasport.sk/esemeny/fogathajtas-dunatokesen-3/
LOCATION:Dunatőkés\, Dunatőkés\, Szlovákia
END:VEVENT
BEGIN:VEVENT
DTSTART;VALUE=DATE:20180908
DTEND;VALUE=DATE:20180909
DTSTAMP:20260424T010058
CREATED:20180704T125406Z
LAST-MODIFIED:20180831T124448Z
UID:16079-1536364800-1536451199@szlomasport.sk
SUMMARY:Sakk Bátorkeszin
DESCRIPTION:EuroPRESS-kupa és Kráľ Klaudia-emlékverseny az alapiskolások alsó és felső tagozatosai részére \nHelyszín: Bátorkeszi (kultúrház) \nNevezés: 8.00-tól \nKezdés: 9.30 \nLebonyolítás: 7 forduló\, 15 perces partik \n 
URL:https://szlomasport.sk/esemeny/sakk-batorkeszin-3/
LOCATION:Bátorkeszi\, Bátorkeszi\, Szlovákia
ATTACH;FMTTYPE=image/jpeg:https://szlomasport.sk/wp-content/uploads/2018/07/europresskupa-Custom.jpg
END:VEVENT
END:VCALENDAR