BEGIN:VCALENDAR
VERSION:2.0
PRODID:-//SZLOMASPORT - ECPv6.5.1.5//NONSGML v1.0//EN
CALSCALE:GREGORIAN
METHOD:PUBLISH
X-ORIGINAL-URL:https://szlomasport.sk
X-WR-CALDESC:Events for SZLOMASPORT
REFRESH-INTERVAL;VALUE=DURATION:PT1H
X-Robots-Tag:noindex
X-PUBLISHED-TTL:PT1H
BEGIN:VTIMEZONE
TZID:Europe/Bratislava
BEGIN:DAYLIGHT
TZOFFSETFROM:+0100
TZOFFSETTO:+0200
TZNAME:CEST
DTSTART:20180325T010000
END:DAYLIGHT
BEGIN:STANDARD
TZOFFSETFROM:+0200
TZOFFSETTO:+0100
TZNAME:CET
DTSTART:20181028T010000
END:STANDARD
END:VTIMEZONE
BEGIN:VEVENT
DTSTART;VALUE=DATE:20180829
DTEND;VALUE=DATE:20180902
DTSTAMP:20260424T005948
CREATED:20180820T082512Z
LAST-MODIFIED:20180828T132016Z
UID:16234-1535500800-1535846399@szlomasport.sk
SUMMARY:Sakk Érsekújvárott
DESCRIPTION:11. Barátság-kupa nemzetközi verseny Tatárik Emil emlékére \nHelyszín: Érsekújvár (építőipari szakközépiskola\, Nitrianska cesta 61) \nFordulók száma: 7\, a FIDE szabályok szerint \nNevezés: 14.00--14.45 \nMűsor -- augusztus 29\, 15.00: 1. forduló \nAugusztus 30.\, 9.00: 2. forduló\, 15.00: 3. forduló \nAugusztus 31.\, 9.00: 4. forduló\, 15.00: 5. forduló \nSzeptember 1.\, 8.30: 6. forduló\, 13.45: 7. forduló \n18.00: eredményhirdetés \nTovábbi részletek: www.nzsk.szm.sk
URL:https://szlomasport.sk/esemeny/sakk-ersekujvarott/
LOCATION:Érsekújvár\, Érsekújvár\, Szlovákia
END:VEVENT
END:VCALENDAR