BEGIN:VCALENDAR
VERSION:2.0
PRODID:-//SZLOMASPORT - ECPv6.5.1.5//NONSGML v1.0//EN
CALSCALE:GREGORIAN
METHOD:PUBLISH
X-ORIGINAL-URL:https://szlomasport.sk
X-WR-CALDESC:Events for SZLOMASPORT
REFRESH-INTERVAL;VALUE=DURATION:PT1H
X-Robots-Tag:noindex
X-PUBLISHED-TTL:PT1H
BEGIN:VTIMEZONE
TZID:Europe/Bratislava
BEGIN:DAYLIGHT
TZOFFSETFROM:+0100
TZOFFSETTO:+0200
TZNAME:CEST
DTSTART:20180325T010000
END:DAYLIGHT
BEGIN:STANDARD
TZOFFSETFROM:+0200
TZOFFSETTO:+0100
TZNAME:CET
DTSTART:20181028T010000
END:STANDARD
END:VTIMEZONE
BEGIN:VEVENT
DTSTART;VALUE=DATE:20180825
DTEND;VALUE=DATE:20180827
DTSTAMP:20260424T022315
CREATED:20171202T150430Z
LAST-MODIFIED:20180824T085035Z
UID:15226-1535155200-1535327999@szlomasport.sk
SUMMARY:Kerékpártúra a Medvesalján
DESCRIPTION:2. Gasztro Kerékpártúra Gömörországban a Medvesalja Polgári Társulás szervezésében \nHelyszín: Egyházasbást \nMűsor -- augusztus 25. (szombat)\n8.00 - Reggeli piknik\n9.30 - Veterán kerékpáros találkozó\n10.00 - gyülekező (Bed&More Pogányvár)\n10.30 - Családi gasztrotúra\nÚtvonal: Egyházasbást - Almágy - Ajnácskő - Csevicce - Óbást - Egyházasbást\nTáv: 20 km\nVárható érkezés: 14.30\n"Közben megkóstoljuk a barkó tepertős pogácsát\, a cseviccét\, a krumplibabát és a pampuskát. Útba ejtjük a festett kazettás mennyezetű almágyi templomot\, az ajnácskői várat\, a csevicce forrását\, az Óbásti-tavat és az egyházasbásti Erdőtársulatok délutánját." -- idézet a szervezők meghívójából \nVeteránbiciklik délelőtti felvonulása\n10.30 - Egyházasbást\n11.00 - Almágy\n11.45 - Gömörpéterfala \n15.00 - Veteránbiciklik kiállítása\n17.00 - Borkóstoló Ádám Sándor boraiból\n18.30 - Bíró Zsolt előadása a Medvés-körről\n19.00 - Táncház Topor Ferenccel \nAugusztus 26. (vasárnap) \n8.30: gyülekező (Bed&More Pogányvár) \n9.00 - Út az Igazvölgybe - kerékpártúra felnőtteknek\nÚtvonal: Egyházasbást - Istenmezeje - Erdőkövesd - Váraszó - Egyházasbást\nTáv: 55 km\nVárható érkezés: 15.00 \n"Megízleljük az erdőkövesdi töltött paprikát és megtudhatjuk azt is\, hogy milyen íze van a házi cerbona szeletnek." - idézet a szervezők meghívójából \nFIGYELEM! Az útvonal félig közúton\, félig terepen halad! \nA kerékpártúrákon való részvételhez ELŐREGISZTRÁCIÓ szükséges\, amelyet augusztus 22. (szerda) éjfélig lehet megtenni az alábbi űrlap kitöltésével!\nhttps://goo.gl/forms/ckE3zRtUvD6UhafC3 \nA regisztráció díja 3 EUR/1000 Ft!\n12 éves kor alatt ingyenes! \nA hétvége során lehetőség lesz bicikli kölcsönzésre is! Ára: 9 EUR/2500 Ft \n 
URL:https://szlomasport.sk/esemeny/medvesaljai-gasztro-kerekpartura/
LOCATION:Egyházasbást\, Egyházasbást\, Szlovákia
ATTACH;FMTTYPE=image/jpeg:https://szlomasport.sk/wp-content/uploads/2017/12/2.-Gasztro-Kerékpártúra-Gömörországban-Custom.jpg
END:VEVENT
BEGIN:VEVENT
DTSTART;VALUE=DATE:20180825
DTEND;VALUE=DATE:20180826
DTSTAMP:20260424T022315
CREATED:20180324T214350Z
LAST-MODIFIED:20180824T090551Z
UID:15650-1535155200-1535241599@szlomasport.sk
SUMMARY:Futás Bősön
DESCRIPTION:4. Bősi Futás a helyi futóklub szervezésében \nHelyszín: Bős (versenyközpont\, alapiskola) \n8.00--10.30: nevezés \nRajt\, 8.45: 300 m (óvodások). Utána: 1 km (alapiskolások\, alsó tagozat)\, 2 km (alapiskolások\, felső tagozat) \n10.00: 2 km (tolókocsisok versenye) \n11.00: 5 km (tolókocsisok is) és 10 km  (mindkét táv felnőtteknek)
URL:https://szlomasport.sk/esemeny/futas-boson/
LOCATION:Bős\, Bős\, Szlovákia
END:VEVENT
BEGIN:VEVENT
DTSTART;VALUE=DATE:20180825
DTEND;VALUE=DATE:20180826
DTSTAMP:20260424T022315
CREATED:20180407T103903Z
LAST-MODIFIED:20180824T091042Z
UID:15716-1535155200-1535241599@szlomasport.sk
SUMMARY:Fogathajtás Zsigárdon
DESCRIPTION:A nyolc versenyből álló 2018-as dél-szlovákiai sorozat hatodik állomása \nHelyszín: Zsigárd (Kolozsi-rancs) \nKezdés: 11.00 \nVersenyszámok: akadályhajtás\, vadászhajtás
URL:https://szlomasport.sk/esemeny/fogathajtas-zsigardon-3/
LOCATION:Zsigárd\, Zsigárd\, Szlovákia
END:VEVENT
BEGIN:VEVENT
DTSTART;VALUE=DATE:20180825
DTEND;VALUE=DATE:20180826
DTSTAMP:20260424T022315
CREATED:20180820T081121Z
LAST-MODIFIED:20180824T130524Z
UID:16231-1535155200-1535241599@szlomasport.sk
SUMMARY:Futás Salgótarján és Losonc között
DESCRIPTION:III. Nemzetközi Nógrád Maraton \nNevezés: 13.30-ig (Salgótarján) \nRajt: Salgótarján\, 14.00 \nCél: Losonc (a Losonci Napok főtribünje előtt) \nVersenyszámok: egyéni\, váltó (4 taggal) \nÚtvonal: Salgótarján--Somorkőújfalu--Sátorosbánya (Šiatorská Bukovinka)--Ragyolc--Fülekpüspöki--Fülek--Füleksávoly (Šávoľ)--Buzitka--Perse (Prša)--Fülekkovácsi--Losonc \nIdőlimit: 5 óra \n 
URL:https://szlomasport.sk/esemeny/futas-salgotarjan-es-losonc-kozott/
LOCATION:Salgótarján\, Salgótarján\, Magyarország
END:VEVENT
END:VCALENDAR