BEGIN:VCALENDAR
VERSION:2.0
PRODID:-//SZLOMASPORT - ECPv6.5.1.5//NONSGML v1.0//EN
CALSCALE:GREGORIAN
METHOD:PUBLISH
X-WR-CALNAME:SZLOMASPORT
X-ORIGINAL-URL:https://szlomasport.sk
X-WR-CALDESC:Events for SZLOMASPORT
REFRESH-INTERVAL;VALUE=DURATION:PT1H
X-Robots-Tag:noindex
X-PUBLISHED-TTL:PT1H
BEGIN:VTIMEZONE
TZID:Europe/Bratislava
BEGIN:DAYLIGHT
TZOFFSETFROM:+0100
TZOFFSETTO:+0200
TZNAME:CEST
DTSTART:20180325T010000
END:DAYLIGHT
BEGIN:STANDARD
TZOFFSETFROM:+0200
TZOFFSETTO:+0100
TZNAME:CET
DTSTART:20181028T010000
END:STANDARD
END:VTIMEZONE
BEGIN:VEVENT
DTSTART;VALUE=DATE:20180810
DTEND;VALUE=DATE:20180813
DTSTAMP:20260424T021951
CREATED:20180420T084838Z
LAST-MODIFIED:20180806T225818Z
UID:15754-1533859200-1534118399@szlomasport.sk
SUMMARY:Díjlovaglás Dunatőkésen
DESCRIPTION:Donau-Bohemia Trophy 2018 -- döntő \nHelyszín: Dunatőkés (fedett lovarda) \nNégy közép-európai ország -- Magyarország\, Ausztria\, Csehország\, Szlovákia -- lovasainak hagyományos versenysorozata \nKezdés -- 10.00 (péntek)\, 9.00 (szombat\, vasárnap)
URL:https://szlomasport.sk/esemeny/dijlovaglas-dunatokesen-2/
LOCATION:Dunatőkés\, Dunatőkés\, Szlovákia
END:VEVENT
BEGIN:VEVENT
DTSTART;VALUE=DATE:20180811
DTEND;VALUE=DATE:20180812
DTSTAMP:20260424T021951
CREATED:20180216T085747Z
LAST-MODIFIED:20180806T225435Z
UID:15519-1533945600-1534031999@szlomasport.sk
SUMMARY:Westernlovaglás Nyírágón
DESCRIPTION:Westernlovagló Vándorkupa 2018\, kilencedik állomás \nHelyszín: Nyírágó (Nýrwest) \nKezdés: 11.00
URL:https://szlomasport.sk/esemeny/westernlovaglas-nyiragon/
LOCATION:Nyírágó\, Nyírágó\, Szlovákia
ATTACH;FMTTYPE=image/jpeg:https://szlomasport.sk/wp-content/uploads/2018/02/westernnyirago.jpg
END:VEVENT
BEGIN:VEVENT
DTSTART;VALUE=DATE:20180811
DTEND;VALUE=DATE:20180812
DTSTAMP:20260424T021951
CREATED:20180719T182347Z
LAST-MODIFIED:20180724T084728Z
UID:16149-1533945600-1534031999@szlomasport.sk
SUMMARY:Futás Hodoson
DESCRIPTION:Futafalu-4. hagyományos verseny a Nemeshodosi Nagy Lakoma keretében \nHelyszín: Hodos \nNevezés: 8.00 \nRajt: 9.00 (200 m\, gyerekek)\, 9.30 (5 km\, felnőttek) \n 
URL:https://szlomasport.sk/esemeny/futas-hodoson/
LOCATION:Hodos\, Hodos\, Szlovákia
END:VEVENT
BEGIN:VEVENT
DTSTART;VALUE=DATE:20180811
DTEND;VALUE=DATE:20180812
DTSTAMP:20260424T021951
CREATED:20180724T092314Z
LAST-MODIFIED:20180806T230110Z
UID:16168-1533945600-1534031999@szlomasport.sk
SUMMARY:Görkorizás Deákin
DESCRIPTION:Gyere\, korizz velünk! hagyományos rendezvény \nHelyszín: Deáki (az ipari parkba vezető bekötőút) \nKezdés: 9.00 \nAlapadag: 1 km
URL:https://szlomasport.sk/esemeny/gorkorizas-deakin/
LOCATION:Deáki\, Deáki\, Szlovákia
END:VEVENT
END:VCALENDAR