BEGIN:VCALENDAR
VERSION:2.0
PRODID:-//SZLOMASPORT - ECPv6.5.1.5//NONSGML v1.0//EN
CALSCALE:GREGORIAN
METHOD:PUBLISH
X-ORIGINAL-URL:https://szlomasport.sk
X-WR-CALDESC:Events for SZLOMASPORT
REFRESH-INTERVAL;VALUE=DURATION:PT1H
X-Robots-Tag:noindex
X-PUBLISHED-TTL:PT1H
BEGIN:VTIMEZONE
TZID:Europe/Bratislava
BEGIN:DAYLIGHT
TZOFFSETFROM:+0100
TZOFFSETTO:+0200
TZNAME:CEST
DTSTART:20180325T010000
END:DAYLIGHT
BEGIN:STANDARD
TZOFFSETFROM:+0200
TZOFFSETTO:+0100
TZNAME:CET
DTSTART:20181028T010000
END:STANDARD
END:VTIMEZONE
BEGIN:VEVENT
DTSTART;VALUE=DATE:20180810
DTEND;VALUE=DATE:20180813
DTSTAMP:20260424T022315
CREATED:20180420T084838Z
LAST-MODIFIED:20180806T225818Z
UID:15754-1533859200-1534118399@szlomasport.sk
SUMMARY:Díjlovaglás Dunatőkésen
DESCRIPTION:Donau-Bohemia Trophy 2018 -- döntő \nHelyszín: Dunatőkés (fedett lovarda) \nNégy közép-európai ország -- Magyarország\, Ausztria\, Csehország\, Szlovákia -- lovasainak hagyományos versenysorozata \nKezdés -- 10.00 (péntek)\, 9.00 (szombat\, vasárnap)
URL:https://szlomasport.sk/esemeny/dijlovaglas-dunatokesen-2/
LOCATION:Dunatőkés\, Dunatőkés\, Szlovákia
END:VEVENT
BEGIN:VEVENT
DTSTART;VALUE=DATE:20180810
DTEND;VALUE=DATE:20180811
DTSTAMP:20260424T022315
CREATED:20180724T090601Z
LAST-MODIFIED:20180724T090601Z
UID:16165-1533859200-1533945599@szlomasport.sk
SUMMARY:Labdarúgás Gútán
DESCRIPTION:13. 11-esrúgóverseny  \nHelyszín: Gúta (Gőgh Kálmán Stadion) \nKezdés: 15.00 \nTovábbi infók: 0905/661 206 \nHonlapunk az esemény médiapartnere
URL:https://szlomasport.sk/esemeny/labdarugas-gutan-2/
LOCATION:Gúta\, Gúta\, Szlovákia
ATTACH;FMTTYPE=image/jpeg:https://szlomasport.sk/wp-content/uploads/2018/07/gutai11-es2018-Custom.jpg
END:VEVENT
END:VCALENDAR