BEGIN:VCALENDAR
VERSION:2.0
PRODID:-//SZLOMASPORT - ECPv6.5.1.5//NONSGML v1.0//EN
CALSCALE:GREGORIAN
METHOD:PUBLISH
X-WR-CALNAME:SZLOMASPORT
X-ORIGINAL-URL:https://szlomasport.sk
X-WR-CALDESC:Events for SZLOMASPORT
REFRESH-INTERVAL;VALUE=DURATION:PT1H
X-Robots-Tag:noindex
X-PUBLISHED-TTL:PT1H
BEGIN:VTIMEZONE
TZID:Europe/Bratislava
BEGIN:DAYLIGHT
TZOFFSETFROM:+0100
TZOFFSETTO:+0200
TZNAME:CEST
DTSTART:20180325T010000
END:DAYLIGHT
BEGIN:STANDARD
TZOFFSETFROM:+0200
TZOFFSETTO:+0100
TZNAME:CET
DTSTART:20181028T010000
END:STANDARD
END:VTIMEZONE
BEGIN:VEVENT
DTSTART;VALUE=DATE:20180729
DTEND;VALUE=DATE:20180730
DTSTAMP:20260424T034017
CREATED:20180704T124246Z
LAST-MODIFIED:20180726T234732Z
UID:16076-1532822400-1532908799@szlomasport.sk
SUMMARY:Díjugratás Dunatőkésen
DESCRIPTION:XXV. Tőkési Kupa \nHelyszín: Dunatőkés (Czajlik-ranch) \nKezdés: 14.00 \nVersenyszámok: 100 cm-es akadályverseny\, Abanderáda Díj (110 cm)\, Tőkési Kupa (120 cm)\, kitartásos magasugrás az Igazgatói Kupáért
URL:https://szlomasport.sk/esemeny/dijugratas-dunatokesen-2/
LOCATION:Dunatőkés\, Dunatőkés\, Szlovákia
ATTACH;FMTTYPE=image/jpeg:https://szlomasport.sk/wp-content/uploads/2018/07/XXV-tokesi-kupa-Custom.jpg
END:VEVENT
END:VCALENDAR