BEGIN:VCALENDAR
VERSION:2.0
PRODID:-//SZLOMASPORT - ECPv6.5.1.5//NONSGML v1.0//EN
CALSCALE:GREGORIAN
METHOD:PUBLISH
X-ORIGINAL-URL:https://szlomasport.sk
X-WR-CALDESC:Events for SZLOMASPORT
REFRESH-INTERVAL;VALUE=DURATION:PT1H
X-Robots-Tag:noindex
X-PUBLISHED-TTL:PT1H
BEGIN:VTIMEZONE
TZID:Europe/Bratislava
BEGIN:DAYLIGHT
TZOFFSETFROM:+0100
TZOFFSETTO:+0200
TZNAME:CEST
DTSTART:20180325T010000
END:DAYLIGHT
BEGIN:STANDARD
TZOFFSETFROM:+0200
TZOFFSETTO:+0100
TZNAME:CET
DTSTART:20181028T010000
END:STANDARD
END:VTIMEZONE
BEGIN:VEVENT
DTSTART;VALUE=DATE:20180616
DTEND;VALUE=DATE:20180618
DTSTAMP:20260424T050647
CREATED:20180615T092437Z
LAST-MODIFIED:20180615T092437Z
UID:16010-1529107200-1529279999@szlomasport.sk
SUMMARY:Kajak-kenu Komáromban
DESCRIPTION:60. Komárom Nagydíja nemzetközi viadal \nHelyszín: Komárom (csónakház és környéke a Vág-Duna mentén) \nMűsor -- szombat\, 10.00--18.00: 500 m és 2 km (diákok) \nVasárnap\, 9.00--14.00: 5 km és 2 km
URL:https://szlomasport.sk/esemeny/kajak-kenu-komaromban-2/
LOCATION:Komárom\, Komárom\, Szlovákia
END:VEVENT
BEGIN:VEVENT
DTSTART;VALUE=DATE:20180617
DTEND;VALUE=DATE:20180618
DTSTAMP:20260424T050647
CREATED:20180404T190459Z
LAST-MODIFIED:20180615T092957Z
UID:15695-1529193600-1529279999@szlomasport.sk
SUMMARY:Fogathajtás Zsigárdon
DESCRIPTION:A nyolc versenyből álló 2018-as dél-szlovákiai sorozat második állomása \nHelyszín: Zsigárd \nKezdés: 11.00 \n 
URL:https://szlomasport.sk/esemeny/fogathajtas-zsigardon-2/
LOCATION:Zsigárd\, Zsigárd\, Szlovákia
END:VEVENT
END:VCALENDAR