BEGIN:VCALENDAR
VERSION:2.0
PRODID:-//SZLOMASPORT - ECPv6.5.1.5//NONSGML v1.0//EN
CALSCALE:GREGORIAN
METHOD:PUBLISH
X-ORIGINAL-URL:https://szlomasport.sk
X-WR-CALDESC:Events for SZLOMASPORT
REFRESH-INTERVAL;VALUE=DURATION:PT1H
X-Robots-Tag:noindex
X-PUBLISHED-TTL:PT1H
BEGIN:VTIMEZONE
TZID:Europe/Bratislava
BEGIN:DAYLIGHT
TZOFFSETFROM:+0100
TZOFFSETTO:+0200
TZNAME:CEST
DTSTART:20180325T010000
END:DAYLIGHT
BEGIN:STANDARD
TZOFFSETFROM:+0200
TZOFFSETTO:+0100
TZNAME:CET
DTSTART:20181028T010000
END:STANDARD
END:VTIMEZONE
BEGIN:VEVENT
DTSTART;VALUE=DATE:20180603
DTEND;VALUE=DATE:20180604
DTSTAMP:20260424T050749
CREATED:20180312T092953Z
LAST-MODIFIED:20180312T092953Z
UID:15598-1527984000-1528070399@szlomasport.sk
SUMMARY:Futás Felsőszeliben
DESCRIPTION:VI. Felsőszeli 10 km-es futás és IV. Szeli Félmaraton \nVersenyközpont: Felsőszeli (Nyerges-lovaslétesítmény) \nVersenytávok: 3 km (Felsőszeli utcáin)\, 10 km (Felsőszeli--Körtvélyes--Alsószeli--Felsőszeli)\, 21\,1 km (az előbbi útvonal kétszer). \nOnline-jelentkezés és több információ a www.ronirunclub.sk honlapon
URL:https://szlomasport.sk/esemeny/futas-felsoszeliben/
LOCATION:Felsőszeli\, Felsőszeli\, Szlovákia
END:VEVENT
END:VCALENDAR