BEGIN:VCALENDAR
VERSION:2.0
PRODID:-//SZLOMASPORT - ECPv6.5.1.5//NONSGML v1.0//EN
CALSCALE:GREGORIAN
METHOD:PUBLISH
X-ORIGINAL-URL:https://szlomasport.sk
X-WR-CALDESC:Events for SZLOMASPORT
REFRESH-INTERVAL;VALUE=DURATION:PT1H
X-Robots-Tag:noindex
X-PUBLISHED-TTL:PT1H
BEGIN:VTIMEZONE
TZID:Europe/Bratislava
BEGIN:DAYLIGHT
TZOFFSETFROM:+0100
TZOFFSETTO:+0200
TZNAME:CEST
DTSTART:20180325T010000
END:DAYLIGHT
BEGIN:STANDARD
TZOFFSETFROM:+0200
TZOFFSETTO:+0100
TZNAME:CET
DTSTART:20181028T010000
END:STANDARD
END:VTIMEZONE
BEGIN:VEVENT
DTSTART;VALUE=DATE:20180601
DTEND;VALUE=DATE:20180603
DTSTAMP:20260424T050646
CREATED:20180120T181511Z
LAST-MODIFIED:20180531T091351Z
UID:15396-1527811200-1527983999@szlomasport.sk
SUMMARY:Foci Nagyszigeten
DESCRIPTION:4. Nagyszigeti Gyermeknap és Focitorna \nHelyszín: Nagysziget (futballpálya) \nNégy korosztályban lesz focitorna a gútai Gooal Academy rendezésében \nA műsor \nU13 \nPéntek\, 8.30: FK Kolárovo–TJ Družstevník Okoč-Sokolec\n8.55: Sárosd NKSC–FKM Nové Zámky\n9.20: TJ Družstevník Dolný Štál–Taksony SE\n9.45: Okoč-Sokolec–Sárosd\n10.10: Dolný Štál–FK Kolárovo\n10.35: FKM Nové Zámky–Taksony\n11.00: FK Kolárovo–Sárosd\n11.25: Taksony–Okoč-Sokolec\n11.50: FKM Nové Zámky–Dolný Štál\n12.15: Taksony–FK Kolárovo\n12.40: Dolný Štál–Sárosd\n13.05: Okoč-Sokolec–FKM Nové Zámky\n13.30: Sárosd–Taksony\n13.55: Okoč-Sokolec–Dolný Štál\n14.20: FK Kolárovo–FKM Nové Zámky \nU9 \nSzombat\, 9.00: Gooal academy Kolárovo (pirosak)–FK Szabadka\n9.25: FKM Nové Zámky–Gooal Academy Kolárovo (fehérek)\n9.50: FK Slovan Duslo Šaľa–MŠK Veľký Meder\n10.15: Szabadka–FKM Nové Zámky\n10.40: Šaľa–GA Kolárovo (pirosak)\n11.50: GA Kolárovo (fehérek)–Veľký Meder\n12.15: GA Kolárovo (pirosak)–FKM Nové Zámky\n12.40: Veľký Meder–Szabadka\n13.05: GA Kolárovo (fehérek)–Šaľa\n13.30: Veľký Meder–GA Kolárovo (pirosak)\n13.55: Šaľa–FKM Nové Zámky\n14.20: Szabadka–GA Kolárovo (fehérek)\n14.45: FKM Nové Zámky–Veľký Meder\n15.10: Szabadka–Šaľa\n15.35: GA Kolárovo (pirosak)–GA Kolárovo (fehérek) \nU10 \nSzombat\, 9.00: Gooal academy Kolárovo–TJ Agro Kameničná\n9.25: FK Szabadka–FKM Nové Zámky\n9.50: FK Slovan Duslo Šaľa–MŠK Veľký Meder\n10.15: Kameničná–Szabadka\n10.40: Šaľa–GA Kolárovo\n11.50: FKM Nové Zámky–Veľký Meder\n12.15: GA Kolárovo–Szabadka\n12.40: Veľký Meder–Kameničná\n13.05: FKM Nové Zámky–Šaľa\n13.30: Veľký Meder–GA Kolárovo\n13.55: Šaľa–Szabadka\n14.20: Kameničná–FKM Nové Zámky\n14.45: Szabadka–Veľký Meder\n15.10: Kameničná–Šaľa\n15.35: GA Kolárovo–FKM Nové Zámky \nU11 \nSzombat\, 9.00: FKM Nové Zámky (girls)–Gooal Academy Kolárovo\n9.25: Sárosd NKSC–FKM Nové Zámky\n9.50: TJ Družstevník Čičov–MŠK Veľký Meder\n10.15: GA Kolárovo–Sárosd\n10.40: Čičov–FKM Nové Zámky (girls)\n11.50: FKM Nové Zámky–Veľký Meder\n12.15: FKM Nové Zámky (girls)–Sárosd\n12.40: Veľký Meder–GA Kolárovo\n13.05: FKM Nové Zámky–Čičov\n13.30: Veľký Meder–FKM Nové Zámky (girls)\n13.55: Čičov–Sárosd\n14.20: GA Kolárovo–FKM Nové Zámky\n14.45: Sárosd–Veľký Meder\n15.10: GA Kolárovo–Čičov\n15.35: FKM Nové Zámky (girls)–FKM Nové Zámky
URL:https://szlomasport.sk/esemeny/foci-nagyszigeten/
LOCATION:Nagysziget\, Gúta\, Szlovákia
END:VEVENT
END:VCALENDAR