BEGIN:VCALENDAR
VERSION:2.0
PRODID:-//SZLOMASPORT - ECPv6.5.1.5//NONSGML v1.0//EN
CALSCALE:GREGORIAN
METHOD:PUBLISH
X-WR-CALNAME:SZLOMASPORT
X-ORIGINAL-URL:https://szlomasport.sk
X-WR-CALDESC:Events for SZLOMASPORT
REFRESH-INTERVAL;VALUE=DURATION:PT1H
X-Robots-Tag:noindex
X-PUBLISHED-TTL:PT1H
BEGIN:VTIMEZONE
TZID:Europe/Bratislava
BEGIN:DAYLIGHT
TZOFFSETFROM:+0100
TZOFFSETTO:+0200
TZNAME:CEST
DTSTART:20180325T010000
END:DAYLIGHT
BEGIN:STANDARD
TZOFFSETFROM:+0200
TZOFFSETTO:+0100
TZNAME:CET
DTSTART:20181028T010000
END:STANDARD
END:VTIMEZONE
BEGIN:VEVENT
DTSTART;VALUE=DATE:20180526
DTEND;VALUE=DATE:20180527
DTSTAMP:20260424T064155
CREATED:20180106T135041Z
LAST-MODIFIED:20180524T091355Z
UID:15336-1527292800-1527379199@szlomasport.sk
SUMMARY:Futás Gútán
DESCRIPTION:5. DGS Dögös Sprint jótékonysági futóverseny \nHelyszín: Gúta (a vízimalom környéke) \nKezdés: 8.00 \nRajt: 10.00 \nVersenyszámok: 3 km\, 7 km\, 14 km \nÖsszesen 700 regisztrált versenyzőre számítanak\, de többen is indulhatnak\, csak nyilvántartás nélkül. A bevételt Liliána Čižmárová gyógykezelésére utalja át a szervező helloGuta Polgári Társulás \nHonlapunk a verseny médiapartnere
URL:https://szlomasport.sk/esemeny/futas-gutan/
LOCATION:Gúta\, Gúta\, Szlovákia
ATTACH;FMTTYPE=image/png:https://szlomasport.sk/wp-content/uploads/2018/01/DGS2018.png
END:VEVENT
BEGIN:VEVENT
DTSTART;VALUE=DATE:20180526
DTEND;VALUE=DATE:20180527
DTSTAMP:20260424T064155
CREATED:20180208T090607Z
LAST-MODIFIED:20180208T090607Z
UID:15480-1527292800-1527379199@szlomasport.sk
SUMMARY:Westernlovaglás Kőhídgyarmaton
DESCRIPTION:Westernlovagló Vándorkupa 2018\, harmadik állomás \nHelyszín: Kőhídgyarmata (Kotra-rancs) \nTovábbi részletek később
URL:https://szlomasport.sk/esemeny/westernlovaglas-kohidgyarmaton/
LOCATION:Kőhídgyarmat\, Kőhídgyarmat\, Szlovákia
END:VEVENT
BEGIN:VEVENT
DTSTART;VALUE=DATE:20180526
DTEND;VALUE=DATE:20180527
DTSTAMP:20260424T064155
CREATED:20180511T084026Z
LAST-MODIFIED:20180516T094717Z
UID:15824-1527292800-1527379199@szlomasport.sk
SUMMARY:Gyaloglás Fülekről
DESCRIPTION:A Geopark Novohrad-Nógrád J.Sz.T. és a füleki Nógrádi Turisztikai Információs\n Központ által szervezett\, vezetett túra \nTúravezető: Ádám Sándor természetőr \nTalálkozó: Fülek\, Szabadság tér\, a Városi Művelődési Központ (klub) épülete előtt. \nAz indulás időpontja: 8.00 óra \nÚtvonal: Fülek – Korlát (kőbányák\, bányatavak\, cseviceforrás) -- Várgede (fürdő\, várhegy\, cseviceforrások) -- Ajnácskő -- Fülek \nTáv: 12 km
URL:https://szlomasport.sk/esemeny/gyaloglas-fulekrol-2/
LOCATION:Fülek\, Fülek\, Szlovákia
ATTACH;FMTTYPE=image/jpeg:https://szlomasport.sk/wp-content/uploads/2018/05/tura_maj_hu-Custom.jpg
END:VEVENT
BEGIN:VEVENT
DTSTART;VALUE=DATE:20180526
DTEND;VALUE=DATE:20180527
DTSTAMP:20260424T064155
CREATED:20180525T092130Z
LAST-MODIFIED:20180525T092130Z
UID:15925-1527292800-1527379199@szlomasport.sk
SUMMARY:MMA-harc Kassán
DESCRIPTION:Oktagon 6 gála  \nHelyszín: Kassa (Steel Aréna) \nKezdés: 16.00 \nAz utolsó előtti mérkőzést a vásárúti Boráros Gábor vívja Fernando Gonzalez ellen\, csatájukat este nyolc és kilenc között a JOJ plus tévécsatorna élőben közvetíti
URL:https://szlomasport.sk/esemeny/mma-harc-kassan/
LOCATION:Kassa\, Kassa\, Szlovákia
ATTACH;FMTTYPE=image/png:https://szlomasport.sk/wp-content/uploads/2018/05/OKTagon6_940x648.png
END:VEVENT
END:VCALENDAR