BEGIN:VCALENDAR
VERSION:2.0
PRODID:-//SZLOMASPORT - ECPv6.5.1.5//NONSGML v1.0//EN
CALSCALE:GREGORIAN
METHOD:PUBLISH
X-ORIGINAL-URL:https://szlomasport.sk
X-WR-CALDESC:Events for SZLOMASPORT
REFRESH-INTERVAL;VALUE=DURATION:PT1H
X-Robots-Tag:noindex
X-PUBLISHED-TTL:PT1H
BEGIN:VTIMEZONE
TZID:Europe/Bratislava
BEGIN:DAYLIGHT
TZOFFSETFROM:+0100
TZOFFSETTO:+0200
TZNAME:CEST
DTSTART:20180325T010000
END:DAYLIGHT
BEGIN:STANDARD
TZOFFSETFROM:+0200
TZOFFSETTO:+0100
TZNAME:CET
DTSTART:20181028T010000
END:STANDARD
END:VTIMEZONE
BEGIN:VEVENT
DTSTART;VALUE=DATE:20180519
DTEND;VALUE=DATE:20180520
DTSTAMP:20260424T064321
CREATED:20180120T174609Z
LAST-MODIFIED:20180311T135442Z
UID:15391-1526688000-1526774399@szlomasport.sk
SUMMARY:Futás Lakszakállason
DESCRIPTION:6. Fuss a gazdátlan kutyák megmentéséért jótékonysági futóverseny \nHelyszín: Lakszakállas \nRajt: 11.00 \nVersenytávok: 200 m (ovisok)\, 500 m (alsó tagozatos alapiskolások)\, 1500 m (felső tagozatos alapiskolások)\, 4 km\, 10 km (nők+férfiak) \nHonlapunk a verseny médiapartnere \n 
URL:https://szlomasport.sk/esemeny/futas-lakszakallason/
LOCATION:Lakszakállas\, Lakszakállas\, Szlovákia
ATTACH;FMTTYPE=image/jpeg:https://szlomasport.sk/wp-content/uploads/2018/01/gazdátlankutyaklakszakallas-Custom.jpg
END:VEVENT
BEGIN:VEVENT
DTSTART;VALUE=DATE:20180519
DTEND;VALUE=DATE:20180520
DTSTAMP:20260424T064321
CREATED:20180207T184626Z
LAST-MODIFIED:20180518T075214Z
UID:15468-1526688000-1526774399@szlomasport.sk
SUMMARY:Westernlovaglás Felsőszeliben
DESCRIPTION:Westernlovagló Vándorkupa 2018\, második állomás \nHelyszín: Felsőszeli (a volt kendergyár területén\, házigazda: Nyerges Polgári Társulás) \nKezdés: 10.30 \nVersenyszámok: pónilovasok\, juniorok\, open és profi open kategória\, valamint szeniorok viadala szlalomban és hordókerülésben \nKözben reggeltől gulyásfőzőverseny
URL:https://szlomasport.sk/esemeny/westernlovaglas-felsoszeliben/
LOCATION:Felsőszeli\, Felsőszeli\, Szlovákia
ATTACH;FMTTYPE=image/jpeg:https://szlomasport.sk/wp-content/uploads/2018/02/westernfelsőszelin.jpg
END:VEVENT
BEGIN:VEVENT
DTSTART;VALUE=DATE:20180519
DTEND;VALUE=DATE:20180520
DTSTAMP:20260424T064321
CREATED:20180502T075232Z
LAST-MODIFIED:20180518T075649Z
UID:15789-1526688000-1526774399@szlomasport.sk
SUMMARY:Futás Füleken
DESCRIPTION:XI. terepfutóverseny \nHelyszín: Fülek (versenyközpont: FTC-stadion) \nVersenytávok: 13 km\, 4\,2 km és gyerekeknek rövidebb adagok korosztályok szerint \nMegtehető: futás\, gyaloglás\, nordic walker\, kerékpár \nRajt: 12.00 (gyerekek)\, 14.00 (felnőttek)
URL:https://szlomasport.sk/esemeny/futas-fuleken/
LOCATION:Fülek\, Fülek\, Szlovákia
END:VEVENT
END:VCALENDAR