BEGIN:VCALENDAR
VERSION:2.0
PRODID:-//SZLOMASPORT - ECPv6.5.1.5//NONSGML v1.0//EN
CALSCALE:GREGORIAN
METHOD:PUBLISH
X-WR-CALNAME:SZLOMASPORT
X-ORIGINAL-URL:https://szlomasport.sk
X-WR-CALDESC:Events for SZLOMASPORT
REFRESH-INTERVAL;VALUE=DURATION:PT1H
X-Robots-Tag:noindex
X-PUBLISHED-TTL:PT1H
BEGIN:VTIMEZONE
TZID:Europe/Bratislava
BEGIN:DAYLIGHT
TZOFFSETFROM:+0100
TZOFFSETTO:+0200
TZNAME:CEST
DTSTART:20180325T010000
END:DAYLIGHT
BEGIN:STANDARD
TZOFFSETFROM:+0200
TZOFFSETTO:+0100
TZNAME:CET
DTSTART:20181028T010000
END:STANDARD
END:VTIMEZONE
BEGIN:VEVENT
DTSTART;VALUE=DATE:20180505
DTEND;VALUE=DATE:20180506
DTSTAMP:20260424T064157
CREATED:20180207T183701Z
LAST-MODIFIED:20180503T085806Z
UID:15466-1525478400-1525564799@szlomasport.sk
SUMMARY:Westernlovaglás Gútán
DESCRIPTION:Westernlovagló Vándorkupa 2018\, első állomás \nHelyszín: Gúta (Szekeres-rancs) \nKezdés: 11.00 \nVersenyszámok: szlalom és hordókerülés póni\, junior\, open és profi open kategóriában \nRáadás a végén: krosszmotoros kontra westernlovas akadályverseny
URL:https://szlomasport.sk/esemeny/westernlovaglas-gutan/
LOCATION:Gúta\, Gúta\, Szlovákia
ATTACH;FMTTYPE=image/jpeg:https://szlomasport.sk/wp-content/uploads/2018/02/westernvandorkupaguta.jpg
END:VEVENT
BEGIN:VEVENT
DTSTART;VALUE=DATE:20180505
DTEND;VALUE=DATE:20180506
DTSTAMP:20260424T064157
CREATED:20180404T190110Z
LAST-MODIFIED:20180503T090828Z
UID:15693-1525478400-1525564799@szlomasport.sk
SUMMARY:Fogathajtás Felsőszeliben
DESCRIPTION:A nyolc versenyből álló 2018-as dél-szlovákiai sorozat első állomása \nHelyszín: Felsőszeli (futballpálya) \nKezdés: 11.00 \nVersenyszámok: akadályhajtás (egyes és kettes fogatok)\, vadászhajtás\, polgármesterek fogathajtása
URL:https://szlomasport.sk/esemeny/fogathajtas-felsoszeliben-2/
LOCATION:Felsőszeli\, Felsőszeli\, Szlovákia
END:VEVENT
BEGIN:VEVENT
DTSTART;VALUE=DATE:20180505
DTEND;VALUE=DATE:20180506
DTSTAMP:20260424T064157
CREATED:20180425T085418Z
LAST-MODIFIED:20180503T085035Z
UID:15768-1525478400-1525564799@szlomasport.sk
SUMMARY:Futás Nyékvárkonyon
DESCRIPTION:3. Fuss az egészségért idénynyitó csallóközi futóverseny \nHelyszín: Nyékvárkony (futballpálya: rajt\, cél) és a falu utcái\, valamint környéke \nKezdés: 10.00 \nVersenytávok: 10 km\, 5 km\, 2 km (gyerekek 11--15 évesek)\, 1 km (gyerekek 7--10 évesek)\, 400 m (gyerekek 5--6 évesek)
URL:https://szlomasport.sk/esemeny/futas-nyekvarkonyon/
LOCATION:Nyékvárkony\, Nyékvárkony\, Szlovákia
ATTACH;FMTTYPE=image/jpeg:https://szlomasport.sk/wp-content/uploads/2018/04/nyékvárkonyplakát.jpg
END:VEVENT
END:VCALENDAR