BEGIN:VCALENDAR
VERSION:2.0
PRODID:-//SZLOMASPORT - ECPv6.5.1.5//NONSGML v1.0//EN
CALSCALE:GREGORIAN
METHOD:PUBLISH
X-ORIGINAL-URL:https://szlomasport.sk
X-WR-CALDESC:Events for SZLOMASPORT
REFRESH-INTERVAL;VALUE=DURATION:PT1H
X-Robots-Tag:noindex
X-PUBLISHED-TTL:PT1H
BEGIN:VTIMEZONE
TZID:Europe/Bratislava
BEGIN:DAYLIGHT
TZOFFSETFROM:+0100
TZOFFSETTO:+0200
TZNAME:CEST
DTSTART:20180325T010000
END:DAYLIGHT
BEGIN:STANDARD
TZOFFSETFROM:+0200
TZOFFSETTO:+0100
TZNAME:CET
DTSTART:20181028T010000
END:STANDARD
END:VTIMEZONE
BEGIN:VEVENT
DTSTART;VALUE=DATE:20180407
DTEND;VALUE=DATE:20180409
DTSTAMP:20260424T081837
CREATED:20170925T083823Z
LAST-MODIFIED:20180404T183637Z
UID:14934-1523059200-1523231999@szlomasport.sk
SUMMARY:Fedeles díjugratás Dunatőkésen
DESCRIPTION:Hall Showjumping Tour néven rendezett versenysorozat ötödik állomása \nHelyszín: Dunatőkés (Czajlik-rancs\, fedett lovarda) \nKezdés mindkét napon: 9.00 \nVersenyszámok: Agroreal Cup (80 cm)\, Cavalor Cup (100 cm)\, Cavalor Cup (110 cm)\, Sikkaton Cup (125 cm) \n 
URL:https://szlomasport.sk/esemeny/fedeles-dijugratas-dunatokesen-2/
LOCATION:Dunatőkés\, Dunatőkés\, Szlovákia
ATTACH;FMTTYPE=image/jpeg:https://szlomasport.sk/wp-content/uploads/2017/04/dunatokesfedeles2017-18.jpg
END:VEVENT
END:VCALENDAR